BEGIN:VCALENDAR
VERSION:2.0
PRODID:-//Wantage Baptist Church - ECPv6.15.20//NONSGML v1.0//EN
CALSCALE:GREGORIAN
METHOD:PUBLISH
X-ORIGINAL-URL:https://www.wantagebaptist.org.uk
X-WR-CALDESC:Events for Wantage Baptist Church
REFRESH-INTERVAL;VALUE=DURATION:PT1H
X-Robots-Tag:noindex
X-PUBLISHED-TTL:PT1H
BEGIN:VTIMEZONE
TZID:Europe/London
BEGIN:DAYLIGHT
TZOFFSETFROM:+0000
TZOFFSETTO:+0100
TZNAME:BST
DTSTART:20250330T010000
END:DAYLIGHT
BEGIN:STANDARD
TZOFFSETFROM:+0100
TZOFFSETTO:+0000
TZNAME:GMT
DTSTART:20251026T010000
END:STANDARD
BEGIN:DAYLIGHT
TZOFFSETFROM:+0000
TZOFFSETTO:+0100
TZNAME:BST
DTSTART:20260329T010000
END:DAYLIGHT
BEGIN:STANDARD
TZOFFSETFROM:+0100
TZOFFSETTO:+0000
TZNAME:GMT
DTSTART:20261025T010000
END:STANDARD
BEGIN:DAYLIGHT
TZOFFSETFROM:+0000
TZOFFSETTO:+0100
TZNAME:BST
DTSTART:20270328T010000
END:DAYLIGHT
BEGIN:STANDARD
TZOFFSETFROM:+0100
TZOFFSETTO:+0000
TZNAME:GMT
DTSTART:20271031T010000
END:STANDARD
END:VTIMEZONE
BEGIN:VEVENT
DTSTART;TZID=Europe/London:20260424T130000
DTEND;TZID=Europe/London:20260424T160000
DTSTAMP:20260422T180543
CREATED:20260415T083634Z
LAST-MODIFIED:20260415T083634Z
UID:10004713-1777035600-1777046400@www.wantagebaptist.org.uk
SUMMARY:Just Friends
DESCRIPTION:Just Friends – a time to chat with friends\, both new and old.
URL:https://www.wantagebaptist.org.uk/event/just-friends/2026-04-24/
LOCATION:The King’s Centre\, King's Walk\, Wantage
END:VEVENT
BEGIN:VEVENT
DTSTART;TZID=Europe/London:20260501T130000
DTEND;TZID=Europe/London:20260501T160000
DTSTAMP:20260422T180543
CREATED:20260415T083634Z
LAST-MODIFIED:20260415T083634Z
UID:10004714-1777640400-1777651200@www.wantagebaptist.org.uk
SUMMARY:Just Friends
DESCRIPTION:Just Friends – a time to chat with friends\, both new and old.
URL:https://www.wantagebaptist.org.uk/event/just-friends/2026-05-01/
LOCATION:The King’s Centre\, King's Walk\, Wantage
END:VEVENT
BEGIN:VEVENT
DTSTART;TZID=Europe/London:20260508T130000
DTEND;TZID=Europe/London:20260508T160000
DTSTAMP:20260422T180543
CREATED:20260415T083634Z
LAST-MODIFIED:20260415T083634Z
UID:10004715-1778245200-1778256000@www.wantagebaptist.org.uk
SUMMARY:Just Friends
DESCRIPTION:Just Friends – a time to chat with friends\, both new and old.
URL:https://www.wantagebaptist.org.uk/event/just-friends/2026-05-08/
LOCATION:The King’s Centre\, King's Walk\, Wantage
END:VEVENT
BEGIN:VEVENT
DTSTART;TZID=Europe/London:20260515T130000
DTEND;TZID=Europe/London:20260515T160000
DTSTAMP:20260422T180543
CREATED:20260415T083634Z
LAST-MODIFIED:20260415T083634Z
UID:10004716-1778850000-1778860800@www.wantagebaptist.org.uk
SUMMARY:Just Friends
DESCRIPTION:Just Friends – a time to chat with friends\, both new and old.
URL:https://www.wantagebaptist.org.uk/event/just-friends/2026-05-15/
LOCATION:The King’s Centre\, King's Walk\, Wantage
END:VEVENT
BEGIN:VEVENT
DTSTART;TZID=Europe/London:20260522T130000
DTEND;TZID=Europe/London:20260522T160000
DTSTAMP:20260422T180543
CREATED:20260415T083634Z
LAST-MODIFIED:20260415T083634Z
UID:10004717-1779454800-1779465600@www.wantagebaptist.org.uk
SUMMARY:Just Friends
DESCRIPTION:Just Friends – a time to chat with friends\, both new and old.
URL:https://www.wantagebaptist.org.uk/event/just-friends/2026-05-22/
LOCATION:The King’s Centre\, King's Walk\, Wantage
END:VEVENT
BEGIN:VEVENT
DTSTART;TZID=Europe/London:20260529T130000
DTEND;TZID=Europe/London:20260529T160000
DTSTAMP:20260422T180543
CREATED:20260415T083634Z
LAST-MODIFIED:20260415T083634Z
UID:10004718-1780059600-1780070400@www.wantagebaptist.org.uk
SUMMARY:Just Friends
DESCRIPTION:Just Friends – a time to chat with friends\, both new and old.
URL:https://www.wantagebaptist.org.uk/event/just-friends/2026-05-29/
LOCATION:The King’s Centre\, King's Walk\, Wantage
END:VEVENT
BEGIN:VEVENT
DTSTART;TZID=Europe/London:20260605T130000
DTEND;TZID=Europe/London:20260605T160000
DTSTAMP:20260422T180543
CREATED:20260415T083634Z
LAST-MODIFIED:20260415T083634Z
UID:10004719-1780664400-1780675200@www.wantagebaptist.org.uk
SUMMARY:Just Friends
DESCRIPTION:Just Friends – a time to chat with friends\, both new and old.
URL:https://www.wantagebaptist.org.uk/event/just-friends/2026-06-05/
LOCATION:The King’s Centre\, King's Walk\, Wantage
END:VEVENT
BEGIN:VEVENT
DTSTART;TZID=Europe/London:20260612T130000
DTEND;TZID=Europe/London:20260612T160000
DTSTAMP:20260422T180543
CREATED:20260415T083634Z
LAST-MODIFIED:20260415T083634Z
UID:10004720-1781269200-1781280000@www.wantagebaptist.org.uk
SUMMARY:Just Friends
DESCRIPTION:Just Friends – a time to chat with friends\, both new and old.
URL:https://www.wantagebaptist.org.uk/event/just-friends/2026-06-12/
LOCATION:The King’s Centre\, King's Walk\, Wantage
END:VEVENT
BEGIN:VEVENT
DTSTART;TZID=Europe/London:20260619T130000
DTEND;TZID=Europe/London:20260619T160000
DTSTAMP:20260422T180543
CREATED:20260415T083634Z
LAST-MODIFIED:20260415T083634Z
UID:10004721-1781874000-1781884800@www.wantagebaptist.org.uk
SUMMARY:Just Friends
DESCRIPTION:Just Friends – a time to chat with friends\, both new and old.
URL:https://www.wantagebaptist.org.uk/event/just-friends/2026-06-19/
LOCATION:The King’s Centre\, King's Walk\, Wantage
END:VEVENT
BEGIN:VEVENT
DTSTART;TZID=Europe/London:20260626T130000
DTEND;TZID=Europe/London:20260626T160000
DTSTAMP:20260422T180543
CREATED:20260415T083634Z
LAST-MODIFIED:20260415T083634Z
UID:10004722-1782478800-1782489600@www.wantagebaptist.org.uk
SUMMARY:Just Friends
DESCRIPTION:Just Friends – a time to chat with friends\, both new and old.
URL:https://www.wantagebaptist.org.uk/event/just-friends/2026-06-26/
LOCATION:The King’s Centre\, King's Walk\, Wantage
END:VEVENT
BEGIN:VEVENT
DTSTART;TZID=Europe/London:20260703T130000
DTEND;TZID=Europe/London:20260703T160000
DTSTAMP:20260422T180543
CREATED:20260415T083634Z
LAST-MODIFIED:20260415T083634Z
UID:10004723-1783083600-1783094400@www.wantagebaptist.org.uk
SUMMARY:Just Friends
DESCRIPTION:Just Friends – a time to chat with friends\, both new and old.
URL:https://www.wantagebaptist.org.uk/event/just-friends/2026-07-03/
LOCATION:The King’s Centre\, King's Walk\, Wantage
END:VEVENT
BEGIN:VEVENT
DTSTART;TZID=Europe/London:20260710T130000
DTEND;TZID=Europe/London:20260710T160000
DTSTAMP:20260422T180543
CREATED:20260415T083634Z
LAST-MODIFIED:20260415T083634Z
UID:10004724-1783688400-1783699200@www.wantagebaptist.org.uk
SUMMARY:Just Friends
DESCRIPTION:Just Friends – a time to chat with friends\, both new and old.
URL:https://www.wantagebaptist.org.uk/event/just-friends/2026-07-10/
LOCATION:The King’s Centre\, King's Walk\, Wantage
END:VEVENT
BEGIN:VEVENT
DTSTART;TZID=Europe/London:20260717T130000
DTEND;TZID=Europe/London:20260717T160000
DTSTAMP:20260422T180543
CREATED:20260415T083634Z
LAST-MODIFIED:20260415T083634Z
UID:10004725-1784293200-1784304000@www.wantagebaptist.org.uk
SUMMARY:Just Friends
DESCRIPTION:Just Friends – a time to chat with friends\, both new and old.
URL:https://www.wantagebaptist.org.uk/event/just-friends/2026-07-17/
LOCATION:The King’s Centre\, King's Walk\, Wantage
END:VEVENT
BEGIN:VEVENT
DTSTART;TZID=Europe/London:20260724T130000
DTEND;TZID=Europe/London:20260724T160000
DTSTAMP:20260422T180543
CREATED:20260415T083634Z
LAST-MODIFIED:20260415T083634Z
UID:10004726-1784898000-1784908800@www.wantagebaptist.org.uk
SUMMARY:Just Friends
DESCRIPTION:Just Friends – a time to chat with friends\, both new and old.
URL:https://www.wantagebaptist.org.uk/event/just-friends/2026-07-24/
LOCATION:The King’s Centre\, King's Walk\, Wantage
END:VEVENT
BEGIN:VEVENT
DTSTART;TZID=Europe/London:20260731T130000
DTEND;TZID=Europe/London:20260731T160000
DTSTAMP:20260422T180543
CREATED:20260415T083634Z
LAST-MODIFIED:20260415T083634Z
UID:10004727-1785502800-1785513600@www.wantagebaptist.org.uk
SUMMARY:Just Friends
DESCRIPTION:Just Friends – a time to chat with friends\, both new and old.
URL:https://www.wantagebaptist.org.uk/event/just-friends/2026-07-31/
LOCATION:The King’s Centre\, King's Walk\, Wantage
END:VEVENT
BEGIN:VEVENT
DTSTART;TZID=Europe/London:20260807T130000
DTEND;TZID=Europe/London:20260807T160000
DTSTAMP:20260422T180543
CREATED:20260415T083634Z
LAST-MODIFIED:20260415T083634Z
UID:10004728-1786107600-1786118400@www.wantagebaptist.org.uk
SUMMARY:Just Friends
DESCRIPTION:Just Friends – a time to chat with friends\, both new and old.
URL:https://www.wantagebaptist.org.uk/event/just-friends/2026-08-07/
LOCATION:The King’s Centre\, King's Walk\, Wantage
END:VEVENT
BEGIN:VEVENT
DTSTART;TZID=Europe/London:20260814T130000
DTEND;TZID=Europe/London:20260814T160000
DTSTAMP:20260422T180543
CREATED:20260415T083634Z
LAST-MODIFIED:20260415T083634Z
UID:10004729-1786712400-1786723200@www.wantagebaptist.org.uk
SUMMARY:Just Friends
DESCRIPTION:Just Friends – a time to chat with friends\, both new and old.
URL:https://www.wantagebaptist.org.uk/event/just-friends/2026-08-14/
LOCATION:The King’s Centre\, King's Walk\, Wantage
END:VEVENT
BEGIN:VEVENT
DTSTART;TZID=Europe/London:20260821T130000
DTEND;TZID=Europe/London:20260821T160000
DTSTAMP:20260422T180543
CREATED:20260415T083634Z
LAST-MODIFIED:20260415T083634Z
UID:10004730-1787317200-1787328000@www.wantagebaptist.org.uk
SUMMARY:Just Friends
DESCRIPTION:Just Friends – a time to chat with friends\, both new and old.
URL:https://www.wantagebaptist.org.uk/event/just-friends/2026-08-21/
LOCATION:The King’s Centre\, King's Walk\, Wantage
END:VEVENT
BEGIN:VEVENT
DTSTART;TZID=Europe/London:20260828T130000
DTEND;TZID=Europe/London:20260828T160000
DTSTAMP:20260422T180543
CREATED:20260415T083634Z
LAST-MODIFIED:20260415T083634Z
UID:10004731-1787922000-1787932800@www.wantagebaptist.org.uk
SUMMARY:Just Friends
DESCRIPTION:Just Friends – a time to chat with friends\, both new and old.
URL:https://www.wantagebaptist.org.uk/event/just-friends/2026-08-28/
LOCATION:The King’s Centre\, King's Walk\, Wantage
END:VEVENT
BEGIN:VEVENT
DTSTART;TZID=Europe/London:20260904T130000
DTEND;TZID=Europe/London:20260904T160000
DTSTAMP:20260422T180543
CREATED:20260415T083634Z
LAST-MODIFIED:20260415T083634Z
UID:10004732-1788526800-1788537600@www.wantagebaptist.org.uk
SUMMARY:Just Friends
DESCRIPTION:Just Friends – a time to chat with friends\, both new and old.
URL:https://www.wantagebaptist.org.uk/event/just-friends/2026-09-04/
LOCATION:The King’s Centre\, King's Walk\, Wantage
END:VEVENT
BEGIN:VEVENT
DTSTART;TZID=Europe/London:20260911T130000
DTEND;TZID=Europe/London:20260911T160000
DTSTAMP:20260422T180543
CREATED:20260415T083634Z
LAST-MODIFIED:20260415T083634Z
UID:10004733-1789131600-1789142400@www.wantagebaptist.org.uk
SUMMARY:Just Friends
DESCRIPTION:Just Friends – a time to chat with friends\, both new and old.
URL:https://www.wantagebaptist.org.uk/event/just-friends/2026-09-11/
LOCATION:The King’s Centre\, King's Walk\, Wantage
END:VEVENT
BEGIN:VEVENT
DTSTART;TZID=Europe/London:20260918T130000
DTEND;TZID=Europe/London:20260918T160000
DTSTAMP:20260422T180543
CREATED:20260415T083634Z
LAST-MODIFIED:20260415T083634Z
UID:10004734-1789736400-1789747200@www.wantagebaptist.org.uk
SUMMARY:Just Friends
DESCRIPTION:Just Friends – a time to chat with friends\, both new and old.
URL:https://www.wantagebaptist.org.uk/event/just-friends/2026-09-18/
LOCATION:The King’s Centre\, King's Walk\, Wantage
END:VEVENT
BEGIN:VEVENT
DTSTART;TZID=Europe/London:20260925T130000
DTEND;TZID=Europe/London:20260925T160000
DTSTAMP:20260422T180543
CREATED:20260415T083634Z
LAST-MODIFIED:20260415T083634Z
UID:10004735-1790341200-1790352000@www.wantagebaptist.org.uk
SUMMARY:Just Friends
DESCRIPTION:Just Friends – a time to chat with friends\, both new and old.
URL:https://www.wantagebaptist.org.uk/event/just-friends/2026-09-25/
LOCATION:The King’s Centre\, King's Walk\, Wantage
END:VEVENT
BEGIN:VEVENT
DTSTART;TZID=Europe/London:20261002T130000
DTEND;TZID=Europe/London:20261002T160000
DTSTAMP:20260422T180543
CREATED:20260415T083634Z
LAST-MODIFIED:20260415T083634Z
UID:10004736-1790946000-1790956800@www.wantagebaptist.org.uk
SUMMARY:Just Friends
DESCRIPTION:Just Friends – a time to chat with friends\, both new and old.
URL:https://www.wantagebaptist.org.uk/event/just-friends/2026-10-02/
LOCATION:The King’s Centre\, King's Walk\, Wantage
END:VEVENT
BEGIN:VEVENT
DTSTART;TZID=Europe/London:20261009T130000
DTEND;TZID=Europe/London:20261009T160000
DTSTAMP:20260422T180543
CREATED:20260415T083634Z
LAST-MODIFIED:20260415T083634Z
UID:10004737-1791550800-1791561600@www.wantagebaptist.org.uk
SUMMARY:Just Friends
DESCRIPTION:Just Friends – a time to chat with friends\, both new and old.
URL:https://www.wantagebaptist.org.uk/event/just-friends/2026-10-09/
LOCATION:The King’s Centre\, King's Walk\, Wantage
END:VEVENT
BEGIN:VEVENT
DTSTART;TZID=Europe/London:20261016T130000
DTEND;TZID=Europe/London:20261016T160000
DTSTAMP:20260422T180543
CREATED:20260415T083634Z
LAST-MODIFIED:20260415T083634Z
UID:10004738-1792155600-1792166400@www.wantagebaptist.org.uk
SUMMARY:Just Friends
DESCRIPTION:Just Friends – a time to chat with friends\, both new and old.
URL:https://www.wantagebaptist.org.uk/event/just-friends/2026-10-16/
LOCATION:The King’s Centre\, King's Walk\, Wantage
END:VEVENT
BEGIN:VEVENT
DTSTART;TZID=Europe/London:20261023T130000
DTEND;TZID=Europe/London:20261023T160000
DTSTAMP:20260422T180543
CREATED:20260415T083634Z
LAST-MODIFIED:20260415T083634Z
UID:10004739-1792760400-1792771200@www.wantagebaptist.org.uk
SUMMARY:Just Friends
DESCRIPTION:Just Friends – a time to chat with friends\, both new and old.
URL:https://www.wantagebaptist.org.uk/event/just-friends/2026-10-23/
LOCATION:The King’s Centre\, King's Walk\, Wantage
END:VEVENT
BEGIN:VEVENT
DTSTART;TZID=Europe/London:20261030T130000
DTEND;TZID=Europe/London:20261030T160000
DTSTAMP:20260422T180543
CREATED:20260415T083634Z
LAST-MODIFIED:20260415T083634Z
UID:10004740-1793365200-1793376000@www.wantagebaptist.org.uk
SUMMARY:Just Friends
DESCRIPTION:Just Friends – a time to chat with friends\, both new and old.
URL:https://www.wantagebaptist.org.uk/event/just-friends/2026-10-30/
LOCATION:The King’s Centre\, King's Walk\, Wantage
END:VEVENT
BEGIN:VEVENT
DTSTART;TZID=Europe/London:20261106T130000
DTEND;TZID=Europe/London:20261106T160000
DTSTAMP:20260422T180543
CREATED:20260415T083634Z
LAST-MODIFIED:20260415T083634Z
UID:10004741-1793970000-1793980800@www.wantagebaptist.org.uk
SUMMARY:Just Friends
DESCRIPTION:Just Friends – a time to chat with friends\, both new and old.
URL:https://www.wantagebaptist.org.uk/event/just-friends/2026-11-06/
LOCATION:The King’s Centre\, King's Walk\, Wantage
END:VEVENT
BEGIN:VEVENT
DTSTART;TZID=Europe/London:20261113T130000
DTEND;TZID=Europe/London:20261113T160000
DTSTAMP:20260422T180543
CREATED:20260415T083634Z
LAST-MODIFIED:20260415T083634Z
UID:10004742-1794574800-1794585600@www.wantagebaptist.org.uk
SUMMARY:Just Friends
DESCRIPTION:Just Friends – a time to chat with friends\, both new and old.
URL:https://www.wantagebaptist.org.uk/event/just-friends/2026-11-13/
LOCATION:The King’s Centre\, King's Walk\, Wantage
END:VEVENT
END:VCALENDAR