BEGIN:VCALENDAR
VERSION:2.0
PRODID:-//Wantage Baptist Church - ECPv6.15.20//NONSGML v1.0//EN
CALSCALE:GREGORIAN
METHOD:PUBLISH
X-WR-CALNAME:Wantage Baptist Church
X-ORIGINAL-URL:https://www.wantagebaptist.org.uk
X-WR-CALDESC:Events for Wantage Baptist Church
REFRESH-INTERVAL;VALUE=DURATION:PT1H
X-Robots-Tag:noindex
X-PUBLISHED-TTL:PT1H
BEGIN:VTIMEZONE
TZID:Europe/London
BEGIN:DAYLIGHT
TZOFFSETFROM:+0000
TZOFFSETTO:+0100
TZNAME:BST
DTSTART:20250330T010000
END:DAYLIGHT
BEGIN:STANDARD
TZOFFSETFROM:+0100
TZOFFSETTO:+0000
TZNAME:GMT
DTSTART:20251026T010000
END:STANDARD
BEGIN:DAYLIGHT
TZOFFSETFROM:+0000
TZOFFSETTO:+0100
TZNAME:BST
DTSTART:20260329T010000
END:DAYLIGHT
BEGIN:STANDARD
TZOFFSETFROM:+0100
TZOFFSETTO:+0000
TZNAME:GMT
DTSTART:20261025T010000
END:STANDARD
BEGIN:DAYLIGHT
TZOFFSETFROM:+0000
TZOFFSETTO:+0100
TZNAME:BST
DTSTART:20270328T010000
END:DAYLIGHT
BEGIN:STANDARD
TZOFFSETFROM:+0100
TZOFFSETTO:+0000
TZNAME:GMT
DTSTART:20271031T010000
END:STANDARD
BEGIN:DAYLIGHT
TZOFFSETFROM:+0000
TZOFFSETTO:+0100
TZNAME:BST
DTSTART:20280326T010000
END:DAYLIGHT
BEGIN:STANDARD
TZOFFSETFROM:+0100
TZOFFSETTO:+0000
TZNAME:GMT
DTSTART:20281029T010000
END:STANDARD
END:VTIMEZONE
BEGIN:VEVENT
DTSTART;TZID=Europe/London:20261021T193000
DTEND;TZID=Europe/London:20261021T213000
DTSTAMP:20260424T232625
CREATED:20260412T133234Z
LAST-MODIFIED:20260416T073439Z
UID:10004454-1792611000-1792618200@www.wantagebaptist.org.uk
SUMMARY:Life Group (Evening Home Groups)
DESCRIPTION:An opportunity to study God’s word in a small setting.
URL:https://www.wantagebaptist.org.uk/event/life-group-evening/2026-10-21/
LOCATION:Wantage Baptist Church\, 6 Mill Street\, Wantage\, OX12 9AQ
END:VEVENT
BEGIN:VEVENT
DTSTART;TZID=Europe/London:20261028T193000
DTEND;TZID=Europe/London:20261028T213000
DTSTAMP:20260424T232625
CREATED:20260412T133234Z
LAST-MODIFIED:20260416T073439Z
UID:10004455-1793215800-1793223000@www.wantagebaptist.org.uk
SUMMARY:Life Group (Evening Home Groups)
DESCRIPTION:An opportunity to study God’s word in a small setting.
URL:https://www.wantagebaptist.org.uk/event/life-group-evening/2026-10-28/
LOCATION:Wantage Baptist Church\, 6 Mill Street\, Wantage\, OX12 9AQ
END:VEVENT
BEGIN:VEVENT
DTSTART;TZID=Europe/London:20261111T193000
DTEND;TZID=Europe/London:20261111T213000
DTSTAMP:20260424T232625
CREATED:20260412T133234Z
LAST-MODIFIED:20260416T073439Z
UID:10004456-1794425400-1794432600@www.wantagebaptist.org.uk
SUMMARY:Life Group (Evening Home Groups)
DESCRIPTION:An opportunity to study God’s word in a small setting.
URL:https://www.wantagebaptist.org.uk/event/life-group-evening/2026-11-11/
LOCATION:Wantage Baptist Church\, 6 Mill Street\, Wantage\, OX12 9AQ
END:VEVENT
BEGIN:VEVENT
DTSTART;TZID=Europe/London:20261118T193000
DTEND;TZID=Europe/London:20261118T213000
DTSTAMP:20260424T232625
CREATED:20260412T133234Z
LAST-MODIFIED:20260416T073439Z
UID:10004457-1795030200-1795037400@www.wantagebaptist.org.uk
SUMMARY:Life Group (Evening Home Groups)
DESCRIPTION:An opportunity to study God’s word in a small setting.
URL:https://www.wantagebaptist.org.uk/event/life-group-evening/2026-11-18/
LOCATION:Wantage Baptist Church\, 6 Mill Street\, Wantage\, OX12 9AQ
END:VEVENT
BEGIN:VEVENT
DTSTART;TZID=Europe/London:20270113T193000
DTEND;TZID=Europe/London:20270113T213000
DTSTAMP:20260424T232625
CREATED:20260412T133234Z
LAST-MODIFIED:20260416T073439Z
UID:10004463-1799868600-1799875800@www.wantagebaptist.org.uk
SUMMARY:Life Group (Evening Home Groups)
DESCRIPTION:An opportunity to study God’s word in a small setting.
URL:https://www.wantagebaptist.org.uk/event/life-group-evening/2027-01-13/
LOCATION:Wantage Baptist Church\, 6 Mill Street\, Wantage\, OX12 9AQ
END:VEVENT
BEGIN:VEVENT
DTSTART;TZID=Europe/London:20270120T193000
DTEND;TZID=Europe/London:20270120T213000
DTSTAMP:20260424T232625
CREATED:20260412T133234Z
LAST-MODIFIED:20260416T073439Z
UID:10004464-1800473400-1800480600@www.wantagebaptist.org.uk
SUMMARY:Life Group (Evening Home Groups)
DESCRIPTION:An opportunity to study God’s word in a small setting.
URL:https://www.wantagebaptist.org.uk/event/life-group-evening/2027-01-20/
LOCATION:Wantage Baptist Church\, 6 Mill Street\, Wantage\, OX12 9AQ
END:VEVENT
BEGIN:VEVENT
DTSTART;TZID=Europe/London:20270127T193000
DTEND;TZID=Europe/London:20270127T213000
DTSTAMP:20260424T232625
CREATED:20260412T133234Z
LAST-MODIFIED:20260416T073439Z
UID:10004465-1801078200-1801085400@www.wantagebaptist.org.uk
SUMMARY:Life Group (Evening Home Groups)
DESCRIPTION:An opportunity to study God’s word in a small setting.
URL:https://www.wantagebaptist.org.uk/event/life-group-evening/2027-01-27/
LOCATION:Wantage Baptist Church\, 6 Mill Street\, Wantage\, OX12 9AQ
END:VEVENT
BEGIN:VEVENT
DTSTART;TZID=Europe/London:20270210T193000
DTEND;TZID=Europe/London:20270210T213000
DTSTAMP:20260424T232625
CREATED:20260412T133234Z
LAST-MODIFIED:20260416T073439Z
UID:10004466-1802287800-1802295000@www.wantagebaptist.org.uk
SUMMARY:Life Group (Evening Home Groups)
DESCRIPTION:An opportunity to study God’s word in a small setting.
URL:https://www.wantagebaptist.org.uk/event/life-group-evening/2027-02-10/
LOCATION:Wantage Baptist Church\, 6 Mill Street\, Wantage\, OX12 9AQ
END:VEVENT
BEGIN:VEVENT
DTSTART;TZID=Europe/London:20270217T193000
DTEND;TZID=Europe/London:20270217T213000
DTSTAMP:20260424T232625
CREATED:20260412T133234Z
LAST-MODIFIED:20260416T073439Z
UID:10004467-1802892600-1802899800@www.wantagebaptist.org.uk
SUMMARY:Life Group (Evening Home Groups)
DESCRIPTION:An opportunity to study God’s word in a small setting.
URL:https://www.wantagebaptist.org.uk/event/life-group-evening/2027-02-17/
LOCATION:Wantage Baptist Church\, 6 Mill Street\, Wantage\, OX12 9AQ
END:VEVENT
BEGIN:VEVENT
DTSTART;TZID=Europe/London:20270224T193000
DTEND;TZID=Europe/London:20270224T213000
DTSTAMP:20260424T232625
CREATED:20260412T133234Z
LAST-MODIFIED:20260416T073439Z
UID:10004468-1803497400-1803504600@www.wantagebaptist.org.uk
SUMMARY:Life Group (Evening Home Groups)
DESCRIPTION:An opportunity to study God’s word in a small setting.
URL:https://www.wantagebaptist.org.uk/event/life-group-evening/2027-02-24/
LOCATION:Wantage Baptist Church\, 6 Mill Street\, Wantage\, OX12 9AQ
END:VEVENT
BEGIN:VEVENT
DTSTART;TZID=Europe/London:20270310T193000
DTEND;TZID=Europe/London:20270310T213000
DTSTAMP:20260424T232625
CREATED:20260412T133234Z
LAST-MODIFIED:20260416T073439Z
UID:10004469-1804707000-1804714200@www.wantagebaptist.org.uk
SUMMARY:Life Group (Evening Home Groups)
DESCRIPTION:An opportunity to study God’s word in a small setting.
URL:https://www.wantagebaptist.org.uk/event/life-group-evening/2027-03-10/
LOCATION:Wantage Baptist Church\, 6 Mill Street\, Wantage\, OX12 9AQ
END:VEVENT
BEGIN:VEVENT
DTSTART;TZID=Europe/London:20270317T193000
DTEND;TZID=Europe/London:20270317T213000
DTSTAMP:20260424T232625
CREATED:20260412T133234Z
LAST-MODIFIED:20260416T073439Z
UID:10004470-1805311800-1805319000@www.wantagebaptist.org.uk
SUMMARY:Life Group (Evening Home Groups)
DESCRIPTION:An opportunity to study God’s word in a small setting.
URL:https://www.wantagebaptist.org.uk/event/life-group-evening/2027-03-17/
LOCATION:Wantage Baptist Church\, 6 Mill Street\, Wantage\, OX12 9AQ
END:VEVENT
BEGIN:VEVENT
DTSTART;TZID=Europe/London:20270324T193000
DTEND;TZID=Europe/London:20270324T213000
DTSTAMP:20260424T232625
CREATED:20260412T133234Z
LAST-MODIFIED:20260416T073439Z
UID:10004471-1805916600-1805923800@www.wantagebaptist.org.uk
SUMMARY:Life Group (Evening Home Groups)
DESCRIPTION:An opportunity to study God’s word in a small setting.
URL:https://www.wantagebaptist.org.uk/event/life-group-evening/2027-03-24/
LOCATION:Wantage Baptist Church\, 6 Mill Street\, Wantage\, OX12 9AQ
END:VEVENT
BEGIN:VEVENT
DTSTART;TZID=Europe/London:20270331T193000
DTEND;TZID=Europe/London:20270331T213000
DTSTAMP:20260424T232625
CREATED:20260412T133234Z
LAST-MODIFIED:20260416T073439Z
UID:10004472-1806521400-1806528600@www.wantagebaptist.org.uk
SUMMARY:Life Group (Evening Home Groups)
DESCRIPTION:An opportunity to study God’s word in a small setting.
URL:https://www.wantagebaptist.org.uk/event/life-group-evening/2027-03-31/
LOCATION:Wantage Baptist Church\, 6 Mill Street\, Wantage\, OX12 9AQ
END:VEVENT
BEGIN:VEVENT
DTSTART;TZID=Europe/London:20270414T193000
DTEND;TZID=Europe/London:20270414T213000
DTSTAMP:20260424T232625
CREATED:20260412T133234Z
LAST-MODIFIED:20260416T073439Z
UID:10004473-1807731000-1807738200@www.wantagebaptist.org.uk
SUMMARY:Life Group (Evening Home Groups)
DESCRIPTION:An opportunity to study God’s word in a small setting.
URL:https://www.wantagebaptist.org.uk/event/life-group-evening/2027-04-14/
LOCATION:Wantage Baptist Church\, 6 Mill Street\, Wantage\, OX12 9AQ
END:VEVENT
BEGIN:VEVENT
DTSTART;TZID=Europe/London:20270421T193000
DTEND;TZID=Europe/London:20270421T213000
DTSTAMP:20260424T232625
CREATED:20260412T133234Z
LAST-MODIFIED:20260416T073439Z
UID:10004474-1808335800-1808343000@www.wantagebaptist.org.uk
SUMMARY:Life Group (Evening Home Groups)
DESCRIPTION:An opportunity to study God’s word in a small setting.
URL:https://www.wantagebaptist.org.uk/event/life-group-evening/2027-04-21/
LOCATION:Wantage Baptist Church\, 6 Mill Street\, Wantage\, OX12 9AQ
END:VEVENT
BEGIN:VEVENT
DTSTART;TZID=Europe/London:20270428T193000
DTEND;TZID=Europe/London:20270428T213000
DTSTAMP:20260424T232625
CREATED:20260412T133234Z
LAST-MODIFIED:20260416T073439Z
UID:10004475-1808940600-1808947800@www.wantagebaptist.org.uk
SUMMARY:Life Group (Evening Home Groups)
DESCRIPTION:An opportunity to study God’s word in a small setting.
URL:https://www.wantagebaptist.org.uk/event/life-group-evening/2027-04-28/
LOCATION:Wantage Baptist Church\, 6 Mill Street\, Wantage\, OX12 9AQ
END:VEVENT
BEGIN:VEVENT
DTSTART;TZID=Europe/London:20270512T193000
DTEND;TZID=Europe/London:20270512T213000
DTSTAMP:20260424T232625
CREATED:20260412T133234Z
LAST-MODIFIED:20260416T073439Z
UID:10004476-1810150200-1810157400@www.wantagebaptist.org.uk
SUMMARY:Life Group (Evening Home Groups)
DESCRIPTION:An opportunity to study God’s word in a small setting.
URL:https://www.wantagebaptist.org.uk/event/life-group-evening/2027-05-12/
LOCATION:Wantage Baptist Church\, 6 Mill Street\, Wantage\, OX12 9AQ
END:VEVENT
BEGIN:VEVENT
DTSTART;TZID=Europe/London:20270519T193000
DTEND;TZID=Europe/London:20270519T213000
DTSTAMP:20260424T232625
CREATED:20260412T133234Z
LAST-MODIFIED:20260416T073439Z
UID:10004477-1810755000-1810762200@www.wantagebaptist.org.uk
SUMMARY:Life Group (Evening Home Groups)
DESCRIPTION:An opportunity to study God’s word in a small setting.
URL:https://www.wantagebaptist.org.uk/event/life-group-evening/2027-05-19/
LOCATION:Wantage Baptist Church\, 6 Mill Street\, Wantage\, OX12 9AQ
END:VEVENT
BEGIN:VEVENT
DTSTART;TZID=Europe/London:20270526T193000
DTEND;TZID=Europe/London:20270526T213000
DTSTAMP:20260424T232626
CREATED:20260412T133234Z
LAST-MODIFIED:20260416T073439Z
UID:10004478-1811359800-1811367000@www.wantagebaptist.org.uk
SUMMARY:Life Group (Evening Home Groups)
DESCRIPTION:An opportunity to study God’s word in a small setting.
URL:https://www.wantagebaptist.org.uk/event/life-group-evening/2027-05-26/
LOCATION:Wantage Baptist Church\, 6 Mill Street\, Wantage\, OX12 9AQ
END:VEVENT
BEGIN:VEVENT
DTSTART;TZID=Europe/London:20270609T193000
DTEND;TZID=Europe/London:20270609T213000
DTSTAMP:20260424T232626
CREATED:20260412T133234Z
LAST-MODIFIED:20260416T073439Z
UID:10004479-1812569400-1812576600@www.wantagebaptist.org.uk
SUMMARY:Life Group (Evening Home Groups)
DESCRIPTION:An opportunity to study God’s word in a small setting.
URL:https://www.wantagebaptist.org.uk/event/life-group-evening/2027-06-09/
LOCATION:Wantage Baptist Church\, 6 Mill Street\, Wantage\, OX12 9AQ
END:VEVENT
BEGIN:VEVENT
DTSTART;TZID=Europe/London:20270616T193000
DTEND;TZID=Europe/London:20270616T213000
DTSTAMP:20260424T232626
CREATED:20260412T133234Z
LAST-MODIFIED:20260416T073439Z
UID:10004480-1813174200-1813181400@www.wantagebaptist.org.uk
SUMMARY:Life Group (Evening Home Groups)
DESCRIPTION:An opportunity to study God’s word in a small setting.
URL:https://www.wantagebaptist.org.uk/event/life-group-evening/2027-06-16/
LOCATION:Wantage Baptist Church\, 6 Mill Street\, Wantage\, OX12 9AQ
END:VEVENT
BEGIN:VEVENT
DTSTART;TZID=Europe/London:20270623T193000
DTEND;TZID=Europe/London:20270623T213000
DTSTAMP:20260424T232626
CREATED:20260412T133234Z
LAST-MODIFIED:20260416T073439Z
UID:10004481-1813779000-1813786200@www.wantagebaptist.org.uk
SUMMARY:Life Group (Evening Home Groups)
DESCRIPTION:An opportunity to study God’s word in a small setting.
URL:https://www.wantagebaptist.org.uk/event/life-group-evening/2027-06-23/
LOCATION:Wantage Baptist Church\, 6 Mill Street\, Wantage\, OX12 9AQ
END:VEVENT
BEGIN:VEVENT
DTSTART;TZID=Europe/London:20270630T193000
DTEND;TZID=Europe/London:20270630T213000
DTSTAMP:20260424T232626
CREATED:20260412T133234Z
LAST-MODIFIED:20260416T073439Z
UID:10004482-1814383800-1814391000@www.wantagebaptist.org.uk
SUMMARY:Life Group (Evening Home Groups)
DESCRIPTION:An opportunity to study God’s word in a small setting.
URL:https://www.wantagebaptist.org.uk/event/life-group-evening/2027-06-30/
LOCATION:Wantage Baptist Church\, 6 Mill Street\, Wantage\, OX12 9AQ
END:VEVENT
BEGIN:VEVENT
DTSTART;TZID=Europe/London:20270714T193000
DTEND;TZID=Europe/London:20270714T213000
DTSTAMP:20260424T232626
CREATED:20260412T133234Z
LAST-MODIFIED:20260416T073439Z
UID:10004483-1815593400-1815600600@www.wantagebaptist.org.uk
SUMMARY:Life Group (Evening Home Groups)
DESCRIPTION:An opportunity to study God’s word in a small setting.
URL:https://www.wantagebaptist.org.uk/event/life-group-evening/2027-07-14/
LOCATION:Wantage Baptist Church\, 6 Mill Street\, Wantage\, OX12 9AQ
END:VEVENT
BEGIN:VEVENT
DTSTART;TZID=Europe/London:20270721T193000
DTEND;TZID=Europe/London:20270721T213000
DTSTAMP:20260424T232626
CREATED:20260412T133234Z
LAST-MODIFIED:20260416T073439Z
UID:10004484-1816198200-1816205400@www.wantagebaptist.org.uk
SUMMARY:Life Group (Evening Home Groups)
DESCRIPTION:An opportunity to study God’s word in a small setting.
URL:https://www.wantagebaptist.org.uk/event/life-group-evening/2027-07-21/
LOCATION:Wantage Baptist Church\, 6 Mill Street\, Wantage\, OX12 9AQ
END:VEVENT
BEGIN:VEVENT
DTSTART;TZID=Europe/London:20270728T193000
DTEND;TZID=Europe/London:20270728T213000
DTSTAMP:20260424T232626
CREATED:20260412T133234Z
LAST-MODIFIED:20260416T073439Z
UID:10004485-1816803000-1816810200@www.wantagebaptist.org.uk
SUMMARY:Life Group (Evening Home Groups)
DESCRIPTION:An opportunity to study God’s word in a small setting.
URL:https://www.wantagebaptist.org.uk/event/life-group-evening/2027-07-28/
LOCATION:Wantage Baptist Church\, 6 Mill Street\, Wantage\, OX12 9AQ
END:VEVENT
BEGIN:VEVENT
DTSTART;TZID=Europe/London:20270811T193000
DTEND;TZID=Europe/London:20270811T213000
DTSTAMP:20260424T232626
CREATED:20260412T133234Z
LAST-MODIFIED:20260416T073439Z
UID:10004486-1818012600-1818019800@www.wantagebaptist.org.uk
SUMMARY:Life Group (Evening Home Groups)
DESCRIPTION:An opportunity to study God’s word in a small setting.
URL:https://www.wantagebaptist.org.uk/event/life-group-evening/2027-08-11/
LOCATION:Wantage Baptist Church\, 6 Mill Street\, Wantage\, OX12 9AQ
END:VEVENT
BEGIN:VEVENT
DTSTART;TZID=Europe/London:20270818T193000
DTEND;TZID=Europe/London:20270818T213000
DTSTAMP:20260424T232626
CREATED:20260412T133234Z
LAST-MODIFIED:20260416T073439Z
UID:10004487-1818617400-1818624600@www.wantagebaptist.org.uk
SUMMARY:Life Group (Evening Home Groups)
DESCRIPTION:An opportunity to study God’s word in a small setting.
URL:https://www.wantagebaptist.org.uk/event/life-group-evening/2027-08-18/
LOCATION:Wantage Baptist Church\, 6 Mill Street\, Wantage\, OX12 9AQ
END:VEVENT
BEGIN:VEVENT
DTSTART;TZID=Europe/London:20270825T193000
DTEND;TZID=Europe/London:20270825T213000
DTSTAMP:20260424T232626
CREATED:20260412T133234Z
LAST-MODIFIED:20260416T073439Z
UID:10004488-1819222200-1819229400@www.wantagebaptist.org.uk
SUMMARY:Life Group (Evening Home Groups)
DESCRIPTION:An opportunity to study God’s word in a small setting.
URL:https://www.wantagebaptist.org.uk/event/life-group-evening/2027-08-25/
LOCATION:Wantage Baptist Church\, 6 Mill Street\, Wantage\, OX12 9AQ
END:VEVENT
END:VCALENDAR