BEGIN:VCALENDAR
VERSION:2.0
PRODID:-//Wantage Baptist Church - ECPv6.15.20//NONSGML v1.0//EN
CALSCALE:GREGORIAN
METHOD:PUBLISH
X-ORIGINAL-URL:https://www.wantagebaptist.org.uk
X-WR-CALDESC:Events for Wantage Baptist Church
REFRESH-INTERVAL;VALUE=DURATION:PT1H
X-Robots-Tag:noindex
X-PUBLISHED-TTL:PT1H
BEGIN:VTIMEZONE
TZID:Europe/London
BEGIN:DAYLIGHT
TZOFFSETFROM:+0000
TZOFFSETTO:+0100
TZNAME:BST
DTSTART:20260329T010000
END:DAYLIGHT
BEGIN:STANDARD
TZOFFSETFROM:+0100
TZOFFSETTO:+0000
TZNAME:GMT
DTSTART:20261025T010000
END:STANDARD
BEGIN:DAYLIGHT
TZOFFSETFROM:+0000
TZOFFSETTO:+0100
TZNAME:BST
DTSTART:20270328T010000
END:DAYLIGHT
BEGIN:STANDARD
TZOFFSETFROM:+0100
TZOFFSETTO:+0000
TZNAME:GMT
DTSTART:20271031T010000
END:STANDARD
BEGIN:DAYLIGHT
TZOFFSETFROM:+0000
TZOFFSETTO:+0100
TZNAME:BST
DTSTART:20280326T010000
END:DAYLIGHT
BEGIN:STANDARD
TZOFFSETFROM:+0100
TZOFFSETTO:+0000
TZNAME:GMT
DTSTART:20281029T010000
END:STANDARD
END:VTIMEZONE
BEGIN:VEVENT
DTSTART;TZID=Europe/London:20270325T093000
DTEND;TZID=Europe/London:20270325T113000
DTSTAMP:20260423T032743
CREATED:20251129T113403Z
LAST-MODIFIED:20251129T113407Z
UID:10001393-1805967000-1805974200@www.wantagebaptist.org.uk
SUMMARY:Baby and Toddler Group
DESCRIPTION:A warm\, welcoming group for parents\, guardians or child-minders. \nWe ask for a small donation each week\, which helps keep our play equipment up to date.
URL:https://www.wantagebaptist.org.uk/event/baby-and-toddler-group-2/2027-03-25/
LOCATION:Wantage Baptist Church\, 6 Mill Street\, Wantage\, OX12 9AQ
ORGANIZER;CN="Wantage Baptist Church":MAILTO:events@wantagebaptist.org.uk
END:VEVENT
BEGIN:VEVENT
DTSTART;TZID=Europe/London:20270401T093000
DTEND;TZID=Europe/London:20270401T113000
DTSTAMP:20260423T032743
CREATED:20251129T113403Z
LAST-MODIFIED:20251129T113407Z
UID:10001394-1806571800-1806579000@www.wantagebaptist.org.uk
SUMMARY:Baby and Toddler Group
DESCRIPTION:A warm\, welcoming group for parents\, guardians or child-minders. \nWe ask for a small donation each week\, which helps keep our play equipment up to date.
URL:https://www.wantagebaptist.org.uk/event/baby-and-toddler-group-2/2027-04-01/
LOCATION:Wantage Baptist Church\, 6 Mill Street\, Wantage\, OX12 9AQ
ORGANIZER;CN="Wantage Baptist Church":MAILTO:events@wantagebaptist.org.uk
END:VEVENT
BEGIN:VEVENT
DTSTART;TZID=Europe/London:20270408T093000
DTEND;TZID=Europe/London:20270408T113000
DTSTAMP:20260423T032743
CREATED:20251129T113403Z
LAST-MODIFIED:20251129T113407Z
UID:10001395-1807176600-1807183800@www.wantagebaptist.org.uk
SUMMARY:Baby and Toddler Group
DESCRIPTION:A warm\, welcoming group for parents\, guardians or child-minders. \nWe ask for a small donation each week\, which helps keep our play equipment up to date.
URL:https://www.wantagebaptist.org.uk/event/baby-and-toddler-group-2/2027-04-08/
LOCATION:Wantage Baptist Church\, 6 Mill Street\, Wantage\, OX12 9AQ
ORGANIZER;CN="Wantage Baptist Church":MAILTO:events@wantagebaptist.org.uk
END:VEVENT
BEGIN:VEVENT
DTSTART;TZID=Europe/London:20270415T093000
DTEND;TZID=Europe/London:20270415T113000
DTSTAMP:20260423T032743
CREATED:20251129T113403Z
LAST-MODIFIED:20251129T113407Z
UID:10001396-1807781400-1807788600@www.wantagebaptist.org.uk
SUMMARY:Baby and Toddler Group
DESCRIPTION:A warm\, welcoming group for parents\, guardians or child-minders. \nWe ask for a small donation each week\, which helps keep our play equipment up to date.
URL:https://www.wantagebaptist.org.uk/event/baby-and-toddler-group-2/2027-04-15/
LOCATION:Wantage Baptist Church\, 6 Mill Street\, Wantage\, OX12 9AQ
ORGANIZER;CN="Wantage Baptist Church":MAILTO:events@wantagebaptist.org.uk
END:VEVENT
BEGIN:VEVENT
DTSTART;TZID=Europe/London:20270422T093000
DTEND;TZID=Europe/London:20270422T113000
DTSTAMP:20260423T032743
CREATED:20251129T113403Z
LAST-MODIFIED:20251129T113407Z
UID:10001397-1808386200-1808393400@www.wantagebaptist.org.uk
SUMMARY:Baby and Toddler Group
DESCRIPTION:A warm\, welcoming group for parents\, guardians or child-minders. \nWe ask for a small donation each week\, which helps keep our play equipment up to date.
URL:https://www.wantagebaptist.org.uk/event/baby-and-toddler-group-2/2027-04-22/
LOCATION:Wantage Baptist Church\, 6 Mill Street\, Wantage\, OX12 9AQ
ORGANIZER;CN="Wantage Baptist Church":MAILTO:events@wantagebaptist.org.uk
END:VEVENT
BEGIN:VEVENT
DTSTART;TZID=Europe/London:20270429T093000
DTEND;TZID=Europe/London:20270429T113000
DTSTAMP:20260423T032743
CREATED:20251129T113403Z
LAST-MODIFIED:20251129T113407Z
UID:10001398-1808991000-1808998200@www.wantagebaptist.org.uk
SUMMARY:Baby and Toddler Group
DESCRIPTION:A warm\, welcoming group for parents\, guardians or child-minders. \nWe ask for a small donation each week\, which helps keep our play equipment up to date.
URL:https://www.wantagebaptist.org.uk/event/baby-and-toddler-group-2/2027-04-29/
LOCATION:Wantage Baptist Church\, 6 Mill Street\, Wantage\, OX12 9AQ
ORGANIZER;CN="Wantage Baptist Church":MAILTO:events@wantagebaptist.org.uk
END:VEVENT
BEGIN:VEVENT
DTSTART;TZID=Europe/London:20270506T093000
DTEND;TZID=Europe/London:20270506T113000
DTSTAMP:20260423T032743
CREATED:20251129T113403Z
LAST-MODIFIED:20251129T113407Z
UID:10001399-1809595800-1809603000@www.wantagebaptist.org.uk
SUMMARY:Baby and Toddler Group
DESCRIPTION:A warm\, welcoming group for parents\, guardians or child-minders. \nWe ask for a small donation each week\, which helps keep our play equipment up to date.
URL:https://www.wantagebaptist.org.uk/event/baby-and-toddler-group-2/2027-05-06/
LOCATION:Wantage Baptist Church\, 6 Mill Street\, Wantage\, OX12 9AQ
ORGANIZER;CN="Wantage Baptist Church":MAILTO:events@wantagebaptist.org.uk
END:VEVENT
BEGIN:VEVENT
DTSTART;TZID=Europe/London:20270513T093000
DTEND;TZID=Europe/London:20270513T113000
DTSTAMP:20260423T032743
CREATED:20251129T113403Z
LAST-MODIFIED:20251129T113407Z
UID:10001400-1810200600-1810207800@www.wantagebaptist.org.uk
SUMMARY:Baby and Toddler Group
DESCRIPTION:A warm\, welcoming group for parents\, guardians or child-minders. \nWe ask for a small donation each week\, which helps keep our play equipment up to date.
URL:https://www.wantagebaptist.org.uk/event/baby-and-toddler-group-2/2027-05-13/
LOCATION:Wantage Baptist Church\, 6 Mill Street\, Wantage\, OX12 9AQ
ORGANIZER;CN="Wantage Baptist Church":MAILTO:events@wantagebaptist.org.uk
END:VEVENT
BEGIN:VEVENT
DTSTART;TZID=Europe/London:20270520T093000
DTEND;TZID=Europe/London:20270520T113000
DTSTAMP:20260423T032743
CREATED:20251129T113403Z
LAST-MODIFIED:20251129T113407Z
UID:10001401-1810805400-1810812600@www.wantagebaptist.org.uk
SUMMARY:Baby and Toddler Group
DESCRIPTION:A warm\, welcoming group for parents\, guardians or child-minders. \nWe ask for a small donation each week\, which helps keep our play equipment up to date.
URL:https://www.wantagebaptist.org.uk/event/baby-and-toddler-group-2/2027-05-20/
LOCATION:Wantage Baptist Church\, 6 Mill Street\, Wantage\, OX12 9AQ
ORGANIZER;CN="Wantage Baptist Church":MAILTO:events@wantagebaptist.org.uk
END:VEVENT
BEGIN:VEVENT
DTSTART;TZID=Europe/London:20270527T093000
DTEND;TZID=Europe/London:20270527T113000
DTSTAMP:20260423T032743
CREATED:20251129T113403Z
LAST-MODIFIED:20251129T113407Z
UID:10001402-1811410200-1811417400@www.wantagebaptist.org.uk
SUMMARY:Baby and Toddler Group
DESCRIPTION:A warm\, welcoming group for parents\, guardians or child-minders. \nWe ask for a small donation each week\, which helps keep our play equipment up to date.
URL:https://www.wantagebaptist.org.uk/event/baby-and-toddler-group-2/2027-05-27/
LOCATION:Wantage Baptist Church\, 6 Mill Street\, Wantage\, OX12 9AQ
ORGANIZER;CN="Wantage Baptist Church":MAILTO:events@wantagebaptist.org.uk
END:VEVENT
BEGIN:VEVENT
DTSTART;TZID=Europe/London:20270603T093000
DTEND;TZID=Europe/London:20270603T113000
DTSTAMP:20260423T032743
CREATED:20251129T113403Z
LAST-MODIFIED:20251129T113407Z
UID:10001403-1812015000-1812022200@www.wantagebaptist.org.uk
SUMMARY:Baby and Toddler Group
DESCRIPTION:A warm\, welcoming group for parents\, guardians or child-minders. \nWe ask for a small donation each week\, which helps keep our play equipment up to date.
URL:https://www.wantagebaptist.org.uk/event/baby-and-toddler-group-2/2027-06-03/
LOCATION:Wantage Baptist Church\, 6 Mill Street\, Wantage\, OX12 9AQ
ORGANIZER;CN="Wantage Baptist Church":MAILTO:events@wantagebaptist.org.uk
END:VEVENT
BEGIN:VEVENT
DTSTART;TZID=Europe/London:20270610T093000
DTEND;TZID=Europe/London:20270610T113000
DTSTAMP:20260423T032743
CREATED:20251129T113403Z
LAST-MODIFIED:20251129T113407Z
UID:10001404-1812619800-1812627000@www.wantagebaptist.org.uk
SUMMARY:Baby and Toddler Group
DESCRIPTION:A warm\, welcoming group for parents\, guardians or child-minders. \nWe ask for a small donation each week\, which helps keep our play equipment up to date.
URL:https://www.wantagebaptist.org.uk/event/baby-and-toddler-group-2/2027-06-10/
LOCATION:Wantage Baptist Church\, 6 Mill Street\, Wantage\, OX12 9AQ
ORGANIZER;CN="Wantage Baptist Church":MAILTO:events@wantagebaptist.org.uk
END:VEVENT
BEGIN:VEVENT
DTSTART;TZID=Europe/London:20270617T093000
DTEND;TZID=Europe/London:20270617T113000
DTSTAMP:20260423T032743
CREATED:20251129T113403Z
LAST-MODIFIED:20251129T113407Z
UID:10001405-1813224600-1813231800@www.wantagebaptist.org.uk
SUMMARY:Baby and Toddler Group
DESCRIPTION:A warm\, welcoming group for parents\, guardians or child-minders. \nWe ask for a small donation each week\, which helps keep our play equipment up to date.
URL:https://www.wantagebaptist.org.uk/event/baby-and-toddler-group-2/2027-06-17/
LOCATION:Wantage Baptist Church\, 6 Mill Street\, Wantage\, OX12 9AQ
ORGANIZER;CN="Wantage Baptist Church":MAILTO:events@wantagebaptist.org.uk
END:VEVENT
BEGIN:VEVENT
DTSTART;TZID=Europe/London:20270624T093000
DTEND;TZID=Europe/London:20270624T113000
DTSTAMP:20260423T032743
CREATED:20251129T113403Z
LAST-MODIFIED:20251129T113407Z
UID:10001406-1813829400-1813836600@www.wantagebaptist.org.uk
SUMMARY:Baby and Toddler Group
DESCRIPTION:A warm\, welcoming group for parents\, guardians or child-minders. \nWe ask for a small donation each week\, which helps keep our play equipment up to date.
URL:https://www.wantagebaptist.org.uk/event/baby-and-toddler-group-2/2027-06-24/
LOCATION:Wantage Baptist Church\, 6 Mill Street\, Wantage\, OX12 9AQ
ORGANIZER;CN="Wantage Baptist Church":MAILTO:events@wantagebaptist.org.uk
END:VEVENT
BEGIN:VEVENT
DTSTART;TZID=Europe/London:20270701T093000
DTEND;TZID=Europe/London:20270701T113000
DTSTAMP:20260423T032743
CREATED:20251129T113403Z
LAST-MODIFIED:20251129T113407Z
UID:10001407-1814434200-1814441400@www.wantagebaptist.org.uk
SUMMARY:Baby and Toddler Group
DESCRIPTION:A warm\, welcoming group for parents\, guardians or child-minders. \nWe ask for a small donation each week\, which helps keep our play equipment up to date.
URL:https://www.wantagebaptist.org.uk/event/baby-and-toddler-group-2/2027-07-01/
LOCATION:Wantage Baptist Church\, 6 Mill Street\, Wantage\, OX12 9AQ
ORGANIZER;CN="Wantage Baptist Church":MAILTO:events@wantagebaptist.org.uk
END:VEVENT
BEGIN:VEVENT
DTSTART;TZID=Europe/London:20270708T093000
DTEND;TZID=Europe/London:20270708T113000
DTSTAMP:20260423T032743
CREATED:20251129T113403Z
LAST-MODIFIED:20251129T113407Z
UID:10001408-1815039000-1815046200@www.wantagebaptist.org.uk
SUMMARY:Baby and Toddler Group
DESCRIPTION:A warm\, welcoming group for parents\, guardians or child-minders. \nWe ask for a small donation each week\, which helps keep our play equipment up to date.
URL:https://www.wantagebaptist.org.uk/event/baby-and-toddler-group-2/2027-07-08/
LOCATION:Wantage Baptist Church\, 6 Mill Street\, Wantage\, OX12 9AQ
ORGANIZER;CN="Wantage Baptist Church":MAILTO:events@wantagebaptist.org.uk
END:VEVENT
BEGIN:VEVENT
DTSTART;TZID=Europe/London:20270715T093000
DTEND;TZID=Europe/London:20270715T113000
DTSTAMP:20260423T032743
CREATED:20251129T113403Z
LAST-MODIFIED:20251129T113407Z
UID:10001409-1815643800-1815651000@www.wantagebaptist.org.uk
SUMMARY:Baby and Toddler Group
DESCRIPTION:A warm\, welcoming group for parents\, guardians or child-minders. \nWe ask for a small donation each week\, which helps keep our play equipment up to date.
URL:https://www.wantagebaptist.org.uk/event/baby-and-toddler-group-2/2027-07-15/
LOCATION:Wantage Baptist Church\, 6 Mill Street\, Wantage\, OX12 9AQ
ORGANIZER;CN="Wantage Baptist Church":MAILTO:events@wantagebaptist.org.uk
END:VEVENT
BEGIN:VEVENT
DTSTART;TZID=Europe/London:20270722T093000
DTEND;TZID=Europe/London:20270722T113000
DTSTAMP:20260423T032743
CREATED:20251129T113403Z
LAST-MODIFIED:20251129T113407Z
UID:10001410-1816248600-1816255800@www.wantagebaptist.org.uk
SUMMARY:Baby and Toddler Group
DESCRIPTION:A warm\, welcoming group for parents\, guardians or child-minders. \nWe ask for a small donation each week\, which helps keep our play equipment up to date.
URL:https://www.wantagebaptist.org.uk/event/baby-and-toddler-group-2/2027-07-22/
LOCATION:Wantage Baptist Church\, 6 Mill Street\, Wantage\, OX12 9AQ
ORGANIZER;CN="Wantage Baptist Church":MAILTO:events@wantagebaptist.org.uk
END:VEVENT
BEGIN:VEVENT
DTSTART;TZID=Europe/London:20270729T093000
DTEND;TZID=Europe/London:20270729T113000
DTSTAMP:20260423T032743
CREATED:20251129T113403Z
LAST-MODIFIED:20251129T113407Z
UID:10001411-1816853400-1816860600@www.wantagebaptist.org.uk
SUMMARY:Baby and Toddler Group
DESCRIPTION:A warm\, welcoming group for parents\, guardians or child-minders. \nWe ask for a small donation each week\, which helps keep our play equipment up to date.
URL:https://www.wantagebaptist.org.uk/event/baby-and-toddler-group-2/2027-07-29/
LOCATION:Wantage Baptist Church\, 6 Mill Street\, Wantage\, OX12 9AQ
ORGANIZER;CN="Wantage Baptist Church":MAILTO:events@wantagebaptist.org.uk
END:VEVENT
BEGIN:VEVENT
DTSTART;TZID=Europe/London:20270805T093000
DTEND;TZID=Europe/London:20270805T113000
DTSTAMP:20260423T032743
CREATED:20251129T113403Z
LAST-MODIFIED:20251129T113407Z
UID:10001412-1817458200-1817465400@www.wantagebaptist.org.uk
SUMMARY:Baby and Toddler Group
DESCRIPTION:A warm\, welcoming group for parents\, guardians or child-minders. \nWe ask for a small donation each week\, which helps keep our play equipment up to date.
URL:https://www.wantagebaptist.org.uk/event/baby-and-toddler-group-2/2027-08-05/
LOCATION:Wantage Baptist Church\, 6 Mill Street\, Wantage\, OX12 9AQ
ORGANIZER;CN="Wantage Baptist Church":MAILTO:events@wantagebaptist.org.uk
END:VEVENT
BEGIN:VEVENT
DTSTART;TZID=Europe/London:20270812T093000
DTEND;TZID=Europe/London:20270812T113000
DTSTAMP:20260423T032743
CREATED:20251129T113403Z
LAST-MODIFIED:20251129T113407Z
UID:10001413-1818063000-1818070200@www.wantagebaptist.org.uk
SUMMARY:Baby and Toddler Group
DESCRIPTION:A warm\, welcoming group for parents\, guardians or child-minders. \nWe ask for a small donation each week\, which helps keep our play equipment up to date.
URL:https://www.wantagebaptist.org.uk/event/baby-and-toddler-group-2/2027-08-12/
LOCATION:Wantage Baptist Church\, 6 Mill Street\, Wantage\, OX12 9AQ
ORGANIZER;CN="Wantage Baptist Church":MAILTO:events@wantagebaptist.org.uk
END:VEVENT
BEGIN:VEVENT
DTSTART;TZID=Europe/London:20270819T093000
DTEND;TZID=Europe/London:20270819T113000
DTSTAMP:20260423T032743
CREATED:20251129T113403Z
LAST-MODIFIED:20251129T113407Z
UID:10001414-1818667800-1818675000@www.wantagebaptist.org.uk
SUMMARY:Baby and Toddler Group
DESCRIPTION:A warm\, welcoming group for parents\, guardians or child-minders. \nWe ask for a small donation each week\, which helps keep our play equipment up to date.
URL:https://www.wantagebaptist.org.uk/event/baby-and-toddler-group-2/2027-08-19/
LOCATION:Wantage Baptist Church\, 6 Mill Street\, Wantage\, OX12 9AQ
ORGANIZER;CN="Wantage Baptist Church":MAILTO:events@wantagebaptist.org.uk
END:VEVENT
BEGIN:VEVENT
DTSTART;TZID=Europe/London:20270826T093000
DTEND;TZID=Europe/London:20270826T113000
DTSTAMP:20260423T032743
CREATED:20251129T113403Z
LAST-MODIFIED:20251129T113407Z
UID:10001415-1819272600-1819279800@www.wantagebaptist.org.uk
SUMMARY:Baby and Toddler Group
DESCRIPTION:A warm\, welcoming group for parents\, guardians or child-minders. \nWe ask for a small donation each week\, which helps keep our play equipment up to date.
URL:https://www.wantagebaptist.org.uk/event/baby-and-toddler-group-2/2027-08-26/
LOCATION:Wantage Baptist Church\, 6 Mill Street\, Wantage\, OX12 9AQ
ORGANIZER;CN="Wantage Baptist Church":MAILTO:events@wantagebaptist.org.uk
END:VEVENT
BEGIN:VEVENT
DTSTART;TZID=Europe/London:20270902T093000
DTEND;TZID=Europe/London:20270902T113000
DTSTAMP:20260423T032743
CREATED:20251129T113403Z
LAST-MODIFIED:20251129T113407Z
UID:10001416-1819877400-1819884600@www.wantagebaptist.org.uk
SUMMARY:Baby and Toddler Group
DESCRIPTION:A warm\, welcoming group for parents\, guardians or child-minders. \nWe ask for a small donation each week\, which helps keep our play equipment up to date.
URL:https://www.wantagebaptist.org.uk/event/baby-and-toddler-group-2/2027-09-02/
LOCATION:Wantage Baptist Church\, 6 Mill Street\, Wantage\, OX12 9AQ
ORGANIZER;CN="Wantage Baptist Church":MAILTO:events@wantagebaptist.org.uk
END:VEVENT
BEGIN:VEVENT
DTSTART;TZID=Europe/London:20270909T093000
DTEND;TZID=Europe/London:20270909T113000
DTSTAMP:20260423T032743
CREATED:20251129T113403Z
LAST-MODIFIED:20251129T113407Z
UID:10001417-1820482200-1820489400@www.wantagebaptist.org.uk
SUMMARY:Baby and Toddler Group
DESCRIPTION:A warm\, welcoming group for parents\, guardians or child-minders. \nWe ask for a small donation each week\, which helps keep our play equipment up to date.
URL:https://www.wantagebaptist.org.uk/event/baby-and-toddler-group-2/2027-09-09/
LOCATION:Wantage Baptist Church\, 6 Mill Street\, Wantage\, OX12 9AQ
ORGANIZER;CN="Wantage Baptist Church":MAILTO:events@wantagebaptist.org.uk
END:VEVENT
BEGIN:VEVENT
DTSTART;TZID=Europe/London:20270916T093000
DTEND;TZID=Europe/London:20270916T113000
DTSTAMP:20260423T032743
CREATED:20251129T113403Z
LAST-MODIFIED:20251129T113407Z
UID:10001418-1821087000-1821094200@www.wantagebaptist.org.uk
SUMMARY:Baby and Toddler Group
DESCRIPTION:A warm\, welcoming group for parents\, guardians or child-minders. \nWe ask for a small donation each week\, which helps keep our play equipment up to date.
URL:https://www.wantagebaptist.org.uk/event/baby-and-toddler-group-2/2027-09-16/
LOCATION:Wantage Baptist Church\, 6 Mill Street\, Wantage\, OX12 9AQ
ORGANIZER;CN="Wantage Baptist Church":MAILTO:events@wantagebaptist.org.uk
END:VEVENT
BEGIN:VEVENT
DTSTART;TZID=Europe/London:20270923T093000
DTEND;TZID=Europe/London:20270923T113000
DTSTAMP:20260423T032743
CREATED:20251129T113403Z
LAST-MODIFIED:20251129T113407Z
UID:10001419-1821691800-1821699000@www.wantagebaptist.org.uk
SUMMARY:Baby and Toddler Group
DESCRIPTION:A warm\, welcoming group for parents\, guardians or child-minders. \nWe ask for a small donation each week\, which helps keep our play equipment up to date.
URL:https://www.wantagebaptist.org.uk/event/baby-and-toddler-group-2/2027-09-23/
LOCATION:Wantage Baptist Church\, 6 Mill Street\, Wantage\, OX12 9AQ
ORGANIZER;CN="Wantage Baptist Church":MAILTO:events@wantagebaptist.org.uk
END:VEVENT
BEGIN:VEVENT
DTSTART;TZID=Europe/London:20270930T093000
DTEND;TZID=Europe/London:20270930T113000
DTSTAMP:20260423T032743
CREATED:20251129T113403Z
LAST-MODIFIED:20251129T113407Z
UID:10001420-1822296600-1822303800@www.wantagebaptist.org.uk
SUMMARY:Baby and Toddler Group
DESCRIPTION:A warm\, welcoming group for parents\, guardians or child-minders. \nWe ask for a small donation each week\, which helps keep our play equipment up to date.
URL:https://www.wantagebaptist.org.uk/event/baby-and-toddler-group-2/2027-09-30/
LOCATION:Wantage Baptist Church\, 6 Mill Street\, Wantage\, OX12 9AQ
ORGANIZER;CN="Wantage Baptist Church":MAILTO:events@wantagebaptist.org.uk
END:VEVENT
BEGIN:VEVENT
DTSTART;TZID=Europe/London:20271007T093000
DTEND;TZID=Europe/London:20271007T113000
DTSTAMP:20260423T032743
CREATED:20251129T113403Z
LAST-MODIFIED:20251129T113407Z
UID:10001421-1822901400-1822908600@www.wantagebaptist.org.uk
SUMMARY:Baby and Toddler Group
DESCRIPTION:A warm\, welcoming group for parents\, guardians or child-minders. \nWe ask for a small donation each week\, which helps keep our play equipment up to date.
URL:https://www.wantagebaptist.org.uk/event/baby-and-toddler-group-2/2027-10-07/
LOCATION:Wantage Baptist Church\, 6 Mill Street\, Wantage\, OX12 9AQ
ORGANIZER;CN="Wantage Baptist Church":MAILTO:events@wantagebaptist.org.uk
END:VEVENT
BEGIN:VEVENT
DTSTART;TZID=Europe/London:20271014T093000
DTEND;TZID=Europe/London:20271014T113000
DTSTAMP:20260423T032743
CREATED:20251129T113403Z
LAST-MODIFIED:20251129T113407Z
UID:10001422-1823506200-1823513400@www.wantagebaptist.org.uk
SUMMARY:Baby and Toddler Group
DESCRIPTION:A warm\, welcoming group for parents\, guardians or child-minders. \nWe ask for a small donation each week\, which helps keep our play equipment up to date.
URL:https://www.wantagebaptist.org.uk/event/baby-and-toddler-group-2/2027-10-14/
LOCATION:Wantage Baptist Church\, 6 Mill Street\, Wantage\, OX12 9AQ
ORGANIZER;CN="Wantage Baptist Church":MAILTO:events@wantagebaptist.org.uk
END:VEVENT
END:VCALENDAR