BEGIN:VCALENDAR
VERSION:2.0
PRODID:-//Wantage Baptist Church - ECPv6.15.20//NONSGML v1.0//EN
CALSCALE:GREGORIAN
METHOD:PUBLISH
X-ORIGINAL-URL:https://www.wantagebaptist.org.uk
X-WR-CALDESC:Events for Wantage Baptist Church
REFRESH-INTERVAL;VALUE=DURATION:PT1H
X-Robots-Tag:noindex
X-PUBLISHED-TTL:PT1H
BEGIN:VTIMEZONE
TZID:Europe/London
BEGIN:DAYLIGHT
TZOFFSETFROM:+0000
TZOFFSETTO:+0100
TZNAME:BST
DTSTART:20260329T010000
END:DAYLIGHT
BEGIN:STANDARD
TZOFFSETFROM:+0100
TZOFFSETTO:+0000
TZNAME:GMT
DTSTART:20261025T010000
END:STANDARD
BEGIN:DAYLIGHT
TZOFFSETFROM:+0000
TZOFFSETTO:+0100
TZNAME:BST
DTSTART:20270328T010000
END:DAYLIGHT
BEGIN:STANDARD
TZOFFSETFROM:+0100
TZOFFSETTO:+0000
TZNAME:GMT
DTSTART:20271031T010000
END:STANDARD
BEGIN:DAYLIGHT
TZOFFSETFROM:+0000
TZOFFSETTO:+0100
TZNAME:BST
DTSTART:20280326T010000
END:DAYLIGHT
BEGIN:STANDARD
TZOFFSETFROM:+0100
TZOFFSETTO:+0000
TZNAME:GMT
DTSTART:20281029T010000
END:STANDARD
BEGIN:DAYLIGHT
TZOFFSETFROM:+0000
TZOFFSETTO:+0100
TZNAME:BST
DTSTART:20290325T010000
END:DAYLIGHT
BEGIN:STANDARD
TZOFFSETFROM:+0100
TZOFFSETTO:+0000
TZNAME:GMT
DTSTART:20291028T010000
END:STANDARD
END:VTIMEZONE
BEGIN:VEVENT
DTSTART;TZID=Europe/London:20270916T093000
DTEND;TZID=Europe/London:20270916T113000
DTSTAMP:20260425T015925
CREATED:20251129T113403Z
LAST-MODIFIED:20251129T113407Z
UID:10001418-1821087000-1821094200@www.wantagebaptist.org.uk
SUMMARY:Baby and Toddler Group
DESCRIPTION:A warm\, welcoming group for parents\, guardians or child-minders. \nWe ask for a small donation each week\, which helps keep our play equipment up to date.
URL:https://www.wantagebaptist.org.uk/event/baby-and-toddler-group-2/2027-09-16/
LOCATION:Wantage Baptist Church\, 6 Mill Street\, Wantage\, OX12 9AQ
ORGANIZER;CN="Wantage Baptist Church":MAILTO:events@wantagebaptist.org.uk
END:VEVENT
BEGIN:VEVENT
DTSTART;TZID=Europe/London:20270923T093000
DTEND;TZID=Europe/London:20270923T113000
DTSTAMP:20260425T015925
CREATED:20251129T113403Z
LAST-MODIFIED:20251129T113407Z
UID:10001419-1821691800-1821699000@www.wantagebaptist.org.uk
SUMMARY:Baby and Toddler Group
DESCRIPTION:A warm\, welcoming group for parents\, guardians or child-minders. \nWe ask for a small donation each week\, which helps keep our play equipment up to date.
URL:https://www.wantagebaptist.org.uk/event/baby-and-toddler-group-2/2027-09-23/
LOCATION:Wantage Baptist Church\, 6 Mill Street\, Wantage\, OX12 9AQ
ORGANIZER;CN="Wantage Baptist Church":MAILTO:events@wantagebaptist.org.uk
END:VEVENT
BEGIN:VEVENT
DTSTART;TZID=Europe/London:20270930T093000
DTEND;TZID=Europe/London:20270930T113000
DTSTAMP:20260425T015925
CREATED:20251129T113403Z
LAST-MODIFIED:20251129T113407Z
UID:10001420-1822296600-1822303800@www.wantagebaptist.org.uk
SUMMARY:Baby and Toddler Group
DESCRIPTION:A warm\, welcoming group for parents\, guardians or child-minders. \nWe ask for a small donation each week\, which helps keep our play equipment up to date.
URL:https://www.wantagebaptist.org.uk/event/baby-and-toddler-group-2/2027-09-30/
LOCATION:Wantage Baptist Church\, 6 Mill Street\, Wantage\, OX12 9AQ
ORGANIZER;CN="Wantage Baptist Church":MAILTO:events@wantagebaptist.org.uk
END:VEVENT
BEGIN:VEVENT
DTSTART;TZID=Europe/London:20271007T093000
DTEND;TZID=Europe/London:20271007T113000
DTSTAMP:20260425T015925
CREATED:20251129T113403Z
LAST-MODIFIED:20251129T113407Z
UID:10001421-1822901400-1822908600@www.wantagebaptist.org.uk
SUMMARY:Baby and Toddler Group
DESCRIPTION:A warm\, welcoming group for parents\, guardians or child-minders. \nWe ask for a small donation each week\, which helps keep our play equipment up to date.
URL:https://www.wantagebaptist.org.uk/event/baby-and-toddler-group-2/2027-10-07/
LOCATION:Wantage Baptist Church\, 6 Mill Street\, Wantage\, OX12 9AQ
ORGANIZER;CN="Wantage Baptist Church":MAILTO:events@wantagebaptist.org.uk
END:VEVENT
BEGIN:VEVENT
DTSTART;TZID=Europe/London:20271014T093000
DTEND;TZID=Europe/London:20271014T113000
DTSTAMP:20260425T015925
CREATED:20251129T113403Z
LAST-MODIFIED:20251129T113407Z
UID:10001422-1823506200-1823513400@www.wantagebaptist.org.uk
SUMMARY:Baby and Toddler Group
DESCRIPTION:A warm\, welcoming group for parents\, guardians or child-minders. \nWe ask for a small donation each week\, which helps keep our play equipment up to date.
URL:https://www.wantagebaptist.org.uk/event/baby-and-toddler-group-2/2027-10-14/
LOCATION:Wantage Baptist Church\, 6 Mill Street\, Wantage\, OX12 9AQ
ORGANIZER;CN="Wantage Baptist Church":MAILTO:events@wantagebaptist.org.uk
END:VEVENT
BEGIN:VEVENT
DTSTART;TZID=Europe/London:20271021T093000
DTEND;TZID=Europe/London:20271021T113000
DTSTAMP:20260425T015925
CREATED:20251129T113403Z
LAST-MODIFIED:20251129T113407Z
UID:10001423-1824111000-1824118200@www.wantagebaptist.org.uk
SUMMARY:Baby and Toddler Group
DESCRIPTION:A warm\, welcoming group for parents\, guardians or child-minders. \nWe ask for a small donation each week\, which helps keep our play equipment up to date.
URL:https://www.wantagebaptist.org.uk/event/baby-and-toddler-group-2/2027-10-21/
LOCATION:Wantage Baptist Church\, 6 Mill Street\, Wantage\, OX12 9AQ
ORGANIZER;CN="Wantage Baptist Church":MAILTO:events@wantagebaptist.org.uk
END:VEVENT
BEGIN:VEVENT
DTSTART;TZID=Europe/London:20271028T093000
DTEND;TZID=Europe/London:20271028T113000
DTSTAMP:20260425T015925
CREATED:20251129T113403Z
LAST-MODIFIED:20251129T113407Z
UID:10001424-1824715800-1824723000@www.wantagebaptist.org.uk
SUMMARY:Baby and Toddler Group
DESCRIPTION:A warm\, welcoming group for parents\, guardians or child-minders. \nWe ask for a small donation each week\, which helps keep our play equipment up to date.
URL:https://www.wantagebaptist.org.uk/event/baby-and-toddler-group-2/2027-10-28/
LOCATION:Wantage Baptist Church\, 6 Mill Street\, Wantage\, OX12 9AQ
ORGANIZER;CN="Wantage Baptist Church":MAILTO:events@wantagebaptist.org.uk
END:VEVENT
BEGIN:VEVENT
DTSTART;TZID=Europe/London:20271104T093000
DTEND;TZID=Europe/London:20271104T113000
DTSTAMP:20260425T015925
CREATED:20251129T113403Z
LAST-MODIFIED:20251129T113407Z
UID:10001425-1825320600-1825327800@www.wantagebaptist.org.uk
SUMMARY:Baby and Toddler Group
DESCRIPTION:A warm\, welcoming group for parents\, guardians or child-minders. \nWe ask for a small donation each week\, which helps keep our play equipment up to date.
URL:https://www.wantagebaptist.org.uk/event/baby-and-toddler-group-2/2027-11-04/
LOCATION:Wantage Baptist Church\, 6 Mill Street\, Wantage\, OX12 9AQ
ORGANIZER;CN="Wantage Baptist Church":MAILTO:events@wantagebaptist.org.uk
END:VEVENT
BEGIN:VEVENT
DTSTART;TZID=Europe/London:20271111T093000
DTEND;TZID=Europe/London:20271111T113000
DTSTAMP:20260425T015925
CREATED:20251129T113403Z
LAST-MODIFIED:20251129T113407Z
UID:10001426-1825925400-1825932600@www.wantagebaptist.org.uk
SUMMARY:Baby and Toddler Group
DESCRIPTION:A warm\, welcoming group for parents\, guardians or child-minders. \nWe ask for a small donation each week\, which helps keep our play equipment up to date.
URL:https://www.wantagebaptist.org.uk/event/baby-and-toddler-group-2/2027-11-11/
LOCATION:Wantage Baptist Church\, 6 Mill Street\, Wantage\, OX12 9AQ
ORGANIZER;CN="Wantage Baptist Church":MAILTO:events@wantagebaptist.org.uk
END:VEVENT
BEGIN:VEVENT
DTSTART;TZID=Europe/London:20271118T093000
DTEND;TZID=Europe/London:20271118T113000
DTSTAMP:20260425T015926
CREATED:20251129T113403Z
LAST-MODIFIED:20251129T113407Z
UID:10001427-1826530200-1826537400@www.wantagebaptist.org.uk
SUMMARY:Baby and Toddler Group
DESCRIPTION:A warm\, welcoming group for parents\, guardians or child-minders. \nWe ask for a small donation each week\, which helps keep our play equipment up to date.
URL:https://www.wantagebaptist.org.uk/event/baby-and-toddler-group-2/2027-11-18/
LOCATION:Wantage Baptist Church\, 6 Mill Street\, Wantage\, OX12 9AQ
ORGANIZER;CN="Wantage Baptist Church":MAILTO:events@wantagebaptist.org.uk
END:VEVENT
BEGIN:VEVENT
DTSTART;TZID=Europe/London:20271125T093000
DTEND;TZID=Europe/London:20271125T113000
DTSTAMP:20260425T015926
CREATED:20251129T113403Z
LAST-MODIFIED:20251129T113407Z
UID:10001428-1827135000-1827142200@www.wantagebaptist.org.uk
SUMMARY:Baby and Toddler Group
DESCRIPTION:A warm\, welcoming group for parents\, guardians or child-minders. \nWe ask for a small donation each week\, which helps keep our play equipment up to date.
URL:https://www.wantagebaptist.org.uk/event/baby-and-toddler-group-2/2027-11-25/
LOCATION:Wantage Baptist Church\, 6 Mill Street\, Wantage\, OX12 9AQ
ORGANIZER;CN="Wantage Baptist Church":MAILTO:events@wantagebaptist.org.uk
END:VEVENT
BEGIN:VEVENT
DTSTART;TZID=Europe/London:20271202T093000
DTEND;TZID=Europe/London:20271202T113000
DTSTAMP:20260425T015926
CREATED:20251129T113403Z
LAST-MODIFIED:20251129T113407Z
UID:10001429-1827739800-1827747000@www.wantagebaptist.org.uk
SUMMARY:Baby and Toddler Group
DESCRIPTION:A warm\, welcoming group for parents\, guardians or child-minders. \nWe ask for a small donation each week\, which helps keep our play equipment up to date.
URL:https://www.wantagebaptist.org.uk/event/baby-and-toddler-group-2/2027-12-02/
LOCATION:Wantage Baptist Church\, 6 Mill Street\, Wantage\, OX12 9AQ
ORGANIZER;CN="Wantage Baptist Church":MAILTO:events@wantagebaptist.org.uk
END:VEVENT
BEGIN:VEVENT
DTSTART;TZID=Europe/London:20271209T093000
DTEND;TZID=Europe/London:20271209T113000
DTSTAMP:20260425T015926
CREATED:20251129T113403Z
LAST-MODIFIED:20251129T113407Z
UID:10001430-1828344600-1828351800@www.wantagebaptist.org.uk
SUMMARY:Baby and Toddler Group
DESCRIPTION:A warm\, welcoming group for parents\, guardians or child-minders. \nWe ask for a small donation each week\, which helps keep our play equipment up to date.
URL:https://www.wantagebaptist.org.uk/event/baby-and-toddler-group-2/2027-12-09/
LOCATION:Wantage Baptist Church\, 6 Mill Street\, Wantage\, OX12 9AQ
ORGANIZER;CN="Wantage Baptist Church":MAILTO:events@wantagebaptist.org.uk
END:VEVENT
BEGIN:VEVENT
DTSTART;TZID=Europe/London:20271216T093000
DTEND;TZID=Europe/London:20271216T113000
DTSTAMP:20260425T015926
CREATED:20251129T113403Z
LAST-MODIFIED:20251129T113407Z
UID:10001431-1828949400-1828956600@www.wantagebaptist.org.uk
SUMMARY:Baby and Toddler Group
DESCRIPTION:A warm\, welcoming group for parents\, guardians or child-minders. \nWe ask for a small donation each week\, which helps keep our play equipment up to date.
URL:https://www.wantagebaptist.org.uk/event/baby-and-toddler-group-2/2027-12-16/
LOCATION:Wantage Baptist Church\, 6 Mill Street\, Wantage\, OX12 9AQ
ORGANIZER;CN="Wantage Baptist Church":MAILTO:events@wantagebaptist.org.uk
END:VEVENT
BEGIN:VEVENT
DTSTART;TZID=Europe/London:20271223T093000
DTEND;TZID=Europe/London:20271223T113000
DTSTAMP:20260425T015926
CREATED:20251129T113403Z
LAST-MODIFIED:20251129T113407Z
UID:10001432-1829554200-1829561400@www.wantagebaptist.org.uk
SUMMARY:Baby and Toddler Group
DESCRIPTION:A warm\, welcoming group for parents\, guardians or child-minders. \nWe ask for a small donation each week\, which helps keep our play equipment up to date.
URL:https://www.wantagebaptist.org.uk/event/baby-and-toddler-group-2/2027-12-23/
LOCATION:Wantage Baptist Church\, 6 Mill Street\, Wantage\, OX12 9AQ
ORGANIZER;CN="Wantage Baptist Church":MAILTO:events@wantagebaptist.org.uk
END:VEVENT
BEGIN:VEVENT
DTSTART;TZID=Europe/London:20271230T093000
DTEND;TZID=Europe/London:20271230T113000
DTSTAMP:20260425T015926
CREATED:20251129T113403Z
LAST-MODIFIED:20251129T113407Z
UID:10001433-1830159000-1830166200@www.wantagebaptist.org.uk
SUMMARY:Baby and Toddler Group
DESCRIPTION:A warm\, welcoming group for parents\, guardians or child-minders. \nWe ask for a small donation each week\, which helps keep our play equipment up to date.
URL:https://www.wantagebaptist.org.uk/event/baby-and-toddler-group-2/2027-12-30/
LOCATION:Wantage Baptist Church\, 6 Mill Street\, Wantage\, OX12 9AQ
ORGANIZER;CN="Wantage Baptist Church":MAILTO:events@wantagebaptist.org.uk
END:VEVENT
BEGIN:VEVENT
DTSTART;TZID=Europe/London:20280106T093000
DTEND;TZID=Europe/London:20280106T113000
DTSTAMP:20260425T015926
CREATED:20251129T113403Z
LAST-MODIFIED:20251129T113407Z
UID:10001434-1830763800-1830771000@www.wantagebaptist.org.uk
SUMMARY:Baby and Toddler Group
DESCRIPTION:A warm\, welcoming group for parents\, guardians or child-minders. \nWe ask for a small donation each week\, which helps keep our play equipment up to date.
URL:https://www.wantagebaptist.org.uk/event/baby-and-toddler-group-2/2028-01-06/
LOCATION:Wantage Baptist Church\, 6 Mill Street\, Wantage\, OX12 9AQ
ORGANIZER;CN="Wantage Baptist Church":MAILTO:events@wantagebaptist.org.uk
END:VEVENT
BEGIN:VEVENT
DTSTART;TZID=Europe/London:20280113T093000
DTEND;TZID=Europe/London:20280113T113000
DTSTAMP:20260425T015926
CREATED:20251129T113403Z
LAST-MODIFIED:20251129T113407Z
UID:10001435-1831368600-1831375800@www.wantagebaptist.org.uk
SUMMARY:Baby and Toddler Group
DESCRIPTION:A warm\, welcoming group for parents\, guardians or child-minders. \nWe ask for a small donation each week\, which helps keep our play equipment up to date.
URL:https://www.wantagebaptist.org.uk/event/baby-and-toddler-group-2/2028-01-13/
LOCATION:Wantage Baptist Church\, 6 Mill Street\, Wantage\, OX12 9AQ
ORGANIZER;CN="Wantage Baptist Church":MAILTO:events@wantagebaptist.org.uk
END:VEVENT
BEGIN:VEVENT
DTSTART;TZID=Europe/London:20280120T093000
DTEND;TZID=Europe/London:20280120T113000
DTSTAMP:20260425T015926
CREATED:20251129T113403Z
LAST-MODIFIED:20251129T113407Z
UID:10001436-1831973400-1831980600@www.wantagebaptist.org.uk
SUMMARY:Baby and Toddler Group
DESCRIPTION:A warm\, welcoming group for parents\, guardians or child-minders. \nWe ask for a small donation each week\, which helps keep our play equipment up to date.
URL:https://www.wantagebaptist.org.uk/event/baby-and-toddler-group-2/2028-01-20/
LOCATION:Wantage Baptist Church\, 6 Mill Street\, Wantage\, OX12 9AQ
ORGANIZER;CN="Wantage Baptist Church":MAILTO:events@wantagebaptist.org.uk
END:VEVENT
BEGIN:VEVENT
DTSTART;TZID=Europe/London:20280127T093000
DTEND;TZID=Europe/London:20280127T113000
DTSTAMP:20260425T015926
CREATED:20251129T113403Z
LAST-MODIFIED:20251129T113407Z
UID:10001437-1832578200-1832585400@www.wantagebaptist.org.uk
SUMMARY:Baby and Toddler Group
DESCRIPTION:A warm\, welcoming group for parents\, guardians or child-minders. \nWe ask for a small donation each week\, which helps keep our play equipment up to date.
URL:https://www.wantagebaptist.org.uk/event/baby-and-toddler-group-2/2028-01-27/
LOCATION:Wantage Baptist Church\, 6 Mill Street\, Wantage\, OX12 9AQ
ORGANIZER;CN="Wantage Baptist Church":MAILTO:events@wantagebaptist.org.uk
END:VEVENT
BEGIN:VEVENT
DTSTART;TZID=Europe/London:20280203T093000
DTEND;TZID=Europe/London:20280203T113000
DTSTAMP:20260425T015926
CREATED:20251129T113403Z
LAST-MODIFIED:20251129T113407Z
UID:10001438-1833183000-1833190200@www.wantagebaptist.org.uk
SUMMARY:Baby and Toddler Group
DESCRIPTION:A warm\, welcoming group for parents\, guardians or child-minders. \nWe ask for a small donation each week\, which helps keep our play equipment up to date.
URL:https://www.wantagebaptist.org.uk/event/baby-and-toddler-group-2/2028-02-03/
LOCATION:Wantage Baptist Church\, 6 Mill Street\, Wantage\, OX12 9AQ
ORGANIZER;CN="Wantage Baptist Church":MAILTO:events@wantagebaptist.org.uk
END:VEVENT
BEGIN:VEVENT
DTSTART;TZID=Europe/London:20280210T093000
DTEND;TZID=Europe/London:20280210T113000
DTSTAMP:20260425T015926
CREATED:20251129T113403Z
LAST-MODIFIED:20251129T113407Z
UID:10001439-1833787800-1833795000@www.wantagebaptist.org.uk
SUMMARY:Baby and Toddler Group
DESCRIPTION:A warm\, welcoming group for parents\, guardians or child-minders. \nWe ask for a small donation each week\, which helps keep our play equipment up to date.
URL:https://www.wantagebaptist.org.uk/event/baby-and-toddler-group-2/2028-02-10/
LOCATION:Wantage Baptist Church\, 6 Mill Street\, Wantage\, OX12 9AQ
ORGANIZER;CN="Wantage Baptist Church":MAILTO:events@wantagebaptist.org.uk
END:VEVENT
BEGIN:VEVENT
DTSTART;TZID=Europe/London:20280217T093000
DTEND;TZID=Europe/London:20280217T113000
DTSTAMP:20260425T015926
CREATED:20251129T113403Z
LAST-MODIFIED:20251129T113407Z
UID:10001440-1834392600-1834399800@www.wantagebaptist.org.uk
SUMMARY:Baby and Toddler Group
DESCRIPTION:A warm\, welcoming group for parents\, guardians or child-minders. \nWe ask for a small donation each week\, which helps keep our play equipment up to date.
URL:https://www.wantagebaptist.org.uk/event/baby-and-toddler-group-2/2028-02-17/
LOCATION:Wantage Baptist Church\, 6 Mill Street\, Wantage\, OX12 9AQ
ORGANIZER;CN="Wantage Baptist Church":MAILTO:events@wantagebaptist.org.uk
END:VEVENT
BEGIN:VEVENT
DTSTART;TZID=Europe/London:20280224T093000
DTEND;TZID=Europe/London:20280224T113000
DTSTAMP:20260425T015926
CREATED:20251129T113403Z
LAST-MODIFIED:20251129T113407Z
UID:10001441-1834997400-1835004600@www.wantagebaptist.org.uk
SUMMARY:Baby and Toddler Group
DESCRIPTION:A warm\, welcoming group for parents\, guardians or child-minders. \nWe ask for a small donation each week\, which helps keep our play equipment up to date.
URL:https://www.wantagebaptist.org.uk/event/baby-and-toddler-group-2/2028-02-24/
LOCATION:Wantage Baptist Church\, 6 Mill Street\, Wantage\, OX12 9AQ
ORGANIZER;CN="Wantage Baptist Church":MAILTO:events@wantagebaptist.org.uk
END:VEVENT
BEGIN:VEVENT
DTSTART;TZID=Europe/London:20280302T093000
DTEND;TZID=Europe/London:20280302T113000
DTSTAMP:20260425T015926
CREATED:20251129T113403Z
LAST-MODIFIED:20251129T113407Z
UID:10001442-1835602200-1835609400@www.wantagebaptist.org.uk
SUMMARY:Baby and Toddler Group
DESCRIPTION:A warm\, welcoming group for parents\, guardians or child-minders. \nWe ask for a small donation each week\, which helps keep our play equipment up to date.
URL:https://www.wantagebaptist.org.uk/event/baby-and-toddler-group-2/2028-03-02/
LOCATION:Wantage Baptist Church\, 6 Mill Street\, Wantage\, OX12 9AQ
ORGANIZER;CN="Wantage Baptist Church":MAILTO:events@wantagebaptist.org.uk
END:VEVENT
BEGIN:VEVENT
DTSTART;TZID=Europe/London:20280309T093000
DTEND;TZID=Europe/London:20280309T113000
DTSTAMP:20260425T015926
CREATED:20251129T113403Z
LAST-MODIFIED:20251129T113407Z
UID:10001443-1836207000-1836214200@www.wantagebaptist.org.uk
SUMMARY:Baby and Toddler Group
DESCRIPTION:A warm\, welcoming group for parents\, guardians or child-minders. \nWe ask for a small donation each week\, which helps keep our play equipment up to date.
URL:https://www.wantagebaptist.org.uk/event/baby-and-toddler-group-2/2028-03-09/
LOCATION:Wantage Baptist Church\, 6 Mill Street\, Wantage\, OX12 9AQ
ORGANIZER;CN="Wantage Baptist Church":MAILTO:events@wantagebaptist.org.uk
END:VEVENT
BEGIN:VEVENT
DTSTART;TZID=Europe/London:20280316T093000
DTEND;TZID=Europe/London:20280316T113000
DTSTAMP:20260425T015926
CREATED:20251129T113403Z
LAST-MODIFIED:20251129T113407Z
UID:10001444-1836811800-1836819000@www.wantagebaptist.org.uk
SUMMARY:Baby and Toddler Group
DESCRIPTION:A warm\, welcoming group for parents\, guardians or child-minders. \nWe ask for a small donation each week\, which helps keep our play equipment up to date.
URL:https://www.wantagebaptist.org.uk/event/baby-and-toddler-group-2/2028-03-16/
LOCATION:Wantage Baptist Church\, 6 Mill Street\, Wantage\, OX12 9AQ
ORGANIZER;CN="Wantage Baptist Church":MAILTO:events@wantagebaptist.org.uk
END:VEVENT
BEGIN:VEVENT
DTSTART;TZID=Europe/London:20280323T093000
DTEND;TZID=Europe/London:20280323T113000
DTSTAMP:20260425T015926
CREATED:20251129T113403Z
LAST-MODIFIED:20251129T113407Z
UID:10001445-1837416600-1837423800@www.wantagebaptist.org.uk
SUMMARY:Baby and Toddler Group
DESCRIPTION:A warm\, welcoming group for parents\, guardians or child-minders. \nWe ask for a small donation each week\, which helps keep our play equipment up to date.
URL:https://www.wantagebaptist.org.uk/event/baby-and-toddler-group-2/2028-03-23/
LOCATION:Wantage Baptist Church\, 6 Mill Street\, Wantage\, OX12 9AQ
ORGANIZER;CN="Wantage Baptist Church":MAILTO:events@wantagebaptist.org.uk
END:VEVENT
BEGIN:VEVENT
DTSTART;TZID=Europe/London:20280330T093000
DTEND;TZID=Europe/London:20280330T113000
DTSTAMP:20260425T015926
CREATED:20251129T113403Z
LAST-MODIFIED:20251129T113407Z
UID:10001446-1838021400-1838028600@www.wantagebaptist.org.uk
SUMMARY:Baby and Toddler Group
DESCRIPTION:A warm\, welcoming group for parents\, guardians or child-minders. \nWe ask for a small donation each week\, which helps keep our play equipment up to date.
URL:https://www.wantagebaptist.org.uk/event/baby-and-toddler-group-2/2028-03-30/
LOCATION:Wantage Baptist Church\, 6 Mill Street\, Wantage\, OX12 9AQ
ORGANIZER;CN="Wantage Baptist Church":MAILTO:events@wantagebaptist.org.uk
END:VEVENT
BEGIN:VEVENT
DTSTART;TZID=Europe/London:20280406T093000
DTEND;TZID=Europe/London:20280406T113000
DTSTAMP:20260425T015926
CREATED:20251129T113403Z
LAST-MODIFIED:20251129T113407Z
UID:10001447-1838626200-1838633400@www.wantagebaptist.org.uk
SUMMARY:Baby and Toddler Group
DESCRIPTION:A warm\, welcoming group for parents\, guardians or child-minders. \nWe ask for a small donation each week\, which helps keep our play equipment up to date.
URL:https://www.wantagebaptist.org.uk/event/baby-and-toddler-group-2/2028-04-06/
LOCATION:Wantage Baptist Church\, 6 Mill Street\, Wantage\, OX12 9AQ
ORGANIZER;CN="Wantage Baptist Church":MAILTO:events@wantagebaptist.org.uk
END:VEVENT
END:VCALENDAR