BEGIN:VCALENDAR
VERSION:2.0
PRODID:-//Wantage Baptist Church - ECPv6.15.20//NONSGML v1.0//EN
CALSCALE:GREGORIAN
METHOD:PUBLISH
X-ORIGINAL-URL:https://www.wantagebaptist.org.uk
X-WR-CALDESC:Events for Wantage Baptist Church
REFRESH-INTERVAL;VALUE=DURATION:PT1H
X-Robots-Tag:noindex
X-PUBLISHED-TTL:PT1H
BEGIN:VTIMEZONE
TZID:Europe/London
BEGIN:DAYLIGHT
TZOFFSETFROM:+0000
TZOFFSETTO:+0100
TZNAME:BST
DTSTART:20250330T010000
END:DAYLIGHT
BEGIN:STANDARD
TZOFFSETFROM:+0100
TZOFFSETTO:+0000
TZNAME:GMT
DTSTART:20251026T010000
END:STANDARD
BEGIN:DAYLIGHT
TZOFFSETFROM:+0000
TZOFFSETTO:+0100
TZNAME:BST
DTSTART:20260329T010000
END:DAYLIGHT
BEGIN:STANDARD
TZOFFSETFROM:+0100
TZOFFSETTO:+0000
TZNAME:GMT
DTSTART:20261025T010000
END:STANDARD
BEGIN:DAYLIGHT
TZOFFSETFROM:+0000
TZOFFSETTO:+0100
TZNAME:BST
DTSTART:20270328T010000
END:DAYLIGHT
BEGIN:STANDARD
TZOFFSETFROM:+0100
TZOFFSETTO:+0000
TZNAME:GMT
DTSTART:20271031T010000
END:STANDARD
END:VTIMEZONE
BEGIN:VEVENT
DTSTART;TZID=Europe/London:20261006T094500
DTEND;TZID=Europe/London:20261006T101500
DTSTAMP:20260425T172650
CREATED:20251206T125457Z
LAST-MODIFIED:20260402T073807Z
UID:10000325-1791279900-1791281700@www.wantagebaptist.org.uk
SUMMARY:The Kings Centre Devotional
DESCRIPTION:Join us at The Kings Centre Wantage for an uplifting devotional offering encouragement\, reflection\, and spiritual growth. \nPlease arrive 5 minutes early if you would like Tea or Coffee
URL:https://www.wantagebaptist.org.uk/event/the-kings-centre-devotional-2/2026-10-06/
LOCATION:The King’s Centre\, King's Walk\, Wantage
END:VEVENT
BEGIN:VEVENT
DTSTART;TZID=Europe/London:20261006T141500
DTEND;TZID=Europe/London:20261006T150000
DTSTAMP:20260425T172650
CREATED:20251206T125630Z
LAST-MODIFIED:20251206T125633Z
UID:10000586-1791296100-1791298800@www.wantagebaptist.org.uk
SUMMARY:Women of Encouragement
DESCRIPTION:Ladies are warmly invited for coffee / tea and chat on a Tuesday afternoon\, 2:15pm in The King’s Centre. \nGuests are encouraged to bring along a testimony\, devotional reading\, etc. to share
URL:https://www.wantagebaptist.org.uk/event/women-of-encouragement-2/2026-10-06/
LOCATION:The King’s Centre\, King's Walk\, Wantage
END:VEVENT
BEGIN:VEVENT
DTSTART;TZID=Europe/London:20261009T100000
DTEND;TZID=Europe/London:20261009T120000
DTSTAMP:20260425T172650
CREATED:20260107T084644Z
LAST-MODIFIED:20260107T095302Z
UID:10003344-1791540000-1791547200@www.wantagebaptist.org.uk
SUMMARY:Needle Craft Group - TKC
DESCRIPTION:Chat Group for Needle Craft and similar activities
URL:https://www.wantagebaptist.org.uk/event/craft-group/2026-10-09/
LOCATION:The King’s Centre\, King's Walk\, Wantage
END:VEVENT
BEGIN:VEVENT
DTSTART;TZID=Europe/London:20261009T130000
DTEND;TZID=Europe/London:20261009T160000
DTSTAMP:20260425T172650
CREATED:20260415T083634Z
LAST-MODIFIED:20260415T083634Z
UID:10004737-1791550800-1791561600@www.wantagebaptist.org.uk
SUMMARY:Just Friends
DESCRIPTION:Just Friends – a time to chat with friends\, both new and old.
URL:https://www.wantagebaptist.org.uk/event/just-friends/2026-10-09/
LOCATION:The King’s Centre\, King's Walk\, Wantage
END:VEVENT
BEGIN:VEVENT
DTSTART;TZID=Europe/London:20261012T133000
DTEND;TZID=Europe/London:20261012T150000
DTSTAMP:20260425T172650
CREATED:20251115T152156Z
LAST-MODIFIED:20260416T081400Z
UID:10000064-1791811800-1791817200@www.wantagebaptist.org.uk
SUMMARY:Mens Chat Group
DESCRIPTION:Meeting at The King’s Centre for coffee\, cake and the opportunity to chat informally together. Contact Nick Liddiard if you’re interested in coming along.
URL:https://www.wantagebaptist.org.uk/event/mens-chat-group/2026-10-12/
LOCATION:The King’s Centre\, King's Walk\, Wantage
END:VEVENT
BEGIN:VEVENT
DTSTART;TZID=Europe/London:20261013T094500
DTEND;TZID=Europe/London:20261013T101500
DTSTAMP:20260425T172650
CREATED:20251206T125457Z
LAST-MODIFIED:20260402T073807Z
UID:10000326-1791884700-1791886500@www.wantagebaptist.org.uk
SUMMARY:The Kings Centre Devotional
DESCRIPTION:Join us at The Kings Centre Wantage for an uplifting devotional offering encouragement\, reflection\, and spiritual growth. \nPlease arrive 5 minutes early if you would like Tea or Coffee
URL:https://www.wantagebaptist.org.uk/event/the-kings-centre-devotional-2/2026-10-13/
LOCATION:The King’s Centre\, King's Walk\, Wantage
END:VEVENT
BEGIN:VEVENT
DTSTART;TZID=Europe/London:20261013T141500
DTEND;TZID=Europe/London:20261013T150000
DTSTAMP:20260425T172650
CREATED:20251206T125630Z
LAST-MODIFIED:20251206T125633Z
UID:10000587-1791900900-1791903600@www.wantagebaptist.org.uk
SUMMARY:Women of Encouragement
DESCRIPTION:Ladies are warmly invited for coffee / tea and chat on a Tuesday afternoon\, 2:15pm in The King’s Centre. \nGuests are encouraged to bring along a testimony\, devotional reading\, etc. to share
URL:https://www.wantagebaptist.org.uk/event/women-of-encouragement-2/2026-10-13/
LOCATION:The King’s Centre\, King's Walk\, Wantage
END:VEVENT
BEGIN:VEVENT
DTSTART;TZID=Europe/London:20261016T100000
DTEND;TZID=Europe/London:20261016T120000
DTSTAMP:20260425T172650
CREATED:20260107T084644Z
LAST-MODIFIED:20260107T095302Z
UID:10003345-1792144800-1792152000@www.wantagebaptist.org.uk
SUMMARY:Needle Craft Group - TKC
DESCRIPTION:Chat Group for Needle Craft and similar activities
URL:https://www.wantagebaptist.org.uk/event/craft-group/2026-10-16/
LOCATION:The King’s Centre\, King's Walk\, Wantage
END:VEVENT
BEGIN:VEVENT
DTSTART;TZID=Europe/London:20261016T130000
DTEND;TZID=Europe/London:20261016T160000
DTSTAMP:20260425T172650
CREATED:20260415T083634Z
LAST-MODIFIED:20260415T083634Z
UID:10004738-1792155600-1792166400@www.wantagebaptist.org.uk
SUMMARY:Just Friends
DESCRIPTION:Just Friends – a time to chat with friends\, both new and old.
URL:https://www.wantagebaptist.org.uk/event/just-friends/2026-10-16/
LOCATION:The King’s Centre\, King's Walk\, Wantage
END:VEVENT
BEGIN:VEVENT
DTSTART;TZID=Europe/London:20261019T133000
DTEND;TZID=Europe/London:20261019T150000
DTSTAMP:20260425T172650
CREATED:20251115T152156Z
LAST-MODIFIED:20260416T081400Z
UID:10000065-1792416600-1792422000@www.wantagebaptist.org.uk
SUMMARY:Mens Chat Group
DESCRIPTION:Meeting at The King’s Centre for coffee\, cake and the opportunity to chat informally together. Contact Nick Liddiard if you’re interested in coming along.
URL:https://www.wantagebaptist.org.uk/event/mens-chat-group/2026-10-19/
LOCATION:The King’s Centre\, King's Walk\, Wantage
END:VEVENT
BEGIN:VEVENT
DTSTART;TZID=Europe/London:20261020T094500
DTEND;TZID=Europe/London:20261020T101500
DTSTAMP:20260425T172650
CREATED:20251206T125457Z
LAST-MODIFIED:20260402T073807Z
UID:10000327-1792489500-1792491300@www.wantagebaptist.org.uk
SUMMARY:The Kings Centre Devotional
DESCRIPTION:Join us at The Kings Centre Wantage for an uplifting devotional offering encouragement\, reflection\, and spiritual growth. \nPlease arrive 5 minutes early if you would like Tea or Coffee
URL:https://www.wantagebaptist.org.uk/event/the-kings-centre-devotional-2/2026-10-20/
LOCATION:The King’s Centre\, King's Walk\, Wantage
END:VEVENT
BEGIN:VEVENT
DTSTART;TZID=Europe/London:20261020T141500
DTEND;TZID=Europe/London:20261020T150000
DTSTAMP:20260425T172650
CREATED:20251206T125630Z
LAST-MODIFIED:20251206T125633Z
UID:10000588-1792505700-1792508400@www.wantagebaptist.org.uk
SUMMARY:Women of Encouragement
DESCRIPTION:Ladies are warmly invited for coffee / tea and chat on a Tuesday afternoon\, 2:15pm in The King’s Centre. \nGuests are encouraged to bring along a testimony\, devotional reading\, etc. to share
URL:https://www.wantagebaptist.org.uk/event/women-of-encouragement-2/2026-10-20/
LOCATION:The King’s Centre\, King's Walk\, Wantage
END:VEVENT
BEGIN:VEVENT
DTSTART;TZID=Europe/London:20261023T100000
DTEND;TZID=Europe/London:20261023T120000
DTSTAMP:20260425T172650
CREATED:20260107T084644Z
LAST-MODIFIED:20260107T095302Z
UID:10003346-1792749600-1792756800@www.wantagebaptist.org.uk
SUMMARY:Needle Craft Group - TKC
DESCRIPTION:Chat Group for Needle Craft and similar activities
URL:https://www.wantagebaptist.org.uk/event/craft-group/2026-10-23/
LOCATION:The King’s Centre\, King's Walk\, Wantage
END:VEVENT
BEGIN:VEVENT
DTSTART;TZID=Europe/London:20261023T130000
DTEND;TZID=Europe/London:20261023T160000
DTSTAMP:20260425T172650
CREATED:20260415T083634Z
LAST-MODIFIED:20260415T083634Z
UID:10004739-1792760400-1792771200@www.wantagebaptist.org.uk
SUMMARY:Just Friends
DESCRIPTION:Just Friends – a time to chat with friends\, both new and old.
URL:https://www.wantagebaptist.org.uk/event/just-friends/2026-10-23/
LOCATION:The King’s Centre\, King's Walk\, Wantage
END:VEVENT
BEGIN:VEVENT
DTSTART;TZID=Europe/London:20261026T133000
DTEND;TZID=Europe/London:20261026T150000
DTSTAMP:20260425T172650
CREATED:20251115T152156Z
LAST-MODIFIED:20260416T081400Z
UID:10000066-1793021400-1793026800@www.wantagebaptist.org.uk
SUMMARY:Mens Chat Group
DESCRIPTION:Meeting at The King’s Centre for coffee\, cake and the opportunity to chat informally together. Contact Nick Liddiard if you’re interested in coming along.
URL:https://www.wantagebaptist.org.uk/event/mens-chat-group/2026-10-26/
LOCATION:The King’s Centre\, King's Walk\, Wantage
END:VEVENT
BEGIN:VEVENT
DTSTART;TZID=Europe/London:20261027T094500
DTEND;TZID=Europe/London:20261027T101500
DTSTAMP:20260425T172650
CREATED:20251206T125457Z
LAST-MODIFIED:20260402T073807Z
UID:10000328-1793094300-1793096100@www.wantagebaptist.org.uk
SUMMARY:The Kings Centre Devotional
DESCRIPTION:Join us at The Kings Centre Wantage for an uplifting devotional offering encouragement\, reflection\, and spiritual growth. \nPlease arrive 5 minutes early if you would like Tea or Coffee
URL:https://www.wantagebaptist.org.uk/event/the-kings-centre-devotional-2/2026-10-27/
LOCATION:The King’s Centre\, King's Walk\, Wantage
END:VEVENT
BEGIN:VEVENT
DTSTART;TZID=Europe/London:20261027T141500
DTEND;TZID=Europe/London:20261027T150000
DTSTAMP:20260425T172650
CREATED:20251206T125630Z
LAST-MODIFIED:20251206T125633Z
UID:10000589-1793110500-1793113200@www.wantagebaptist.org.uk
SUMMARY:Women of Encouragement
DESCRIPTION:Ladies are warmly invited for coffee / tea and chat on a Tuesday afternoon\, 2:15pm in The King’s Centre. \nGuests are encouraged to bring along a testimony\, devotional reading\, etc. to share
URL:https://www.wantagebaptist.org.uk/event/women-of-encouragement-2/2026-10-27/
LOCATION:The King’s Centre\, King's Walk\, Wantage
END:VEVENT
BEGIN:VEVENT
DTSTART;TZID=Europe/London:20261030T100000
DTEND;TZID=Europe/London:20261030T120000
DTSTAMP:20260425T172650
CREATED:20260107T084644Z
LAST-MODIFIED:20260107T095302Z
UID:10003347-1793354400-1793361600@www.wantagebaptist.org.uk
SUMMARY:Needle Craft Group - TKC
DESCRIPTION:Chat Group for Needle Craft and similar activities
URL:https://www.wantagebaptist.org.uk/event/craft-group/2026-10-30/
LOCATION:The King’s Centre\, King's Walk\, Wantage
END:VEVENT
BEGIN:VEVENT
DTSTART;TZID=Europe/London:20261030T130000
DTEND;TZID=Europe/London:20261030T160000
DTSTAMP:20260425T172650
CREATED:20260415T083634Z
LAST-MODIFIED:20260415T083634Z
UID:10004740-1793365200-1793376000@www.wantagebaptist.org.uk
SUMMARY:Just Friends
DESCRIPTION:Just Friends – a time to chat with friends\, both new and old.
URL:https://www.wantagebaptist.org.uk/event/just-friends/2026-10-30/
LOCATION:The King’s Centre\, King's Walk\, Wantage
END:VEVENT
BEGIN:VEVENT
DTSTART;TZID=Europe/London:20261102T133000
DTEND;TZID=Europe/London:20261102T150000
DTSTAMP:20260425T172650
CREATED:20251115T152156Z
LAST-MODIFIED:20260416T081400Z
UID:10000067-1793626200-1793631600@www.wantagebaptist.org.uk
SUMMARY:Mens Chat Group
DESCRIPTION:Meeting at The King’s Centre for coffee\, cake and the opportunity to chat informally together. Contact Nick Liddiard if you’re interested in coming along.
URL:https://www.wantagebaptist.org.uk/event/mens-chat-group/2026-11-02/
LOCATION:The King’s Centre\, King's Walk\, Wantage
END:VEVENT
BEGIN:VEVENT
DTSTART;TZID=Europe/London:20261103T094500
DTEND;TZID=Europe/London:20261103T101500
DTSTAMP:20260425T172650
CREATED:20251206T125457Z
LAST-MODIFIED:20260402T073807Z
UID:10000329-1793699100-1793700900@www.wantagebaptist.org.uk
SUMMARY:The Kings Centre Devotional
DESCRIPTION:Join us at The Kings Centre Wantage for an uplifting devotional offering encouragement\, reflection\, and spiritual growth. \nPlease arrive 5 minutes early if you would like Tea or Coffee
URL:https://www.wantagebaptist.org.uk/event/the-kings-centre-devotional-2/2026-11-03/
LOCATION:The King’s Centre\, King's Walk\, Wantage
END:VEVENT
BEGIN:VEVENT
DTSTART;TZID=Europe/London:20261103T141500
DTEND;TZID=Europe/London:20261103T150000
DTSTAMP:20260425T172650
CREATED:20251206T125630Z
LAST-MODIFIED:20251206T125633Z
UID:10000590-1793715300-1793718000@www.wantagebaptist.org.uk
SUMMARY:Women of Encouragement
DESCRIPTION:Ladies are warmly invited for coffee / tea and chat on a Tuesday afternoon\, 2:15pm in The King’s Centre. \nGuests are encouraged to bring along a testimony\, devotional reading\, etc. to share
URL:https://www.wantagebaptist.org.uk/event/women-of-encouragement-2/2026-11-03/
LOCATION:The King’s Centre\, King's Walk\, Wantage
END:VEVENT
BEGIN:VEVENT
DTSTART;TZID=Europe/London:20261106T100000
DTEND;TZID=Europe/London:20261106T120000
DTSTAMP:20260425T172650
CREATED:20260107T084644Z
LAST-MODIFIED:20260107T095302Z
UID:10003348-1793959200-1793966400@www.wantagebaptist.org.uk
SUMMARY:Needle Craft Group - TKC
DESCRIPTION:Chat Group for Needle Craft and similar activities
URL:https://www.wantagebaptist.org.uk/event/craft-group/2026-11-06/
LOCATION:The King’s Centre\, King's Walk\, Wantage
END:VEVENT
BEGIN:VEVENT
DTSTART;TZID=Europe/London:20261106T130000
DTEND;TZID=Europe/London:20261106T160000
DTSTAMP:20260425T172650
CREATED:20260415T083634Z
LAST-MODIFIED:20260415T083634Z
UID:10004741-1793970000-1793980800@www.wantagebaptist.org.uk
SUMMARY:Just Friends
DESCRIPTION:Just Friends – a time to chat with friends\, both new and old.
URL:https://www.wantagebaptist.org.uk/event/just-friends/2026-11-06/
LOCATION:The King’s Centre\, King's Walk\, Wantage
END:VEVENT
BEGIN:VEVENT
DTSTART;TZID=Europe/London:20261109T133000
DTEND;TZID=Europe/London:20261109T150000
DTSTAMP:20260425T172650
CREATED:20251115T152156Z
LAST-MODIFIED:20260416T081400Z
UID:10000068-1794231000-1794236400@www.wantagebaptist.org.uk
SUMMARY:Mens Chat Group
DESCRIPTION:Meeting at The King’s Centre for coffee\, cake and the opportunity to chat informally together. Contact Nick Liddiard if you’re interested in coming along.
URL:https://www.wantagebaptist.org.uk/event/mens-chat-group/2026-11-09/
LOCATION:The King’s Centre\, King's Walk\, Wantage
END:VEVENT
BEGIN:VEVENT
DTSTART;TZID=Europe/London:20261110T094500
DTEND;TZID=Europe/London:20261110T101500
DTSTAMP:20260425T172650
CREATED:20251206T125457Z
LAST-MODIFIED:20260402T073807Z
UID:10000330-1794303900-1794305700@www.wantagebaptist.org.uk
SUMMARY:The Kings Centre Devotional
DESCRIPTION:Join us at The Kings Centre Wantage for an uplifting devotional offering encouragement\, reflection\, and spiritual growth. \nPlease arrive 5 minutes early if you would like Tea or Coffee
URL:https://www.wantagebaptist.org.uk/event/the-kings-centre-devotional-2/2026-11-10/
LOCATION:The King’s Centre\, King's Walk\, Wantage
END:VEVENT
BEGIN:VEVENT
DTSTART;TZID=Europe/London:20261110T141500
DTEND;TZID=Europe/London:20261110T150000
DTSTAMP:20260425T172650
CREATED:20251206T125630Z
LAST-MODIFIED:20251206T125633Z
UID:10000591-1794320100-1794322800@www.wantagebaptist.org.uk
SUMMARY:Women of Encouragement
DESCRIPTION:Ladies are warmly invited for coffee / tea and chat on a Tuesday afternoon\, 2:15pm in The King’s Centre. \nGuests are encouraged to bring along a testimony\, devotional reading\, etc. to share
URL:https://www.wantagebaptist.org.uk/event/women-of-encouragement-2/2026-11-10/
LOCATION:The King’s Centre\, King's Walk\, Wantage
END:VEVENT
BEGIN:VEVENT
DTSTART;TZID=Europe/London:20261113T100000
DTEND;TZID=Europe/London:20261113T120000
DTSTAMP:20260425T172650
CREATED:20260107T084644Z
LAST-MODIFIED:20260107T095302Z
UID:10003349-1794564000-1794571200@www.wantagebaptist.org.uk
SUMMARY:Needle Craft Group - TKC
DESCRIPTION:Chat Group for Needle Craft and similar activities
URL:https://www.wantagebaptist.org.uk/event/craft-group/2026-11-13/
LOCATION:The King’s Centre\, King's Walk\, Wantage
END:VEVENT
BEGIN:VEVENT
DTSTART;TZID=Europe/London:20261113T130000
DTEND;TZID=Europe/London:20261113T160000
DTSTAMP:20260425T172650
CREATED:20260415T083634Z
LAST-MODIFIED:20260415T083634Z
UID:10004742-1794574800-1794585600@www.wantagebaptist.org.uk
SUMMARY:Just Friends
DESCRIPTION:Just Friends – a time to chat with friends\, both new and old.
URL:https://www.wantagebaptist.org.uk/event/just-friends/2026-11-13/
LOCATION:The King’s Centre\, King's Walk\, Wantage
END:VEVENT
BEGIN:VEVENT
DTSTART;TZID=Europe/London:20261116T133000
DTEND;TZID=Europe/London:20261116T150000
DTSTAMP:20260425T172650
CREATED:20251115T152156Z
LAST-MODIFIED:20260416T081400Z
UID:10000069-1794835800-1794841200@www.wantagebaptist.org.uk
SUMMARY:Mens Chat Group
DESCRIPTION:Meeting at The King’s Centre for coffee\, cake and the opportunity to chat informally together. Contact Nick Liddiard if you’re interested in coming along.
URL:https://www.wantagebaptist.org.uk/event/mens-chat-group/2026-11-16/
LOCATION:The King’s Centre\, King's Walk\, Wantage
END:VEVENT
END:VCALENDAR