BEGIN:VCALENDAR
VERSION:2.0
PRODID:-//Wantage Baptist Church - ECPv6.15.20//NONSGML v1.0//EN
CALSCALE:GREGORIAN
METHOD:PUBLISH
X-WR-CALNAME:Wantage Baptist Church
X-ORIGINAL-URL:https://www.wantagebaptist.org.uk
X-WR-CALDESC:Events for Wantage Baptist Church
REFRESH-INTERVAL;VALUE=DURATION:PT1H
X-Robots-Tag:noindex
X-PUBLISHED-TTL:PT1H
BEGIN:VTIMEZONE
TZID:Europe/London
BEGIN:DAYLIGHT
TZOFFSETFROM:+0000
TZOFFSETTO:+0100
TZNAME:BST
DTSTART:20250330T010000
END:DAYLIGHT
BEGIN:STANDARD
TZOFFSETFROM:+0100
TZOFFSETTO:+0000
TZNAME:GMT
DTSTART:20251026T010000
END:STANDARD
BEGIN:DAYLIGHT
TZOFFSETFROM:+0000
TZOFFSETTO:+0100
TZNAME:BST
DTSTART:20260329T010000
END:DAYLIGHT
BEGIN:STANDARD
TZOFFSETFROM:+0100
TZOFFSETTO:+0000
TZNAME:GMT
DTSTART:20261025T010000
END:STANDARD
BEGIN:DAYLIGHT
TZOFFSETFROM:+0000
TZOFFSETTO:+0100
TZNAME:BST
DTSTART:20270328T010000
END:DAYLIGHT
BEGIN:STANDARD
TZOFFSETFROM:+0100
TZOFFSETTO:+0000
TZNAME:GMT
DTSTART:20271031T010000
END:STANDARD
END:VTIMEZONE
BEGIN:VEVENT
DTSTART;TZID=Europe/London:20260602T141500
DTEND;TZID=Europe/London:20260602T150000
DTSTAMP:20260425T144428
CREATED:20251206T125630Z
LAST-MODIFIED:20251206T125633Z
UID:10000568-1780409700-1780412400@www.wantagebaptist.org.uk
SUMMARY:Women of Encouragement
DESCRIPTION:Ladies are warmly invited for coffee / tea and chat on a Tuesday afternoon\, 2:15pm in The King’s Centre. \nGuests are encouraged to bring along a testimony\, devotional reading\, etc. to share
URL:https://www.wantagebaptist.org.uk/event/women-of-encouragement-2/2026-06-02/
LOCATION:The King’s Centre\, King's Walk\, Wantage
END:VEVENT
BEGIN:VEVENT
DTSTART;TZID=Europe/London:20260605T100000
DTEND;TZID=Europe/London:20260605T120000
DTSTAMP:20260425T144428
CREATED:20260107T084644Z
LAST-MODIFIED:20260107T095302Z
UID:10003326-1780653600-1780660800@www.wantagebaptist.org.uk
SUMMARY:Needle Craft Group - TKC
DESCRIPTION:Chat Group for Needle Craft and similar activities
URL:https://www.wantagebaptist.org.uk/event/craft-group/2026-06-05/
LOCATION:The King’s Centre\, King's Walk\, Wantage
END:VEVENT
BEGIN:VEVENT
DTSTART;TZID=Europe/London:20260605T130000
DTEND;TZID=Europe/London:20260605T160000
DTSTAMP:20260425T144428
CREATED:20260415T083634Z
LAST-MODIFIED:20260415T083634Z
UID:10004719-1780664400-1780675200@www.wantagebaptist.org.uk
SUMMARY:Just Friends
DESCRIPTION:Just Friends – a time to chat with friends\, both new and old.
URL:https://www.wantagebaptist.org.uk/event/just-friends/2026-06-05/
LOCATION:The King’s Centre\, King's Walk\, Wantage
END:VEVENT
BEGIN:VEVENT
DTSTART;TZID=Europe/London:20260608T133000
DTEND;TZID=Europe/London:20260608T150000
DTSTAMP:20260425T144428
CREATED:20251115T152156Z
LAST-MODIFIED:20260416T081400Z
UID:10000046-1780925400-1780930800@www.wantagebaptist.org.uk
SUMMARY:Mens Chat Group
DESCRIPTION:Meeting at The King’s Centre for coffee\, cake and the opportunity to chat informally together. Contact Nick Liddiard if you’re interested in coming along.
URL:https://www.wantagebaptist.org.uk/event/mens-chat-group/2026-06-08/
LOCATION:The King’s Centre\, King's Walk\, Wantage
END:VEVENT
BEGIN:VEVENT
DTSTART;TZID=Europe/London:20260609T094500
DTEND;TZID=Europe/London:20260609T101500
DTSTAMP:20260425T144428
CREATED:20251206T125457Z
LAST-MODIFIED:20260402T073807Z
UID:10000308-1780998300-1781000100@www.wantagebaptist.org.uk
SUMMARY:The Kings Centre Devotional
DESCRIPTION:Join us at The Kings Centre Wantage for an uplifting devotional offering encouragement\, reflection\, and spiritual growth. \nPlease arrive 5 minutes early if you would like Tea or Coffee
URL:https://www.wantagebaptist.org.uk/event/the-kings-centre-devotional-2/2026-06-09/
LOCATION:The King’s Centre\, King's Walk\, Wantage
END:VEVENT
BEGIN:VEVENT
DTSTART;TZID=Europe/London:20260609T141500
DTEND;TZID=Europe/London:20260609T150000
DTSTAMP:20260425T144428
CREATED:20251206T125630Z
LAST-MODIFIED:20251206T125633Z
UID:10000569-1781014500-1781017200@www.wantagebaptist.org.uk
SUMMARY:Women of Encouragement
DESCRIPTION:Ladies are warmly invited for coffee / tea and chat on a Tuesday afternoon\, 2:15pm in The King’s Centre. \nGuests are encouraged to bring along a testimony\, devotional reading\, etc. to share
URL:https://www.wantagebaptist.org.uk/event/women-of-encouragement-2/2026-06-09/
LOCATION:The King’s Centre\, King's Walk\, Wantage
END:VEVENT
BEGIN:VEVENT
DTSTART;TZID=Europe/London:20260612T100000
DTEND;TZID=Europe/London:20260612T120000
DTSTAMP:20260425T144428
CREATED:20260107T084644Z
LAST-MODIFIED:20260107T095302Z
UID:10003327-1781258400-1781265600@www.wantagebaptist.org.uk
SUMMARY:Needle Craft Group - TKC
DESCRIPTION:Chat Group for Needle Craft and similar activities
URL:https://www.wantagebaptist.org.uk/event/craft-group/2026-06-12/
LOCATION:The King’s Centre\, King's Walk\, Wantage
END:VEVENT
BEGIN:VEVENT
DTSTART;TZID=Europe/London:20260612T130000
DTEND;TZID=Europe/London:20260612T160000
DTSTAMP:20260425T144428
CREATED:20260415T083634Z
LAST-MODIFIED:20260415T083634Z
UID:10004720-1781269200-1781280000@www.wantagebaptist.org.uk
SUMMARY:Just Friends
DESCRIPTION:Just Friends – a time to chat with friends\, both new and old.
URL:https://www.wantagebaptist.org.uk/event/just-friends/2026-06-12/
LOCATION:The King’s Centre\, King's Walk\, Wantage
END:VEVENT
BEGIN:VEVENT
DTSTART;TZID=Europe/London:20260615T133000
DTEND;TZID=Europe/London:20260615T150000
DTSTAMP:20260425T144428
CREATED:20251115T152156Z
LAST-MODIFIED:20260416T081400Z
UID:10000047-1781530200-1781535600@www.wantagebaptist.org.uk
SUMMARY:Mens Chat Group
DESCRIPTION:Meeting at The King’s Centre for coffee\, cake and the opportunity to chat informally together. Contact Nick Liddiard if you’re interested in coming along.
URL:https://www.wantagebaptist.org.uk/event/mens-chat-group/2026-06-15/
LOCATION:The King’s Centre\, King's Walk\, Wantage
END:VEVENT
BEGIN:VEVENT
DTSTART;TZID=Europe/London:20260616T094500
DTEND;TZID=Europe/London:20260616T101500
DTSTAMP:20260425T144428
CREATED:20251206T125457Z
LAST-MODIFIED:20260402T073807Z
UID:10000309-1781603100-1781604900@www.wantagebaptist.org.uk
SUMMARY:The Kings Centre Devotional
DESCRIPTION:Join us at The Kings Centre Wantage for an uplifting devotional offering encouragement\, reflection\, and spiritual growth. \nPlease arrive 5 minutes early if you would like Tea or Coffee
URL:https://www.wantagebaptist.org.uk/event/the-kings-centre-devotional-2/2026-06-16/
LOCATION:The King’s Centre\, King's Walk\, Wantage
END:VEVENT
BEGIN:VEVENT
DTSTART;TZID=Europe/London:20260616T141500
DTEND;TZID=Europe/London:20260616T150000
DTSTAMP:20260425T144428
CREATED:20251206T125630Z
LAST-MODIFIED:20251206T125633Z
UID:10000570-1781619300-1781622000@www.wantagebaptist.org.uk
SUMMARY:Women of Encouragement
DESCRIPTION:Ladies are warmly invited for coffee / tea and chat on a Tuesday afternoon\, 2:15pm in The King’s Centre. \nGuests are encouraged to bring along a testimony\, devotional reading\, etc. to share
URL:https://www.wantagebaptist.org.uk/event/women-of-encouragement-2/2026-06-16/
LOCATION:The King’s Centre\, King's Walk\, Wantage
END:VEVENT
BEGIN:VEVENT
DTSTART;TZID=Europe/London:20260619T100000
DTEND;TZID=Europe/London:20260619T120000
DTSTAMP:20260425T144428
CREATED:20260107T084644Z
LAST-MODIFIED:20260107T095302Z
UID:10003328-1781863200-1781870400@www.wantagebaptist.org.uk
SUMMARY:Needle Craft Group - TKC
DESCRIPTION:Chat Group for Needle Craft and similar activities
URL:https://www.wantagebaptist.org.uk/event/craft-group/2026-06-19/
LOCATION:The King’s Centre\, King's Walk\, Wantage
END:VEVENT
BEGIN:VEVENT
DTSTART;TZID=Europe/London:20260619T130000
DTEND;TZID=Europe/London:20260619T160000
DTSTAMP:20260425T144428
CREATED:20260415T083634Z
LAST-MODIFIED:20260415T083634Z
UID:10004721-1781874000-1781884800@www.wantagebaptist.org.uk
SUMMARY:Just Friends
DESCRIPTION:Just Friends – a time to chat with friends\, both new and old.
URL:https://www.wantagebaptist.org.uk/event/just-friends/2026-06-19/
LOCATION:The King’s Centre\, King's Walk\, Wantage
END:VEVENT
BEGIN:VEVENT
DTSTART;TZID=Europe/London:20260622T133000
DTEND;TZID=Europe/London:20260622T150000
DTSTAMP:20260425T144428
CREATED:20251115T152156Z
LAST-MODIFIED:20260416T081400Z
UID:10000048-1782135000-1782140400@www.wantagebaptist.org.uk
SUMMARY:Mens Chat Group
DESCRIPTION:Meeting at The King’s Centre for coffee\, cake and the opportunity to chat informally together. Contact Nick Liddiard if you’re interested in coming along.
URL:https://www.wantagebaptist.org.uk/event/mens-chat-group/2026-06-22/
LOCATION:The King’s Centre\, King's Walk\, Wantage
END:VEVENT
BEGIN:VEVENT
DTSTART;TZID=Europe/London:20260623T094500
DTEND;TZID=Europe/London:20260623T101500
DTSTAMP:20260425T144428
CREATED:20251206T125457Z
LAST-MODIFIED:20260402T073807Z
UID:10000310-1782207900-1782209700@www.wantagebaptist.org.uk
SUMMARY:The Kings Centre Devotional
DESCRIPTION:Join us at The Kings Centre Wantage for an uplifting devotional offering encouragement\, reflection\, and spiritual growth. \nPlease arrive 5 minutes early if you would like Tea or Coffee
URL:https://www.wantagebaptist.org.uk/event/the-kings-centre-devotional-2/2026-06-23/
LOCATION:The King’s Centre\, King's Walk\, Wantage
END:VEVENT
BEGIN:VEVENT
DTSTART;TZID=Europe/London:20260623T141500
DTEND;TZID=Europe/London:20260623T150000
DTSTAMP:20260425T144428
CREATED:20251206T125630Z
LAST-MODIFIED:20251206T125633Z
UID:10000571-1782224100-1782226800@www.wantagebaptist.org.uk
SUMMARY:Women of Encouragement
DESCRIPTION:Ladies are warmly invited for coffee / tea and chat on a Tuesday afternoon\, 2:15pm in The King’s Centre. \nGuests are encouraged to bring along a testimony\, devotional reading\, etc. to share
URL:https://www.wantagebaptist.org.uk/event/women-of-encouragement-2/2026-06-23/
LOCATION:The King’s Centre\, King's Walk\, Wantage
END:VEVENT
BEGIN:VEVENT
DTSTART;TZID=Europe/London:20260626T100000
DTEND;TZID=Europe/London:20260626T120000
DTSTAMP:20260425T144428
CREATED:20260107T084644Z
LAST-MODIFIED:20260107T095302Z
UID:10003329-1782468000-1782475200@www.wantagebaptist.org.uk
SUMMARY:Needle Craft Group - TKC
DESCRIPTION:Chat Group for Needle Craft and similar activities
URL:https://www.wantagebaptist.org.uk/event/craft-group/2026-06-26/
LOCATION:The King’s Centre\, King's Walk\, Wantage
END:VEVENT
BEGIN:VEVENT
DTSTART;TZID=Europe/London:20260626T130000
DTEND;TZID=Europe/London:20260626T160000
DTSTAMP:20260425T144429
CREATED:20260415T083634Z
LAST-MODIFIED:20260415T083634Z
UID:10004722-1782478800-1782489600@www.wantagebaptist.org.uk
SUMMARY:Just Friends
DESCRIPTION:Just Friends – a time to chat with friends\, both new and old.
URL:https://www.wantagebaptist.org.uk/event/just-friends/2026-06-26/
LOCATION:The King’s Centre\, King's Walk\, Wantage
END:VEVENT
BEGIN:VEVENT
DTSTART;TZID=Europe/London:20260629T133000
DTEND;TZID=Europe/London:20260629T150000
DTSTAMP:20260425T144429
CREATED:20251115T152156Z
LAST-MODIFIED:20260416T081400Z
UID:10000049-1782739800-1782745200@www.wantagebaptist.org.uk
SUMMARY:Mens Chat Group
DESCRIPTION:Meeting at The King’s Centre for coffee\, cake and the opportunity to chat informally together. Contact Nick Liddiard if you’re interested in coming along.
URL:https://www.wantagebaptist.org.uk/event/mens-chat-group/2026-06-29/
LOCATION:The King’s Centre\, King's Walk\, Wantage
END:VEVENT
BEGIN:VEVENT
DTSTART;TZID=Europe/London:20260630T094500
DTEND;TZID=Europe/London:20260630T101500
DTSTAMP:20260425T144429
CREATED:20251206T125457Z
LAST-MODIFIED:20260402T073807Z
UID:10000311-1782812700-1782814500@www.wantagebaptist.org.uk
SUMMARY:The Kings Centre Devotional
DESCRIPTION:Join us at The Kings Centre Wantage for an uplifting devotional offering encouragement\, reflection\, and spiritual growth. \nPlease arrive 5 minutes early if you would like Tea or Coffee
URL:https://www.wantagebaptist.org.uk/event/the-kings-centre-devotional-2/2026-06-30/
LOCATION:The King’s Centre\, King's Walk\, Wantage
END:VEVENT
BEGIN:VEVENT
DTSTART;TZID=Europe/London:20260630T141500
DTEND;TZID=Europe/London:20260630T150000
DTSTAMP:20260425T144429
CREATED:20251206T125630Z
LAST-MODIFIED:20251206T125633Z
UID:10000572-1782828900-1782831600@www.wantagebaptist.org.uk
SUMMARY:Women of Encouragement
DESCRIPTION:Ladies are warmly invited for coffee / tea and chat on a Tuesday afternoon\, 2:15pm in The King’s Centre. \nGuests are encouraged to bring along a testimony\, devotional reading\, etc. to share
URL:https://www.wantagebaptist.org.uk/event/women-of-encouragement-2/2026-06-30/
LOCATION:The King’s Centre\, King's Walk\, Wantage
END:VEVENT
BEGIN:VEVENT
DTSTART;TZID=Europe/London:20260703T100000
DTEND;TZID=Europe/London:20260703T120000
DTSTAMP:20260425T144429
CREATED:20260107T084644Z
LAST-MODIFIED:20260107T095302Z
UID:10003330-1783072800-1783080000@www.wantagebaptist.org.uk
SUMMARY:Needle Craft Group - TKC
DESCRIPTION:Chat Group for Needle Craft and similar activities
URL:https://www.wantagebaptist.org.uk/event/craft-group/2026-07-03/
LOCATION:The King’s Centre\, King's Walk\, Wantage
END:VEVENT
BEGIN:VEVENT
DTSTART;TZID=Europe/London:20260703T130000
DTEND;TZID=Europe/London:20260703T160000
DTSTAMP:20260425T144429
CREATED:20260415T083634Z
LAST-MODIFIED:20260415T083634Z
UID:10004723-1783083600-1783094400@www.wantagebaptist.org.uk
SUMMARY:Just Friends
DESCRIPTION:Just Friends – a time to chat with friends\, both new and old.
URL:https://www.wantagebaptist.org.uk/event/just-friends/2026-07-03/
LOCATION:The King’s Centre\, King's Walk\, Wantage
END:VEVENT
BEGIN:VEVENT
DTSTART;TZID=Europe/London:20260706T133000
DTEND;TZID=Europe/London:20260706T150000
DTSTAMP:20260425T144429
CREATED:20251115T152156Z
LAST-MODIFIED:20260416T081400Z
UID:10000050-1783344600-1783350000@www.wantagebaptist.org.uk
SUMMARY:Mens Chat Group
DESCRIPTION:Meeting at The King’s Centre for coffee\, cake and the opportunity to chat informally together. Contact Nick Liddiard if you’re interested in coming along.
URL:https://www.wantagebaptist.org.uk/event/mens-chat-group/2026-07-06/
LOCATION:The King’s Centre\, King's Walk\, Wantage
END:VEVENT
BEGIN:VEVENT
DTSTART;TZID=Europe/London:20260707T094500
DTEND;TZID=Europe/London:20260707T101500
DTSTAMP:20260425T144429
CREATED:20251206T125457Z
LAST-MODIFIED:20260402T073807Z
UID:10000312-1783417500-1783419300@www.wantagebaptist.org.uk
SUMMARY:The Kings Centre Devotional
DESCRIPTION:Join us at The Kings Centre Wantage for an uplifting devotional offering encouragement\, reflection\, and spiritual growth. \nPlease arrive 5 minutes early if you would like Tea or Coffee
URL:https://www.wantagebaptist.org.uk/event/the-kings-centre-devotional-2/2026-07-07/
LOCATION:The King’s Centre\, King's Walk\, Wantage
END:VEVENT
BEGIN:VEVENT
DTSTART;TZID=Europe/London:20260707T141500
DTEND;TZID=Europe/London:20260707T150000
DTSTAMP:20260425T144429
CREATED:20251206T125630Z
LAST-MODIFIED:20251206T125633Z
UID:10000573-1783433700-1783436400@www.wantagebaptist.org.uk
SUMMARY:Women of Encouragement
DESCRIPTION:Ladies are warmly invited for coffee / tea and chat on a Tuesday afternoon\, 2:15pm in The King’s Centre. \nGuests are encouraged to bring along a testimony\, devotional reading\, etc. to share
URL:https://www.wantagebaptist.org.uk/event/women-of-encouragement-2/2026-07-07/
LOCATION:The King’s Centre\, King's Walk\, Wantage
END:VEVENT
BEGIN:VEVENT
DTSTART;TZID=Europe/London:20260710T100000
DTEND;TZID=Europe/London:20260710T120000
DTSTAMP:20260425T144429
CREATED:20260107T084644Z
LAST-MODIFIED:20260107T095302Z
UID:10003331-1783677600-1783684800@www.wantagebaptist.org.uk
SUMMARY:Needle Craft Group - TKC
DESCRIPTION:Chat Group for Needle Craft and similar activities
URL:https://www.wantagebaptist.org.uk/event/craft-group/2026-07-10/
LOCATION:The King’s Centre\, King's Walk\, Wantage
END:VEVENT
BEGIN:VEVENT
DTSTART;TZID=Europe/London:20260710T130000
DTEND;TZID=Europe/London:20260710T160000
DTSTAMP:20260425T144429
CREATED:20260415T083634Z
LAST-MODIFIED:20260415T083634Z
UID:10004724-1783688400-1783699200@www.wantagebaptist.org.uk
SUMMARY:Just Friends
DESCRIPTION:Just Friends – a time to chat with friends\, both new and old.
URL:https://www.wantagebaptist.org.uk/event/just-friends/2026-07-10/
LOCATION:The King’s Centre\, King's Walk\, Wantage
END:VEVENT
BEGIN:VEVENT
DTSTART;TZID=Europe/London:20260713T133000
DTEND;TZID=Europe/London:20260713T150000
DTSTAMP:20260425T144429
CREATED:20251115T152156Z
LAST-MODIFIED:20260416T081400Z
UID:10000051-1783949400-1783954800@www.wantagebaptist.org.uk
SUMMARY:Mens Chat Group
DESCRIPTION:Meeting at The King’s Centre for coffee\, cake and the opportunity to chat informally together. Contact Nick Liddiard if you’re interested in coming along.
URL:https://www.wantagebaptist.org.uk/event/mens-chat-group/2026-07-13/
LOCATION:The King’s Centre\, King's Walk\, Wantage
END:VEVENT
BEGIN:VEVENT
DTSTART;TZID=Europe/London:20260714T094500
DTEND;TZID=Europe/London:20260714T101500
DTSTAMP:20260425T144429
CREATED:20251206T125457Z
LAST-MODIFIED:20260402T073807Z
UID:10000313-1784022300-1784024100@www.wantagebaptist.org.uk
SUMMARY:The Kings Centre Devotional
DESCRIPTION:Join us at The Kings Centre Wantage for an uplifting devotional offering encouragement\, reflection\, and spiritual growth. \nPlease arrive 5 minutes early if you would like Tea or Coffee
URL:https://www.wantagebaptist.org.uk/event/the-kings-centre-devotional-2/2026-07-14/
LOCATION:The King’s Centre\, King's Walk\, Wantage
END:VEVENT
END:VCALENDAR