BEGIN:VCALENDAR
VERSION:2.0
PRODID:-//Wantage Baptist Church - ECPv6.15.20//NONSGML v1.0//EN
CALSCALE:GREGORIAN
METHOD:PUBLISH
X-ORIGINAL-URL:https://www.wantagebaptist.org.uk
X-WR-CALDESC:Events for Wantage Baptist Church
REFRESH-INTERVAL;VALUE=DURATION:PT1H
X-Robots-Tag:noindex
X-PUBLISHED-TTL:PT1H
BEGIN:VTIMEZONE
TZID:Europe/London
BEGIN:DAYLIGHT
TZOFFSETFROM:+0000
TZOFFSETTO:+0100
TZNAME:BST
DTSTART:20250330T010000
END:DAYLIGHT
BEGIN:STANDARD
TZOFFSETFROM:+0100
TZOFFSETTO:+0000
TZNAME:GMT
DTSTART:20251026T010000
END:STANDARD
BEGIN:DAYLIGHT
TZOFFSETFROM:+0000
TZOFFSETTO:+0100
TZNAME:BST
DTSTART:20260329T010000
END:DAYLIGHT
BEGIN:STANDARD
TZOFFSETFROM:+0100
TZOFFSETTO:+0000
TZNAME:GMT
DTSTART:20261025T010000
END:STANDARD
BEGIN:DAYLIGHT
TZOFFSETFROM:+0000
TZOFFSETTO:+0100
TZNAME:BST
DTSTART:20270328T010000
END:DAYLIGHT
BEGIN:STANDARD
TZOFFSETFROM:+0100
TZOFFSETTO:+0000
TZNAME:GMT
DTSTART:20271031T010000
END:STANDARD
END:VTIMEZONE
BEGIN:VEVENT
DTSTART;TZID=Europe/London:20260707T094500
DTEND;TZID=Europe/London:20260707T101500
DTSTAMP:20260424T185130
CREATED:20251206T125457Z
LAST-MODIFIED:20260402T073807Z
UID:10000312-1783417500-1783419300@www.wantagebaptist.org.uk
SUMMARY:The Kings Centre Devotional
DESCRIPTION:Join us at The Kings Centre Wantage for an uplifting devotional offering encouragement\, reflection\, and spiritual growth. \nPlease arrive 5 minutes early if you would like Tea or Coffee
URL:https://www.wantagebaptist.org.uk/event/the-kings-centre-devotional-2/2026-07-07/
LOCATION:The King’s Centre\, King's Walk\, Wantage
END:VEVENT
BEGIN:VEVENT
DTSTART;TZID=Europe/London:20260707T141500
DTEND;TZID=Europe/London:20260707T150000
DTSTAMP:20260424T185130
CREATED:20251206T125630Z
LAST-MODIFIED:20251206T125633Z
UID:10000573-1783433700-1783436400@www.wantagebaptist.org.uk
SUMMARY:Women of Encouragement
DESCRIPTION:Ladies are warmly invited for coffee / tea and chat on a Tuesday afternoon\, 2:15pm in The King’s Centre. \nGuests are encouraged to bring along a testimony\, devotional reading\, etc. to share
URL:https://www.wantagebaptist.org.uk/event/women-of-encouragement-2/2026-07-07/
LOCATION:The King’s Centre\, King's Walk\, Wantage
END:VEVENT
BEGIN:VEVENT
DTSTART;TZID=Europe/London:20260710T100000
DTEND;TZID=Europe/London:20260710T120000
DTSTAMP:20260424T185130
CREATED:20260107T084644Z
LAST-MODIFIED:20260107T095302Z
UID:10003331-1783677600-1783684800@www.wantagebaptist.org.uk
SUMMARY:Needle Craft Group - TKC
DESCRIPTION:Chat Group for Needle Craft and similar activities
URL:https://www.wantagebaptist.org.uk/event/craft-group/2026-07-10/
LOCATION:The King’s Centre\, King's Walk\, Wantage
END:VEVENT
BEGIN:VEVENT
DTSTART;TZID=Europe/London:20260710T130000
DTEND;TZID=Europe/London:20260710T160000
DTSTAMP:20260424T185130
CREATED:20260415T083634Z
LAST-MODIFIED:20260415T083634Z
UID:10004724-1783688400-1783699200@www.wantagebaptist.org.uk
SUMMARY:Just Friends
DESCRIPTION:Just Friends – a time to chat with friends\, both new and old.
URL:https://www.wantagebaptist.org.uk/event/just-friends/2026-07-10/
LOCATION:The King’s Centre\, King's Walk\, Wantage
END:VEVENT
BEGIN:VEVENT
DTSTART;TZID=Europe/London:20260713T133000
DTEND;TZID=Europe/London:20260713T150000
DTSTAMP:20260424T185130
CREATED:20251115T152156Z
LAST-MODIFIED:20260416T081400Z
UID:10000051-1783949400-1783954800@www.wantagebaptist.org.uk
SUMMARY:Mens Chat Group
DESCRIPTION:Meeting at The King’s Centre for coffee\, cake and the opportunity to chat informally together. Contact Nick Liddiard if you’re interested in coming along.
URL:https://www.wantagebaptist.org.uk/event/mens-chat-group/2026-07-13/
LOCATION:The King’s Centre\, King's Walk\, Wantage
END:VEVENT
BEGIN:VEVENT
DTSTART;TZID=Europe/London:20260714T094500
DTEND;TZID=Europe/London:20260714T101500
DTSTAMP:20260424T185130
CREATED:20251206T125457Z
LAST-MODIFIED:20260402T073807Z
UID:10000313-1784022300-1784024100@www.wantagebaptist.org.uk
SUMMARY:The Kings Centre Devotional
DESCRIPTION:Join us at The Kings Centre Wantage for an uplifting devotional offering encouragement\, reflection\, and spiritual growth. \nPlease arrive 5 minutes early if you would like Tea or Coffee
URL:https://www.wantagebaptist.org.uk/event/the-kings-centre-devotional-2/2026-07-14/
LOCATION:The King’s Centre\, King's Walk\, Wantage
END:VEVENT
BEGIN:VEVENT
DTSTART;TZID=Europe/London:20260714T141500
DTEND;TZID=Europe/London:20260714T150000
DTSTAMP:20260424T185130
CREATED:20251206T125630Z
LAST-MODIFIED:20251206T125633Z
UID:10000574-1784038500-1784041200@www.wantagebaptist.org.uk
SUMMARY:Women of Encouragement
DESCRIPTION:Ladies are warmly invited for coffee / tea and chat on a Tuesday afternoon\, 2:15pm in The King’s Centre. \nGuests are encouraged to bring along a testimony\, devotional reading\, etc. to share
URL:https://www.wantagebaptist.org.uk/event/women-of-encouragement-2/2026-07-14/
LOCATION:The King’s Centre\, King's Walk\, Wantage
END:VEVENT
BEGIN:VEVENT
DTSTART;TZID=Europe/London:20260717T100000
DTEND;TZID=Europe/London:20260717T120000
DTSTAMP:20260424T185130
CREATED:20260107T084644Z
LAST-MODIFIED:20260107T095302Z
UID:10003332-1784282400-1784289600@www.wantagebaptist.org.uk
SUMMARY:Needle Craft Group - TKC
DESCRIPTION:Chat Group for Needle Craft and similar activities
URL:https://www.wantagebaptist.org.uk/event/craft-group/2026-07-17/
LOCATION:The King’s Centre\, King's Walk\, Wantage
END:VEVENT
BEGIN:VEVENT
DTSTART;TZID=Europe/London:20260717T130000
DTEND;TZID=Europe/London:20260717T160000
DTSTAMP:20260424T185130
CREATED:20260415T083634Z
LAST-MODIFIED:20260415T083634Z
UID:10004725-1784293200-1784304000@www.wantagebaptist.org.uk
SUMMARY:Just Friends
DESCRIPTION:Just Friends – a time to chat with friends\, both new and old.
URL:https://www.wantagebaptist.org.uk/event/just-friends/2026-07-17/
LOCATION:The King’s Centre\, King's Walk\, Wantage
END:VEVENT
BEGIN:VEVENT
DTSTART;TZID=Europe/London:20260720T133000
DTEND;TZID=Europe/London:20260720T150000
DTSTAMP:20260424T185130
CREATED:20251115T152156Z
LAST-MODIFIED:20260416T081400Z
UID:10000052-1784554200-1784559600@www.wantagebaptist.org.uk
SUMMARY:Mens Chat Group
DESCRIPTION:Meeting at The King’s Centre for coffee\, cake and the opportunity to chat informally together. Contact Nick Liddiard if you’re interested in coming along.
URL:https://www.wantagebaptist.org.uk/event/mens-chat-group/2026-07-20/
LOCATION:The King’s Centre\, King's Walk\, Wantage
END:VEVENT
BEGIN:VEVENT
DTSTART;TZID=Europe/London:20260721T094500
DTEND;TZID=Europe/London:20260721T101500
DTSTAMP:20260424T185130
CREATED:20251206T125457Z
LAST-MODIFIED:20260402T073807Z
UID:10000314-1784627100-1784628900@www.wantagebaptist.org.uk
SUMMARY:The Kings Centre Devotional
DESCRIPTION:Join us at The Kings Centre Wantage for an uplifting devotional offering encouragement\, reflection\, and spiritual growth. \nPlease arrive 5 minutes early if you would like Tea or Coffee
URL:https://www.wantagebaptist.org.uk/event/the-kings-centre-devotional-2/2026-07-21/
LOCATION:The King’s Centre\, King's Walk\, Wantage
END:VEVENT
BEGIN:VEVENT
DTSTART;TZID=Europe/London:20260721T141500
DTEND;TZID=Europe/London:20260721T150000
DTSTAMP:20260424T185130
CREATED:20251206T125630Z
LAST-MODIFIED:20251206T125633Z
UID:10000575-1784643300-1784646000@www.wantagebaptist.org.uk
SUMMARY:Women of Encouragement
DESCRIPTION:Ladies are warmly invited for coffee / tea and chat on a Tuesday afternoon\, 2:15pm in The King’s Centre. \nGuests are encouraged to bring along a testimony\, devotional reading\, etc. to share
URL:https://www.wantagebaptist.org.uk/event/women-of-encouragement-2/2026-07-21/
LOCATION:The King’s Centre\, King's Walk\, Wantage
END:VEVENT
BEGIN:VEVENT
DTSTART;TZID=Europe/London:20260724T100000
DTEND;TZID=Europe/London:20260724T120000
DTSTAMP:20260424T185130
CREATED:20260107T084644Z
LAST-MODIFIED:20260107T095302Z
UID:10003333-1784887200-1784894400@www.wantagebaptist.org.uk
SUMMARY:Needle Craft Group - TKC
DESCRIPTION:Chat Group for Needle Craft and similar activities
URL:https://www.wantagebaptist.org.uk/event/craft-group/2026-07-24/
LOCATION:The King’s Centre\, King's Walk\, Wantage
END:VEVENT
BEGIN:VEVENT
DTSTART;TZID=Europe/London:20260724T130000
DTEND;TZID=Europe/London:20260724T160000
DTSTAMP:20260424T185130
CREATED:20260415T083634Z
LAST-MODIFIED:20260415T083634Z
UID:10004726-1784898000-1784908800@www.wantagebaptist.org.uk
SUMMARY:Just Friends
DESCRIPTION:Just Friends – a time to chat with friends\, both new and old.
URL:https://www.wantagebaptist.org.uk/event/just-friends/2026-07-24/
LOCATION:The King’s Centre\, King's Walk\, Wantage
END:VEVENT
BEGIN:VEVENT
DTSTART;TZID=Europe/London:20260727T133000
DTEND;TZID=Europe/London:20260727T150000
DTSTAMP:20260424T185130
CREATED:20251115T152156Z
LAST-MODIFIED:20260416T081400Z
UID:10000053-1785159000-1785164400@www.wantagebaptist.org.uk
SUMMARY:Mens Chat Group
DESCRIPTION:Meeting at The King’s Centre for coffee\, cake and the opportunity to chat informally together. Contact Nick Liddiard if you’re interested in coming along.
URL:https://www.wantagebaptist.org.uk/event/mens-chat-group/2026-07-27/
LOCATION:The King’s Centre\, King's Walk\, Wantage
END:VEVENT
BEGIN:VEVENT
DTSTART;TZID=Europe/London:20260728T094500
DTEND;TZID=Europe/London:20260728T101500
DTSTAMP:20260424T185130
CREATED:20251206T125457Z
LAST-MODIFIED:20260402T073807Z
UID:10000315-1785231900-1785233700@www.wantagebaptist.org.uk
SUMMARY:The Kings Centre Devotional
DESCRIPTION:Join us at The Kings Centre Wantage for an uplifting devotional offering encouragement\, reflection\, and spiritual growth. \nPlease arrive 5 minutes early if you would like Tea or Coffee
URL:https://www.wantagebaptist.org.uk/event/the-kings-centre-devotional-2/2026-07-28/
LOCATION:The King’s Centre\, King's Walk\, Wantage
END:VEVENT
BEGIN:VEVENT
DTSTART;TZID=Europe/London:20260728T141500
DTEND;TZID=Europe/London:20260728T150000
DTSTAMP:20260424T185130
CREATED:20251206T125630Z
LAST-MODIFIED:20251206T125633Z
UID:10000576-1785248100-1785250800@www.wantagebaptist.org.uk
SUMMARY:Women of Encouragement
DESCRIPTION:Ladies are warmly invited for coffee / tea and chat on a Tuesday afternoon\, 2:15pm in The King’s Centre. \nGuests are encouraged to bring along a testimony\, devotional reading\, etc. to share
URL:https://www.wantagebaptist.org.uk/event/women-of-encouragement-2/2026-07-28/
LOCATION:The King’s Centre\, King's Walk\, Wantage
END:VEVENT
BEGIN:VEVENT
DTSTART;TZID=Europe/London:20260731T100000
DTEND;TZID=Europe/London:20260731T120000
DTSTAMP:20260424T185130
CREATED:20260107T084644Z
LAST-MODIFIED:20260107T095302Z
UID:10003334-1785492000-1785499200@www.wantagebaptist.org.uk
SUMMARY:Needle Craft Group - TKC
DESCRIPTION:Chat Group for Needle Craft and similar activities
URL:https://www.wantagebaptist.org.uk/event/craft-group/2026-07-31/
LOCATION:The King’s Centre\, King's Walk\, Wantage
END:VEVENT
BEGIN:VEVENT
DTSTART;TZID=Europe/London:20260731T130000
DTEND;TZID=Europe/London:20260731T160000
DTSTAMP:20260424T185130
CREATED:20260415T083634Z
LAST-MODIFIED:20260415T083634Z
UID:10004727-1785502800-1785513600@www.wantagebaptist.org.uk
SUMMARY:Just Friends
DESCRIPTION:Just Friends – a time to chat with friends\, both new and old.
URL:https://www.wantagebaptist.org.uk/event/just-friends/2026-07-31/
LOCATION:The King’s Centre\, King's Walk\, Wantage
END:VEVENT
BEGIN:VEVENT
DTSTART;TZID=Europe/London:20260804T094500
DTEND;TZID=Europe/London:20260804T101500
DTSTAMP:20260424T185130
CREATED:20251206T125457Z
LAST-MODIFIED:20260402T073807Z
UID:10000316-1785836700-1785838500@www.wantagebaptist.org.uk
SUMMARY:The Kings Centre Devotional
DESCRIPTION:Join us at The Kings Centre Wantage for an uplifting devotional offering encouragement\, reflection\, and spiritual growth. \nPlease arrive 5 minutes early if you would like Tea or Coffee
URL:https://www.wantagebaptist.org.uk/event/the-kings-centre-devotional-2/2026-08-04/
LOCATION:The King’s Centre\, King's Walk\, Wantage
END:VEVENT
BEGIN:VEVENT
DTSTART;TZID=Europe/London:20260804T141500
DTEND;TZID=Europe/London:20260804T150000
DTSTAMP:20260424T185130
CREATED:20251206T125630Z
LAST-MODIFIED:20251206T125633Z
UID:10000577-1785852900-1785855600@www.wantagebaptist.org.uk
SUMMARY:Women of Encouragement
DESCRIPTION:Ladies are warmly invited for coffee / tea and chat on a Tuesday afternoon\, 2:15pm in The King’s Centre. \nGuests are encouraged to bring along a testimony\, devotional reading\, etc. to share
URL:https://www.wantagebaptist.org.uk/event/women-of-encouragement-2/2026-08-04/
LOCATION:The King’s Centre\, King's Walk\, Wantage
END:VEVENT
BEGIN:VEVENT
DTSTART;TZID=Europe/London:20260807T100000
DTEND;TZID=Europe/London:20260807T120000
DTSTAMP:20260424T185130
CREATED:20260107T084644Z
LAST-MODIFIED:20260107T095302Z
UID:10003335-1786096800-1786104000@www.wantagebaptist.org.uk
SUMMARY:Needle Craft Group - TKC
DESCRIPTION:Chat Group for Needle Craft and similar activities
URL:https://www.wantagebaptist.org.uk/event/craft-group/2026-08-07/
LOCATION:The King’s Centre\, King's Walk\, Wantage
END:VEVENT
BEGIN:VEVENT
DTSTART;TZID=Europe/London:20260807T130000
DTEND;TZID=Europe/London:20260807T160000
DTSTAMP:20260424T185130
CREATED:20260415T083634Z
LAST-MODIFIED:20260415T083634Z
UID:10004728-1786107600-1786118400@www.wantagebaptist.org.uk
SUMMARY:Just Friends
DESCRIPTION:Just Friends – a time to chat with friends\, both new and old.
URL:https://www.wantagebaptist.org.uk/event/just-friends/2026-08-07/
LOCATION:The King’s Centre\, King's Walk\, Wantage
END:VEVENT
BEGIN:VEVENT
DTSTART;TZID=Europe/London:20260811T094500
DTEND;TZID=Europe/London:20260811T101500
DTSTAMP:20260424T185130
CREATED:20251206T125457Z
LAST-MODIFIED:20260402T073807Z
UID:10000317-1786441500-1786443300@www.wantagebaptist.org.uk
SUMMARY:The Kings Centre Devotional
DESCRIPTION:Join us at The Kings Centre Wantage for an uplifting devotional offering encouragement\, reflection\, and spiritual growth. \nPlease arrive 5 minutes early if you would like Tea or Coffee
URL:https://www.wantagebaptist.org.uk/event/the-kings-centre-devotional-2/2026-08-11/
LOCATION:The King’s Centre\, King's Walk\, Wantage
END:VEVENT
BEGIN:VEVENT
DTSTART;TZID=Europe/London:20260811T141500
DTEND;TZID=Europe/London:20260811T150000
DTSTAMP:20260424T185130
CREATED:20251206T125630Z
LAST-MODIFIED:20251206T125633Z
UID:10000578-1786457700-1786460400@www.wantagebaptist.org.uk
SUMMARY:Women of Encouragement
DESCRIPTION:Ladies are warmly invited for coffee / tea and chat on a Tuesday afternoon\, 2:15pm in The King’s Centre. \nGuests are encouraged to bring along a testimony\, devotional reading\, etc. to share
URL:https://www.wantagebaptist.org.uk/event/women-of-encouragement-2/2026-08-11/
LOCATION:The King’s Centre\, King's Walk\, Wantage
END:VEVENT
BEGIN:VEVENT
DTSTART;TZID=Europe/London:20260814T100000
DTEND;TZID=Europe/London:20260814T120000
DTSTAMP:20260424T185130
CREATED:20260107T084644Z
LAST-MODIFIED:20260107T095302Z
UID:10003336-1786701600-1786708800@www.wantagebaptist.org.uk
SUMMARY:Needle Craft Group - TKC
DESCRIPTION:Chat Group for Needle Craft and similar activities
URL:https://www.wantagebaptist.org.uk/event/craft-group/2026-08-14/
LOCATION:The King’s Centre\, King's Walk\, Wantage
END:VEVENT
BEGIN:VEVENT
DTSTART;TZID=Europe/London:20260814T130000
DTEND;TZID=Europe/London:20260814T160000
DTSTAMP:20260424T185130
CREATED:20260415T083634Z
LAST-MODIFIED:20260415T083634Z
UID:10004729-1786712400-1786723200@www.wantagebaptist.org.uk
SUMMARY:Just Friends
DESCRIPTION:Just Friends – a time to chat with friends\, both new and old.
URL:https://www.wantagebaptist.org.uk/event/just-friends/2026-08-14/
LOCATION:The King’s Centre\, King's Walk\, Wantage
END:VEVENT
BEGIN:VEVENT
DTSTART;TZID=Europe/London:20260818T094500
DTEND;TZID=Europe/London:20260818T101500
DTSTAMP:20260424T185130
CREATED:20251206T125457Z
LAST-MODIFIED:20260402T073807Z
UID:10000318-1787046300-1787048100@www.wantagebaptist.org.uk
SUMMARY:The Kings Centre Devotional
DESCRIPTION:Join us at The Kings Centre Wantage for an uplifting devotional offering encouragement\, reflection\, and spiritual growth. \nPlease arrive 5 minutes early if you would like Tea or Coffee
URL:https://www.wantagebaptist.org.uk/event/the-kings-centre-devotional-2/2026-08-18/
LOCATION:The King’s Centre\, King's Walk\, Wantage
END:VEVENT
BEGIN:VEVENT
DTSTART;TZID=Europe/London:20260818T141500
DTEND;TZID=Europe/London:20260818T150000
DTSTAMP:20260424T185130
CREATED:20251206T125630Z
LAST-MODIFIED:20251206T125633Z
UID:10000579-1787062500-1787065200@www.wantagebaptist.org.uk
SUMMARY:Women of Encouragement
DESCRIPTION:Ladies are warmly invited for coffee / tea and chat on a Tuesday afternoon\, 2:15pm in The King’s Centre. \nGuests are encouraged to bring along a testimony\, devotional reading\, etc. to share
URL:https://www.wantagebaptist.org.uk/event/women-of-encouragement-2/2026-08-18/
LOCATION:The King’s Centre\, King's Walk\, Wantage
END:VEVENT
BEGIN:VEVENT
DTSTART;TZID=Europe/London:20260821T100000
DTEND;TZID=Europe/London:20260821T120000
DTSTAMP:20260424T185130
CREATED:20260107T084644Z
LAST-MODIFIED:20260107T095302Z
UID:10003337-1787306400-1787313600@www.wantagebaptist.org.uk
SUMMARY:Needle Craft Group - TKC
DESCRIPTION:Chat Group for Needle Craft and similar activities
URL:https://www.wantagebaptist.org.uk/event/craft-group/2026-08-21/
LOCATION:The King’s Centre\, King's Walk\, Wantage
END:VEVENT
END:VCALENDAR