BEGIN:VCALENDAR
VERSION:2.0
PRODID:-//Wantage Baptist Church - ECPv6.15.20//NONSGML v1.0//EN
CALSCALE:GREGORIAN
METHOD:PUBLISH
X-WR-CALNAME:Wantage Baptist Church
X-ORIGINAL-URL:https://www.wantagebaptist.org.uk
X-WR-CALDESC:Events for Wantage Baptist Church
REFRESH-INTERVAL;VALUE=DURATION:PT1H
X-Robots-Tag:noindex
X-PUBLISHED-TTL:PT1H
BEGIN:VTIMEZONE
TZID:Europe/London
BEGIN:DAYLIGHT
TZOFFSETFROM:+0000
TZOFFSETTO:+0100
TZNAME:BST
DTSTART:20250330T010000
END:DAYLIGHT
BEGIN:STANDARD
TZOFFSETFROM:+0100
TZOFFSETTO:+0000
TZNAME:GMT
DTSTART:20251026T010000
END:STANDARD
BEGIN:DAYLIGHT
TZOFFSETFROM:+0000
TZOFFSETTO:+0100
TZNAME:BST
DTSTART:20260329T010000
END:DAYLIGHT
BEGIN:STANDARD
TZOFFSETFROM:+0100
TZOFFSETTO:+0000
TZNAME:GMT
DTSTART:20261025T010000
END:STANDARD
BEGIN:DAYLIGHT
TZOFFSETFROM:+0000
TZOFFSETTO:+0100
TZNAME:BST
DTSTART:20270328T010000
END:DAYLIGHT
BEGIN:STANDARD
TZOFFSETFROM:+0100
TZOFFSETTO:+0000
TZNAME:GMT
DTSTART:20271031T010000
END:STANDARD
END:VTIMEZONE
BEGIN:VEVENT
DTSTART;TZID=Europe/London:20260901T141500
DTEND;TZID=Europe/London:20260901T150000
DTSTAMP:20260425T113745
CREATED:20251206T125630Z
LAST-MODIFIED:20251206T125633Z
UID:10000581-1788272100-1788274800@www.wantagebaptist.org.uk
SUMMARY:Women of Encouragement
DESCRIPTION:Ladies are warmly invited for coffee / tea and chat on a Tuesday afternoon\, 2:15pm in The King’s Centre. \nGuests are encouraged to bring along a testimony\, devotional reading\, etc. to share
URL:https://www.wantagebaptist.org.uk/event/women-of-encouragement-2/2026-09-01/
LOCATION:The King’s Centre\, King's Walk\, Wantage
END:VEVENT
BEGIN:VEVENT
DTSTART;TZID=Europe/London:20260904T100000
DTEND;TZID=Europe/London:20260904T120000
DTSTAMP:20260425T113745
CREATED:20260107T084644Z
LAST-MODIFIED:20260107T095302Z
UID:10003339-1788516000-1788523200@www.wantagebaptist.org.uk
SUMMARY:Needle Craft Group - TKC
DESCRIPTION:Chat Group for Needle Craft and similar activities
URL:https://www.wantagebaptist.org.uk/event/craft-group/2026-09-04/
LOCATION:The King’s Centre\, King's Walk\, Wantage
END:VEVENT
BEGIN:VEVENT
DTSTART;TZID=Europe/London:20260904T130000
DTEND;TZID=Europe/London:20260904T160000
DTSTAMP:20260425T113745
CREATED:20260415T083634Z
LAST-MODIFIED:20260415T083634Z
UID:10004732-1788526800-1788537600@www.wantagebaptist.org.uk
SUMMARY:Just Friends
DESCRIPTION:Just Friends – a time to chat with friends\, both new and old.
URL:https://www.wantagebaptist.org.uk/event/just-friends/2026-09-04/
LOCATION:The King’s Centre\, King's Walk\, Wantage
END:VEVENT
BEGIN:VEVENT
DTSTART;TZID=Europe/London:20260907T133000
DTEND;TZID=Europe/London:20260907T150000
DTSTAMP:20260425T113745
CREATED:20251115T152156Z
LAST-MODIFIED:20260416T081400Z
UID:10000059-1788787800-1788793200@www.wantagebaptist.org.uk
SUMMARY:Mens Chat Group
DESCRIPTION:Meeting at The King’s Centre for coffee\, cake and the opportunity to chat informally together. Contact Nick Liddiard if you’re interested in coming along.
URL:https://www.wantagebaptist.org.uk/event/mens-chat-group/2026-09-07/
LOCATION:The King’s Centre\, King's Walk\, Wantage
END:VEVENT
BEGIN:VEVENT
DTSTART;TZID=Europe/London:20260908T094500
DTEND;TZID=Europe/London:20260908T101500
DTSTAMP:20260425T113745
CREATED:20251206T125457Z
LAST-MODIFIED:20260402T073807Z
UID:10000321-1788860700-1788862500@www.wantagebaptist.org.uk
SUMMARY:The Kings Centre Devotional
DESCRIPTION:Join us at The Kings Centre Wantage for an uplifting devotional offering encouragement\, reflection\, and spiritual growth. \nPlease arrive 5 minutes early if you would like Tea or Coffee
URL:https://www.wantagebaptist.org.uk/event/the-kings-centre-devotional-2/2026-09-08/
LOCATION:The King’s Centre\, King's Walk\, Wantage
END:VEVENT
BEGIN:VEVENT
DTSTART;TZID=Europe/London:20260908T141500
DTEND;TZID=Europe/London:20260908T150000
DTSTAMP:20260425T113745
CREATED:20251206T125630Z
LAST-MODIFIED:20251206T125633Z
UID:10000582-1788876900-1788879600@www.wantagebaptist.org.uk
SUMMARY:Women of Encouragement
DESCRIPTION:Ladies are warmly invited for coffee / tea and chat on a Tuesday afternoon\, 2:15pm in The King’s Centre. \nGuests are encouraged to bring along a testimony\, devotional reading\, etc. to share
URL:https://www.wantagebaptist.org.uk/event/women-of-encouragement-2/2026-09-08/
LOCATION:The King’s Centre\, King's Walk\, Wantage
END:VEVENT
BEGIN:VEVENT
DTSTART;TZID=Europe/London:20260911T100000
DTEND;TZID=Europe/London:20260911T120000
DTSTAMP:20260425T113745
CREATED:20260107T084644Z
LAST-MODIFIED:20260107T095302Z
UID:10003340-1789120800-1789128000@www.wantagebaptist.org.uk
SUMMARY:Needle Craft Group - TKC
DESCRIPTION:Chat Group for Needle Craft and similar activities
URL:https://www.wantagebaptist.org.uk/event/craft-group/2026-09-11/
LOCATION:The King’s Centre\, King's Walk\, Wantage
END:VEVENT
BEGIN:VEVENT
DTSTART;TZID=Europe/London:20260911T130000
DTEND;TZID=Europe/London:20260911T160000
DTSTAMP:20260425T113745
CREATED:20260415T083634Z
LAST-MODIFIED:20260415T083634Z
UID:10004733-1789131600-1789142400@www.wantagebaptist.org.uk
SUMMARY:Just Friends
DESCRIPTION:Just Friends – a time to chat with friends\, both new and old.
URL:https://www.wantagebaptist.org.uk/event/just-friends/2026-09-11/
LOCATION:The King’s Centre\, King's Walk\, Wantage
END:VEVENT
BEGIN:VEVENT
DTSTART;TZID=Europe/London:20260914T133000
DTEND;TZID=Europe/London:20260914T150000
DTSTAMP:20260425T113745
CREATED:20251115T152156Z
LAST-MODIFIED:20260416T081400Z
UID:10000060-1789392600-1789398000@www.wantagebaptist.org.uk
SUMMARY:Mens Chat Group
DESCRIPTION:Meeting at The King’s Centre for coffee\, cake and the opportunity to chat informally together. Contact Nick Liddiard if you’re interested in coming along.
URL:https://www.wantagebaptist.org.uk/event/mens-chat-group/2026-09-14/
LOCATION:The King’s Centre\, King's Walk\, Wantage
END:VEVENT
BEGIN:VEVENT
DTSTART;TZID=Europe/London:20260915T094500
DTEND;TZID=Europe/London:20260915T101500
DTSTAMP:20260425T113745
CREATED:20251206T125457Z
LAST-MODIFIED:20260402T073807Z
UID:10000322-1789465500-1789467300@www.wantagebaptist.org.uk
SUMMARY:The Kings Centre Devotional
DESCRIPTION:Join us at The Kings Centre Wantage for an uplifting devotional offering encouragement\, reflection\, and spiritual growth. \nPlease arrive 5 minutes early if you would like Tea or Coffee
URL:https://www.wantagebaptist.org.uk/event/the-kings-centre-devotional-2/2026-09-15/
LOCATION:The King’s Centre\, King's Walk\, Wantage
END:VEVENT
BEGIN:VEVENT
DTSTART;TZID=Europe/London:20260915T141500
DTEND;TZID=Europe/London:20260915T150000
DTSTAMP:20260425T113745
CREATED:20251206T125630Z
LAST-MODIFIED:20251206T125633Z
UID:10000583-1789481700-1789484400@www.wantagebaptist.org.uk
SUMMARY:Women of Encouragement
DESCRIPTION:Ladies are warmly invited for coffee / tea and chat on a Tuesday afternoon\, 2:15pm in The King’s Centre. \nGuests are encouraged to bring along a testimony\, devotional reading\, etc. to share
URL:https://www.wantagebaptist.org.uk/event/women-of-encouragement-2/2026-09-15/
LOCATION:The King’s Centre\, King's Walk\, Wantage
END:VEVENT
BEGIN:VEVENT
DTSTART;TZID=Europe/London:20260918T100000
DTEND;TZID=Europe/London:20260918T120000
DTSTAMP:20260425T113745
CREATED:20260107T084644Z
LAST-MODIFIED:20260107T095302Z
UID:10003341-1789725600-1789732800@www.wantagebaptist.org.uk
SUMMARY:Needle Craft Group - TKC
DESCRIPTION:Chat Group for Needle Craft and similar activities
URL:https://www.wantagebaptist.org.uk/event/craft-group/2026-09-18/
LOCATION:The King’s Centre\, King's Walk\, Wantage
END:VEVENT
BEGIN:VEVENT
DTSTART;TZID=Europe/London:20260918T130000
DTEND;TZID=Europe/London:20260918T160000
DTSTAMP:20260425T113745
CREATED:20260415T083634Z
LAST-MODIFIED:20260415T083634Z
UID:10004734-1789736400-1789747200@www.wantagebaptist.org.uk
SUMMARY:Just Friends
DESCRIPTION:Just Friends – a time to chat with friends\, both new and old.
URL:https://www.wantagebaptist.org.uk/event/just-friends/2026-09-18/
LOCATION:The King’s Centre\, King's Walk\, Wantage
END:VEVENT
BEGIN:VEVENT
DTSTART;TZID=Europe/London:20260921T133000
DTEND;TZID=Europe/London:20260921T150000
DTSTAMP:20260425T113745
CREATED:20251115T152156Z
LAST-MODIFIED:20260416T081400Z
UID:10000061-1789997400-1790002800@www.wantagebaptist.org.uk
SUMMARY:Mens Chat Group
DESCRIPTION:Meeting at The King’s Centre for coffee\, cake and the opportunity to chat informally together. Contact Nick Liddiard if you’re interested in coming along.
URL:https://www.wantagebaptist.org.uk/event/mens-chat-group/2026-09-21/
LOCATION:The King’s Centre\, King's Walk\, Wantage
END:VEVENT
BEGIN:VEVENT
DTSTART;TZID=Europe/London:20260922T094500
DTEND;TZID=Europe/London:20260922T101500
DTSTAMP:20260425T113745
CREATED:20251206T125457Z
LAST-MODIFIED:20260402T073807Z
UID:10000323-1790070300-1790072100@www.wantagebaptist.org.uk
SUMMARY:The Kings Centre Devotional
DESCRIPTION:Join us at The Kings Centre Wantage for an uplifting devotional offering encouragement\, reflection\, and spiritual growth. \nPlease arrive 5 minutes early if you would like Tea or Coffee
URL:https://www.wantagebaptist.org.uk/event/the-kings-centre-devotional-2/2026-09-22/
LOCATION:The King’s Centre\, King's Walk\, Wantage
END:VEVENT
BEGIN:VEVENT
DTSTART;TZID=Europe/London:20260922T141500
DTEND;TZID=Europe/London:20260922T150000
DTSTAMP:20260425T113745
CREATED:20251206T125630Z
LAST-MODIFIED:20251206T125633Z
UID:10000584-1790086500-1790089200@www.wantagebaptist.org.uk
SUMMARY:Women of Encouragement
DESCRIPTION:Ladies are warmly invited for coffee / tea and chat on a Tuesday afternoon\, 2:15pm in The King’s Centre. \nGuests are encouraged to bring along a testimony\, devotional reading\, etc. to share
URL:https://www.wantagebaptist.org.uk/event/women-of-encouragement-2/2026-09-22/
LOCATION:The King’s Centre\, King's Walk\, Wantage
END:VEVENT
BEGIN:VEVENT
DTSTART;TZID=Europe/London:20260925T100000
DTEND;TZID=Europe/London:20260925T120000
DTSTAMP:20260425T113745
CREATED:20260107T084644Z
LAST-MODIFIED:20260107T095302Z
UID:10003342-1790330400-1790337600@www.wantagebaptist.org.uk
SUMMARY:Needle Craft Group - TKC
DESCRIPTION:Chat Group for Needle Craft and similar activities
URL:https://www.wantagebaptist.org.uk/event/craft-group/2026-09-25/
LOCATION:The King’s Centre\, King's Walk\, Wantage
END:VEVENT
BEGIN:VEVENT
DTSTART;TZID=Europe/London:20260925T130000
DTEND;TZID=Europe/London:20260925T160000
DTSTAMP:20260425T113745
CREATED:20260415T083634Z
LAST-MODIFIED:20260415T083634Z
UID:10004735-1790341200-1790352000@www.wantagebaptist.org.uk
SUMMARY:Just Friends
DESCRIPTION:Just Friends – a time to chat with friends\, both new and old.
URL:https://www.wantagebaptist.org.uk/event/just-friends/2026-09-25/
LOCATION:The King’s Centre\, King's Walk\, Wantage
END:VEVENT
BEGIN:VEVENT
DTSTART;TZID=Europe/London:20260928T133000
DTEND;TZID=Europe/London:20260928T150000
DTSTAMP:20260425T113745
CREATED:20251115T152156Z
LAST-MODIFIED:20260416T081400Z
UID:10000062-1790602200-1790607600@www.wantagebaptist.org.uk
SUMMARY:Mens Chat Group
DESCRIPTION:Meeting at The King’s Centre for coffee\, cake and the opportunity to chat informally together. Contact Nick Liddiard if you’re interested in coming along.
URL:https://www.wantagebaptist.org.uk/event/mens-chat-group/2026-09-28/
LOCATION:The King’s Centre\, King's Walk\, Wantage
END:VEVENT
BEGIN:VEVENT
DTSTART;TZID=Europe/London:20260929T094500
DTEND;TZID=Europe/London:20260929T101500
DTSTAMP:20260425T113746
CREATED:20251206T125457Z
LAST-MODIFIED:20260402T073807Z
UID:10000324-1790675100-1790676900@www.wantagebaptist.org.uk
SUMMARY:The Kings Centre Devotional
DESCRIPTION:Join us at The Kings Centre Wantage for an uplifting devotional offering encouragement\, reflection\, and spiritual growth. \nPlease arrive 5 minutes early if you would like Tea or Coffee
URL:https://www.wantagebaptist.org.uk/event/the-kings-centre-devotional-2/2026-09-29/
LOCATION:The King’s Centre\, King's Walk\, Wantage
END:VEVENT
BEGIN:VEVENT
DTSTART;TZID=Europe/London:20260929T141500
DTEND;TZID=Europe/London:20260929T150000
DTSTAMP:20260425T113746
CREATED:20251206T125630Z
LAST-MODIFIED:20251206T125633Z
UID:10000585-1790691300-1790694000@www.wantagebaptist.org.uk
SUMMARY:Women of Encouragement
DESCRIPTION:Ladies are warmly invited for coffee / tea and chat on a Tuesday afternoon\, 2:15pm in The King’s Centre. \nGuests are encouraged to bring along a testimony\, devotional reading\, etc. to share
URL:https://www.wantagebaptist.org.uk/event/women-of-encouragement-2/2026-09-29/
LOCATION:The King’s Centre\, King's Walk\, Wantage
END:VEVENT
BEGIN:VEVENT
DTSTART;TZID=Europe/London:20261002T100000
DTEND;TZID=Europe/London:20261002T120000
DTSTAMP:20260425T113746
CREATED:20260107T084644Z
LAST-MODIFIED:20260107T095302Z
UID:10003343-1790935200-1790942400@www.wantagebaptist.org.uk
SUMMARY:Needle Craft Group - TKC
DESCRIPTION:Chat Group for Needle Craft and similar activities
URL:https://www.wantagebaptist.org.uk/event/craft-group/2026-10-02/
LOCATION:The King’s Centre\, King's Walk\, Wantage
END:VEVENT
BEGIN:VEVENT
DTSTART;TZID=Europe/London:20261002T130000
DTEND;TZID=Europe/London:20261002T160000
DTSTAMP:20260425T113746
CREATED:20260415T083634Z
LAST-MODIFIED:20260415T083634Z
UID:10004736-1790946000-1790956800@www.wantagebaptist.org.uk
SUMMARY:Just Friends
DESCRIPTION:Just Friends – a time to chat with friends\, both new and old.
URL:https://www.wantagebaptist.org.uk/event/just-friends/2026-10-02/
LOCATION:The King’s Centre\, King's Walk\, Wantage
END:VEVENT
BEGIN:VEVENT
DTSTART;TZID=Europe/London:20261005T133000
DTEND;TZID=Europe/London:20261005T150000
DTSTAMP:20260425T113746
CREATED:20251115T152156Z
LAST-MODIFIED:20260416T081400Z
UID:10000063-1791207000-1791212400@www.wantagebaptist.org.uk
SUMMARY:Mens Chat Group
DESCRIPTION:Meeting at The King’s Centre for coffee\, cake and the opportunity to chat informally together. Contact Nick Liddiard if you’re interested in coming along.
URL:https://www.wantagebaptist.org.uk/event/mens-chat-group/2026-10-05/
LOCATION:The King’s Centre\, King's Walk\, Wantage
END:VEVENT
BEGIN:VEVENT
DTSTART;TZID=Europe/London:20261006T094500
DTEND;TZID=Europe/London:20261006T101500
DTSTAMP:20260425T113746
CREATED:20251206T125457Z
LAST-MODIFIED:20260402T073807Z
UID:10000325-1791279900-1791281700@www.wantagebaptist.org.uk
SUMMARY:The Kings Centre Devotional
DESCRIPTION:Join us at The Kings Centre Wantage for an uplifting devotional offering encouragement\, reflection\, and spiritual growth. \nPlease arrive 5 minutes early if you would like Tea or Coffee
URL:https://www.wantagebaptist.org.uk/event/the-kings-centre-devotional-2/2026-10-06/
LOCATION:The King’s Centre\, King's Walk\, Wantage
END:VEVENT
BEGIN:VEVENT
DTSTART;TZID=Europe/London:20261006T141500
DTEND;TZID=Europe/London:20261006T150000
DTSTAMP:20260425T113746
CREATED:20251206T125630Z
LAST-MODIFIED:20251206T125633Z
UID:10000586-1791296100-1791298800@www.wantagebaptist.org.uk
SUMMARY:Women of Encouragement
DESCRIPTION:Ladies are warmly invited for coffee / tea and chat on a Tuesday afternoon\, 2:15pm in The King’s Centre. \nGuests are encouraged to bring along a testimony\, devotional reading\, etc. to share
URL:https://www.wantagebaptist.org.uk/event/women-of-encouragement-2/2026-10-06/
LOCATION:The King’s Centre\, King's Walk\, Wantage
END:VEVENT
BEGIN:VEVENT
DTSTART;TZID=Europe/London:20261009T100000
DTEND;TZID=Europe/London:20261009T120000
DTSTAMP:20260425T113746
CREATED:20260107T084644Z
LAST-MODIFIED:20260107T095302Z
UID:10003344-1791540000-1791547200@www.wantagebaptist.org.uk
SUMMARY:Needle Craft Group - TKC
DESCRIPTION:Chat Group for Needle Craft and similar activities
URL:https://www.wantagebaptist.org.uk/event/craft-group/2026-10-09/
LOCATION:The King’s Centre\, King's Walk\, Wantage
END:VEVENT
BEGIN:VEVENT
DTSTART;TZID=Europe/London:20261009T130000
DTEND;TZID=Europe/London:20261009T160000
DTSTAMP:20260425T113746
CREATED:20260415T083634Z
LAST-MODIFIED:20260415T083634Z
UID:10004737-1791550800-1791561600@www.wantagebaptist.org.uk
SUMMARY:Just Friends
DESCRIPTION:Just Friends – a time to chat with friends\, both new and old.
URL:https://www.wantagebaptist.org.uk/event/just-friends/2026-10-09/
LOCATION:The King’s Centre\, King's Walk\, Wantage
END:VEVENT
BEGIN:VEVENT
DTSTART;TZID=Europe/London:20261012T133000
DTEND;TZID=Europe/London:20261012T150000
DTSTAMP:20260425T113746
CREATED:20251115T152156Z
LAST-MODIFIED:20260416T081400Z
UID:10000064-1791811800-1791817200@www.wantagebaptist.org.uk
SUMMARY:Mens Chat Group
DESCRIPTION:Meeting at The King’s Centre for coffee\, cake and the opportunity to chat informally together. Contact Nick Liddiard if you’re interested in coming along.
URL:https://www.wantagebaptist.org.uk/event/mens-chat-group/2026-10-12/
LOCATION:The King’s Centre\, King's Walk\, Wantage
END:VEVENT
BEGIN:VEVENT
DTSTART;TZID=Europe/London:20261013T094500
DTEND;TZID=Europe/London:20261013T101500
DTSTAMP:20260425T113746
CREATED:20251206T125457Z
LAST-MODIFIED:20260402T073807Z
UID:10000326-1791884700-1791886500@www.wantagebaptist.org.uk
SUMMARY:The Kings Centre Devotional
DESCRIPTION:Join us at The Kings Centre Wantage for an uplifting devotional offering encouragement\, reflection\, and spiritual growth. \nPlease arrive 5 minutes early if you would like Tea or Coffee
URL:https://www.wantagebaptist.org.uk/event/the-kings-centre-devotional-2/2026-10-13/
LOCATION:The King’s Centre\, King's Walk\, Wantage
END:VEVENT
END:VCALENDAR