BEGIN:VCALENDAR
VERSION:2.0
PRODID:-//Wantage Baptist Church - ECPv6.15.20//NONSGML v1.0//EN
CALSCALE:GREGORIAN
METHOD:PUBLISH
X-ORIGINAL-URL:https://www.wantagebaptist.org.uk
X-WR-CALDESC:Events for Wantage Baptist Church
REFRESH-INTERVAL;VALUE=DURATION:PT1H
X-Robots-Tag:noindex
X-PUBLISHED-TTL:PT1H
BEGIN:VTIMEZONE
TZID:Europe/London
BEGIN:DAYLIGHT
TZOFFSETFROM:+0000
TZOFFSETTO:+0100
TZNAME:BST
DTSTART:20300331T010000
END:DAYLIGHT
BEGIN:STANDARD
TZOFFSETFROM:+0100
TZOFFSETTO:+0000
TZNAME:GMT
DTSTART:20301027T010000
END:STANDARD
BEGIN:DAYLIGHT
TZOFFSETFROM:+0000
TZOFFSETTO:+0100
TZNAME:BST
DTSTART:20310330T010000
END:DAYLIGHT
BEGIN:STANDARD
TZOFFSETFROM:+0100
TZOFFSETTO:+0000
TZNAME:GMT
DTSTART:20311026T010000
END:STANDARD
BEGIN:DAYLIGHT
TZOFFSETFROM:+0000
TZOFFSETTO:+0100
TZNAME:BST
DTSTART:20320328T010000
END:DAYLIGHT
BEGIN:STANDARD
TZOFFSETFROM:+0100
TZOFFSETTO:+0000
TZNAME:GMT
DTSTART:20321031T010000
END:STANDARD
END:VTIMEZONE
BEGIN:VEVENT
DTSTART;TZID=Europe/London:20310311T193000
DTEND;TZID=Europe/London:20310311T213000
DTSTAMP:20260423T051702
CREATED:20251203T081721Z
LAST-MODIFIED:20260204T121510Z
UID:10004187-1931023800-1931031000@www.wantagebaptist.org.uk
SUMMARY:External User
DESCRIPTION:Wantage in H \nSanctuary and Servery Use
URL:https://www.wantagebaptist.org.uk/event/wantage-in-harmony-2/2031-03-11/
LOCATION:Wantage Baptist Church\, 6 Mill Street\, Wantage\, OX12 9AQ
END:VEVENT
BEGIN:VEVENT
DTSTART;TZID=Europe/London:20310312T140000
DTEND;TZID=Europe/London:20310312T151500
DTSTAMP:20260423T051702
CREATED:20260416T075745Z
LAST-MODIFIED:20260416T075858Z
UID:10005338-1931090400-1931094900@www.wantagebaptist.org.uk
SUMMARY:Life Group (Afternoon in Church)
DESCRIPTION:An opportunity to come together to study God’s Word
URL:https://www.wantagebaptist.org.uk/event/life-group-afternoon-in-church/2031-03-12/
LOCATION:Wantage Baptist Church\, 6 Mill Street\, Wantage\, OX12 9AQ
END:VEVENT
BEGIN:VEVENT
DTSTART;TZID=Europe/London:20310312T193000
DTEND;TZID=Europe/London:20310312T213000
DTSTAMP:20260423T051702
CREATED:20260412T133234Z
LAST-MODIFIED:20260416T073439Z
UID:10004630-1931110200-1931117400@www.wantagebaptist.org.uk
SUMMARY:Life Group (Evening Home Groups)
DESCRIPTION:An opportunity to study God’s word in a small setting.
URL:https://www.wantagebaptist.org.uk/event/life-group-evening/2031-03-12/
LOCATION:Wantage Baptist Church\, 6 Mill Street\, Wantage\, OX12 9AQ
END:VEVENT
BEGIN:VEVENT
DTSTART;TZID=Europe/London:20310313T093000
DTEND;TZID=Europe/London:20310313T113000
DTSTAMP:20260423T051702
CREATED:20251129T113403Z
LAST-MODIFIED:20251129T113407Z
UID:10004169-1931160600-1931167800@www.wantagebaptist.org.uk
SUMMARY:Baby and Toddler Group
DESCRIPTION:A warm\, welcoming group for parents\, guardians or child-minders. \nWe ask for a small donation each week\, which helps keep our play equipment up to date.
URL:https://www.wantagebaptist.org.uk/event/baby-and-toddler-group-2/2031-03-13/
LOCATION:Wantage Baptist Church\, 6 Mill Street\, Wantage\, OX12 9AQ
ORGANIZER;CN="Wantage Baptist Church":MAILTO:events@wantagebaptist.org.uk
END:VEVENT
BEGIN:VEVENT
DTSTART;TZID=Europe/London:20310316T103000
DTEND;TZID=Europe/London:20310316T114500
DTSTAMP:20260423T051702
CREATED:20260107T173858Z
LAST-MODIFIED:20260107T173858Z
UID:10004228-1931423400-1931427900@www.wantagebaptist.org.uk
SUMMARY:Sunday Worship
DESCRIPTION:
URL:https://www.wantagebaptist.org.uk/event/sunday-worship/2031-03-16/
LOCATION:Wantage Baptist Church\, 6 Mill Street\, Wantage\, OX12 9AQ
END:VEVENT
BEGIN:VEVENT
DTSTART;TZID=Europe/London:20310318T193000
DTEND;TZID=Europe/London:20310318T213000
DTSTAMP:20260423T051702
CREATED:20251203T081721Z
LAST-MODIFIED:20260204T121510Z
UID:10004188-1931628600-1931635800@www.wantagebaptist.org.uk
SUMMARY:External User
DESCRIPTION:Wantage in H \nSanctuary and Servery Use
URL:https://www.wantagebaptist.org.uk/event/wantage-in-harmony-2/2031-03-18/
LOCATION:Wantage Baptist Church\, 6 Mill Street\, Wantage\, OX12 9AQ
END:VEVENT
BEGIN:VEVENT
DTSTART;TZID=Europe/London:20310319T140000
DTEND;TZID=Europe/London:20310319T151500
DTSTAMP:20260423T051702
CREATED:20260416T075745Z
LAST-MODIFIED:20260416T075858Z
UID:10005339-1931695200-1931699700@www.wantagebaptist.org.uk
SUMMARY:Life Group (Afternoon in Church)
DESCRIPTION:An opportunity to come together to study God’s Word
URL:https://www.wantagebaptist.org.uk/event/life-group-afternoon-in-church/2031-03-19/
LOCATION:Wantage Baptist Church\, 6 Mill Street\, Wantage\, OX12 9AQ
END:VEVENT
BEGIN:VEVENT
DTSTART;TZID=Europe/London:20310319T193000
DTEND;TZID=Europe/London:20310319T213000
DTSTAMP:20260423T051702
CREATED:20260412T133234Z
LAST-MODIFIED:20260416T073439Z
UID:10004631-1931715000-1931722200@www.wantagebaptist.org.uk
SUMMARY:Life Group (Evening Home Groups)
DESCRIPTION:An opportunity to study God’s word in a small setting.
URL:https://www.wantagebaptist.org.uk/event/life-group-evening/2031-03-19/
LOCATION:Wantage Baptist Church\, 6 Mill Street\, Wantage\, OX12 9AQ
END:VEVENT
BEGIN:VEVENT
DTSTART;TZID=Europe/London:20310320T093000
DTEND;TZID=Europe/London:20310320T113000
DTSTAMP:20260423T051702
CREATED:20251129T113403Z
LAST-MODIFIED:20251129T113407Z
UID:10004203-1931765400-1931772600@www.wantagebaptist.org.uk
SUMMARY:Baby and Toddler Group
DESCRIPTION:A warm\, welcoming group for parents\, guardians or child-minders. \nWe ask for a small donation each week\, which helps keep our play equipment up to date.
URL:https://www.wantagebaptist.org.uk/event/baby-and-toddler-group-2/2031-03-20/
LOCATION:Wantage Baptist Church\, 6 Mill Street\, Wantage\, OX12 9AQ
ORGANIZER;CN="Wantage Baptist Church":MAILTO:events@wantagebaptist.org.uk
END:VEVENT
BEGIN:VEVENT
DTSTART;TZID=Europe/London:20310323T103000
DTEND;TZID=Europe/London:20310323T114500
DTSTAMP:20260423T051702
CREATED:20260107T173858Z
LAST-MODIFIED:20260107T173858Z
UID:10004229-1932028200-1932032700@www.wantagebaptist.org.uk
SUMMARY:Sunday Worship
DESCRIPTION:
URL:https://www.wantagebaptist.org.uk/event/sunday-worship/2031-03-23/
LOCATION:Wantage Baptist Church\, 6 Mill Street\, Wantage\, OX12 9AQ
END:VEVENT
BEGIN:VEVENT
DTSTART;TZID=Europe/London:20310325T193000
DTEND;TZID=Europe/London:20310325T213000
DTSTAMP:20260423T051702
CREATED:20251203T081721Z
LAST-MODIFIED:20260204T121510Z
UID:10004189-1932233400-1932240600@www.wantagebaptist.org.uk
SUMMARY:External User
DESCRIPTION:Wantage in H \nSanctuary and Servery Use
URL:https://www.wantagebaptist.org.uk/event/wantage-in-harmony-2/2031-03-25/
LOCATION:Wantage Baptist Church\, 6 Mill Street\, Wantage\, OX12 9AQ
END:VEVENT
BEGIN:VEVENT
DTSTART;TZID=Europe/London:20310326T140000
DTEND;TZID=Europe/London:20310326T151500
DTSTAMP:20260423T051702
CREATED:20260416T075745Z
LAST-MODIFIED:20260416T075858Z
UID:10005340-1932300000-1932304500@www.wantagebaptist.org.uk
SUMMARY:Life Group (Afternoon in Church)
DESCRIPTION:An opportunity to come together to study God’s Word
URL:https://www.wantagebaptist.org.uk/event/life-group-afternoon-in-church/2031-03-26/
LOCATION:Wantage Baptist Church\, 6 Mill Street\, Wantage\, OX12 9AQ
END:VEVENT
BEGIN:VEVENT
DTSTART;TZID=Europe/London:20310326T193000
DTEND;TZID=Europe/London:20310326T213000
DTSTAMP:20260423T051702
CREATED:20260412T133234Z
LAST-MODIFIED:20260416T073439Z
UID:10004632-1932319800-1932327000@www.wantagebaptist.org.uk
SUMMARY:Life Group (Evening Home Groups)
DESCRIPTION:An opportunity to study God’s word in a small setting.
URL:https://www.wantagebaptist.org.uk/event/life-group-evening/2031-03-26/
LOCATION:Wantage Baptist Church\, 6 Mill Street\, Wantage\, OX12 9AQ
END:VEVENT
BEGIN:VEVENT
DTSTART;TZID=Europe/London:20310327T093000
DTEND;TZID=Europe/London:20310327T113000
DTSTAMP:20260423T051702
CREATED:20251129T113403Z
LAST-MODIFIED:20251129T113407Z
UID:10004204-1932370200-1932377400@www.wantagebaptist.org.uk
SUMMARY:Baby and Toddler Group
DESCRIPTION:A warm\, welcoming group for parents\, guardians or child-minders. \nWe ask for a small donation each week\, which helps keep our play equipment up to date.
URL:https://www.wantagebaptist.org.uk/event/baby-and-toddler-group-2/2031-03-27/
LOCATION:Wantage Baptist Church\, 6 Mill Street\, Wantage\, OX12 9AQ
ORGANIZER;CN="Wantage Baptist Church":MAILTO:events@wantagebaptist.org.uk
END:VEVENT
BEGIN:VEVENT
DTSTART;TZID=Europe/London:20310330T103000
DTEND;TZID=Europe/London:20310330T114500
DTSTAMP:20260423T051702
CREATED:20260107T173858Z
LAST-MODIFIED:20260107T173858Z
UID:10004230-1932633000-1932637500@www.wantagebaptist.org.uk
SUMMARY:Sunday Worship
DESCRIPTION:
URL:https://www.wantagebaptist.org.uk/event/sunday-worship/2031-03-30/
LOCATION:Wantage Baptist Church\, 6 Mill Street\, Wantage\, OX12 9AQ
END:VEVENT
BEGIN:VEVENT
DTSTART;TZID=Europe/London:20310401T193000
DTEND;TZID=Europe/London:20310401T213000
DTSTAMP:20260423T051702
CREATED:20251203T081721Z
LAST-MODIFIED:20260204T121510Z
UID:10004190-1932838200-1932845400@www.wantagebaptist.org.uk
SUMMARY:External User
DESCRIPTION:Wantage in H \nSanctuary and Servery Use
URL:https://www.wantagebaptist.org.uk/event/wantage-in-harmony-2/2031-04-01/
LOCATION:Wantage Baptist Church\, 6 Mill Street\, Wantage\, OX12 9AQ
END:VEVENT
BEGIN:VEVENT
DTSTART;TZID=Europe/London:20310402T193000
DTEND;TZID=Europe/London:20310402T213000
DTSTAMP:20260423T051702
CREATED:20260412T133533Z
LAST-MODIFIED:20260416T080111Z
UID:10004693-1932924600-1932931800@www.wantagebaptist.org.uk
SUMMARY:Life Group (Everyone at WBC)
DESCRIPTION:An opportunity to gather together at Wantage Baptist Church premises to study the word of God.
URL:https://www.wantagebaptist.org.uk/event/life-group-at-wbc-premises/2031-04-02/
LOCATION:Wantage Baptist Church\, 6 Mill Street\, Wantage\, OX12 9AQ
END:VEVENT
BEGIN:VEVENT
DTSTART;TZID=Europe/London:20310403T093000
DTEND;TZID=Europe/London:20310403T113000
DTSTAMP:20260423T051702
CREATED:20251129T113403Z
LAST-MODIFIED:20251129T113407Z
UID:10004205-1932975000-1932982200@www.wantagebaptist.org.uk
SUMMARY:Baby and Toddler Group
DESCRIPTION:A warm\, welcoming group for parents\, guardians or child-minders. \nWe ask for a small donation each week\, which helps keep our play equipment up to date.
URL:https://www.wantagebaptist.org.uk/event/baby-and-toddler-group-2/2031-04-03/
LOCATION:Wantage Baptist Church\, 6 Mill Street\, Wantage\, OX12 9AQ
ORGANIZER;CN="Wantage Baptist Church":MAILTO:events@wantagebaptist.org.uk
END:VEVENT
BEGIN:VEVENT
DTSTART;TZID=Europe/London:20310406T103000
DTEND;TZID=Europe/London:20310406T114500
DTSTAMP:20260423T051702
CREATED:20260107T173858Z
LAST-MODIFIED:20260107T173858Z
UID:10004231-1933237800-1933242300@www.wantagebaptist.org.uk
SUMMARY:Sunday Worship
DESCRIPTION:
URL:https://www.wantagebaptist.org.uk/event/sunday-worship/2031-04-06/
LOCATION:Wantage Baptist Church\, 6 Mill Street\, Wantage\, OX12 9AQ
END:VEVENT
BEGIN:VEVENT
DTSTART;TZID=Europe/London:20310408T193000
DTEND;TZID=Europe/London:20310408T213000
DTSTAMP:20260423T051702
CREATED:20251203T081721Z
LAST-MODIFIED:20260204T121510Z
UID:10004697-1933443000-1933450200@www.wantagebaptist.org.uk
SUMMARY:External User
DESCRIPTION:Wantage in H \nSanctuary and Servery Use
URL:https://www.wantagebaptist.org.uk/event/wantage-in-harmony-2/2031-04-08/
LOCATION:Wantage Baptist Church\, 6 Mill Street\, Wantage\, OX12 9AQ
END:VEVENT
BEGIN:VEVENT
DTSTART;TZID=Europe/London:20310409T140000
DTEND;TZID=Europe/London:20310409T151500
DTSTAMP:20260423T051702
CREATED:20260416T075745Z
LAST-MODIFIED:20260416T075858Z
UID:10005341-1933509600-1933514100@www.wantagebaptist.org.uk
SUMMARY:Life Group (Afternoon in Church)
DESCRIPTION:An opportunity to come together to study God’s Word
URL:https://www.wantagebaptist.org.uk/event/life-group-afternoon-in-church/2031-04-09/
LOCATION:Wantage Baptist Church\, 6 Mill Street\, Wantage\, OX12 9AQ
END:VEVENT
BEGIN:VEVENT
DTSTART;TZID=Europe/London:20310409T193000
DTEND;TZID=Europe/London:20310409T213000
DTSTAMP:20260423T051702
CREATED:20260412T133234Z
LAST-MODIFIED:20260416T073439Z
UID:10004633-1933529400-1933536600@www.wantagebaptist.org.uk
SUMMARY:Life Group (Evening Home Groups)
DESCRIPTION:An opportunity to study God’s word in a small setting.
URL:https://www.wantagebaptist.org.uk/event/life-group-evening/2031-04-09/
LOCATION:Wantage Baptist Church\, 6 Mill Street\, Wantage\, OX12 9AQ
END:VEVENT
BEGIN:VEVENT
DTSTART;TZID=Europe/London:20310410T093000
DTEND;TZID=Europe/London:20310410T113000
DTSTAMP:20260423T051702
CREATED:20251129T113403Z
LAST-MODIFIED:20251129T113407Z
UID:10004973-1933579800-1933587000@www.wantagebaptist.org.uk
SUMMARY:Baby and Toddler Group
DESCRIPTION:A warm\, welcoming group for parents\, guardians or child-minders. \nWe ask for a small donation each week\, which helps keep our play equipment up to date.
URL:https://www.wantagebaptist.org.uk/event/baby-and-toddler-group-2/2031-04-10/
LOCATION:Wantage Baptist Church\, 6 Mill Street\, Wantage\, OX12 9AQ
ORGANIZER;CN="Wantage Baptist Church":MAILTO:events@wantagebaptist.org.uk
END:VEVENT
BEGIN:VEVENT
DTSTART;TZID=Europe/London:20310413T103000
DTEND;TZID=Europe/London:20310413T114500
DTSTAMP:20260423T051702
CREATED:20260107T173858Z
LAST-MODIFIED:20260107T173858Z
UID:10005345-1933842600-1933847100@www.wantagebaptist.org.uk
SUMMARY:Sunday Worship
DESCRIPTION:
URL:https://www.wantagebaptist.org.uk/event/sunday-worship/2031-04-13/
LOCATION:Wantage Baptist Church\, 6 Mill Street\, Wantage\, OX12 9AQ
END:VEVENT
BEGIN:VEVENT
DTSTART;TZID=Europe/London:20310415T193000
DTEND;TZID=Europe/London:20310415T213000
DTSTAMP:20260423T051702
CREATED:20251203T081721Z
LAST-MODIFIED:20260204T121510Z
UID:10005348-1934047800-1934055000@www.wantagebaptist.org.uk
SUMMARY:External User
DESCRIPTION:Wantage in H \nSanctuary and Servery Use
URL:https://www.wantagebaptist.org.uk/event/wantage-in-harmony-2/2031-04-15/
LOCATION:Wantage Baptist Church\, 6 Mill Street\, Wantage\, OX12 9AQ
END:VEVENT
BEGIN:VEVENT
DTSTART;TZID=Europe/London:20310416T140000
DTEND;TZID=Europe/London:20310416T151500
DTSTAMP:20260423T051702
CREATED:20260416T075745Z
LAST-MODIFIED:20260416T075858Z
UID:10005342-1934114400-1934118900@www.wantagebaptist.org.uk
SUMMARY:Life Group (Afternoon in Church)
DESCRIPTION:An opportunity to come together to study God’s Word
URL:https://www.wantagebaptist.org.uk/event/life-group-afternoon-in-church/2031-04-16/
LOCATION:Wantage Baptist Church\, 6 Mill Street\, Wantage\, OX12 9AQ
END:VEVENT
BEGIN:VEVENT
DTSTART;TZID=Europe/London:20310416T193000
DTEND;TZID=Europe/London:20310416T213000
DTSTAMP:20260423T051702
CREATED:20260412T133234Z
LAST-MODIFIED:20260416T073439Z
UID:10005033-1934134200-1934141400@www.wantagebaptist.org.uk
SUMMARY:Life Group (Evening Home Groups)
DESCRIPTION:An opportunity to study God’s word in a small setting.
URL:https://www.wantagebaptist.org.uk/event/life-group-evening/2031-04-16/
LOCATION:Wantage Baptist Church\, 6 Mill Street\, Wantage\, OX12 9AQ
END:VEVENT
BEGIN:VEVENT
DTSTART;TZID=Europe/London:20310417T093000
DTEND;TZID=Europe/London:20310417T113000
DTSTAMP:20260423T051702
CREATED:20251129T113403Z
LAST-MODIFIED:20251129T113407Z
UID:10005350-1934184600-1934191800@www.wantagebaptist.org.uk
SUMMARY:Baby and Toddler Group
DESCRIPTION:A warm\, welcoming group for parents\, guardians or child-minders. \nWe ask for a small donation each week\, which helps keep our play equipment up to date.
URL:https://www.wantagebaptist.org.uk/event/baby-and-toddler-group-2/2031-04-17/
LOCATION:Wantage Baptist Church\, 6 Mill Street\, Wantage\, OX12 9AQ
ORGANIZER;CN="Wantage Baptist Church":MAILTO:events@wantagebaptist.org.uk
END:VEVENT
END:VCALENDAR